Workbook
Name Nilai: '[1]Nilai Ujian+Raport Persentase'!$A$7:$W$51
Name Nilai: 'Nilai Ujian+Raport Persentase'!$A$7:$V$52

Sheet Sheet1
A1: No | B1: Nama | C1: Fiqih | D1: SKI | E1: PKn | F1: Indo | I1: Fiqih | J1: SKI | K1: PKn | L1: Indo
A2: 1 | B2: ABDUL KHAFIDZ ANSHORI | H2: ABDUL KHAFIDZ ANSHORI
A3: 2 | B3: AHMAD THORIK | H3: AHMAD THORIK
A4: 3 | B4: ANDISA NAILAL AUFA | H4: ANDISA NAILAL AUFA
A5: 4 | B5: DINA RAHMADHADI | H5: DINA RAHMADHADI
A6: 5 | B6: DIVA AYUNING TIYAS | H6: DIVA AYUNING TIYAS
A7: 6 | B7: HERI PRASETYO | H7: HERI PRASETYO
A8: 7 | B8: KAMILA RAMADHANI | H8: KAMILA RAMADHANI
A9: 8 | B9: LUTFI ANDANI | H9: LUTFI ANDANI
A10: 9 | B10: M. ARI ILHAM | H10: M. ARI ILHAM
A11: 10 | B11: M. ZARIRUL FIKRI | H11: M. ZARIRUL FIKRI
A12: 11 | B12: MAGHFIROTUL KARIMAH | H12: MAGHFIROTUL KARIMAH
A13: 12 | B13: MUHAMMAD ABDI SASONGKO | H13: MUHAMMAD ABDI SASONGKO
... A46: 45 | B46: TRI MULIA SAPUTRA | H46: TRI MULIA SAPUTRA

Sheet Nilai Rapor 1-5 (Puluhan)
A4: NO | B4: NAMA | C4: Tempat Tgl Lahir | D4: NISN | E4: NIS | F4: L/P | G4: PAI (Fiqih) | O4: SKI | W4: PKN | AE4: INDONESIA | AM4: MTK | AU4: IPA | BC4: IPS | BK4: INGGRIS | BS4: SBK | CA4: PJOK | CI4: PRAKARYA | CQ4: BAHASA JAWA | CY4: HADITS | DG4: AQIDAH | DO4: BAHASA ARAB | DW4: ASWAJA | EG4: Rata - Rata AGAMA (FIQIH, SKI, HADITS, AKIDAH
G5: Nilai Rapor S. 1 | H5: Nilai Rapor S. 2 | I5: Nilai Rapor S. 3 | J5: Nilai Rapor S. 4 | K5: Nilai Rapor S. 5 | L5: Nilai Rapor S. 6 | M5: Jumlah | N5: Rata-Rata | O5: Nilai Rapor S. 1 | P5: Nilai Rapor S. 2 | Q5: Nilai Rapor S. 3 | R5: Nilai Rapor S. 4 | S5: Nilai Rapor S. 5 | T5: Nilai Rapor S. 6 | U5: Jumlah | V5: Rata-Rata | W5: Nilai Rapor S. 1 | X5: Nilai Rapor S. 2 | Y5: Nilai Rapor S. 3 | Z5: Nilai Rapor S. 4 | AA5: Nilai Rapor S. 5 | AB5: Nilai Rapor S. 6 | AC5: Jumlah | AD5: Rata-Rata | AE5: Nilai Rapor S. 1 | AF5: Nilai Rapor S. 2 | AG5: Nilai Rapor S. 3 | AH5: Nilai Rapor S. 4 | AI5: Nilai Rapor S. 5 | AJ5: Nilai Rapor S. 6 | AK5: Jumlah | AL5: Rata-Rata | AM5: Nilai Rapor S. 1 | AN5: Nilai Rapor S. 2 | AO5: Nilai Rapor S. 3 | AP5: Nilai Rapor S. 4 | AQ5: Nilai Rapor S. 5 | AR5: Nilai Rapor S. 6 | AS5: Jumlah | AT5: Rata-Rata | AU5: Nilai Rapor S. 1 | AV5: Nilai Rapor S. 2 | AW5: Nilai Rapor S. 3 | AX5: Nilai Rapor S. 4 | AY5: Nilai Rapor S. 5 | AZ5: Nilai Rapor S. 6 | BA5: Jumlah | BB5: Rata-Rata | BC5: Nilai Rapor S. 1 | BD5: Nilai Rapor S. 2 | BE5: Nilai Rapor S. 3 | BF5: Nilai Rapor S. 4 | BG5: Nilai Rapor S. 5 | BH5: Nilai Rapor S. 6 | BI5: Jumlah | BJ5: Rata-Rata | BK5: Nilai Rapor S. 1 | BL5: Nilai Rapor S. 2 | BM5: Nilai Rapor S. 3 | BN5: Nilai Rapor S. 4 | BO5: Nilai Rapor S. 5 | BP5: Nilai Rapor S. 6 | BQ5: Jumlah | BR5: Rata-Rata | BS5: Nilai Rapor S. 1 | BT5: Nilai Rapor S. 2 | BU5: Nilai Rapor S. 3 | BV5: Nilai Rapor S. 4 | BW5: Nilai Rapor S. 5 | BX5: Nilai Rapor S. 6 | BY5: Jumlah | BZ5: Rata-Rata | CA5: Nilai Rapor S. 1 | CB5: Nilai Rapor S. 2 | CC5: Nilai Rapor S. 3 | CD5: Nilai Rapor S. 4 | CE5: Nilai Rapor S. 5 | CF5: Nilai Rapor S. 6 | CG5: Jumlah | CH5: Rata-Rata | CI5: Nilai Rapor S. 1 | CJ5: Nilai Rapor S. 2 | CK5: Nilai Rapor S. 3 | CL5: Nilai Rapor S. 4 | CM5: Nilai Rapor S. 5 | CN5: Nilai Rapor S. 6 | CO5: Jumlah | CP5: Rata-Rata | CQ5: Nilai Rapor S. 1 | CR5: Nilai Rapor S. 2 | CS5: Nilai Rapor S. 3 | CT5: Nilai Rapor S. 4 | CU5: Nilai Rapor S. 5 | CV5: Nilai Rapor S. 6 | CW5: Jumlah | CX5: Rata-Rata | CY5: Nilai Rapor S. 1 | CZ5: Nilai Rapor S. 2 | DA5: Nilai Rapor S. 3 | DB5: Nilai Rapor S. 4 | DC5: Nilai Rapor S. 5 | DD5: Nilai Rapor S. 6 | DE5: Jumlah | DF5: Rata-Rata | DG5: Nilai Rapor S. 1 | DH5: Nilai Rapor S. 2 | DI5: Nilai Rapor S. 3 | DJ5: Nilai Rapor S. 4 | DK5: Nilai Rapor S. 5 | DL5: Nilai Rapor S. 6 | DM5: Jumlah | DN5: Rata-Rata | DO5: Nilai Rapor S. 1 | DP5: Nilai Rapor S. 2 | DQ5: Nilai Rapor S. 3 | DR5: Nilai Rapor S. 4 | DS5: Nilai Rapor S. 5 | DT5: Nilai Rapor S. 6 | DU5: Jumlah | DV5: Rata-Rata | DW5: Nilai Rapor S. 1 | DX5: Nilai Rapor S. 2 | DY5: Nilai Rapor S. 3 | DZ5: Nilai Rapor S. 4 | EA5: Nilai Rapor S. 5 | EB5: Nilai Rapor S. 6 | EC5: Jumlah | ED5: Rata-Rata | EG5: Semester 1 | EH5: Semester 2 | EI5: Semester 3 | EJ5: Semester 4 | EK5: Semester 5 | EL5: Semester 6 | EM5: Jumlah | EN5: Rata-Rata
A7: 1 | B7: ABDUL KHAFIDZ ANSHORI | C7: Pekalongan, 15 Mei 2010 | D7: 0106247597 | E7: 2099 | F7: L | G7: 89 | H7: 90 | I7: 88 | J7: 92 | K7: 90 | M7: =SUM(G7:L7) -> 449 | N7: =AVERAGE(G7:L7) -> 89.8 | O7: 89 | P7: 90 | Q7: 90 | R7: 89 | S7: 91 | U7: =SUM(O7:T7) -> 449 | V7: =AVERAGE(O7:T7) -> 89.8 | W7: 89 | X7: 88 | Y7: 89 | Z7: 90 | AA7: 92 | AC7: =SUM(W7:AB7) -> 448 | AD7: =AVERAGE(W7:AB7) -> 89.6 | AE7: 82 | AF7: 81 | AG7: 75 | AH7: 75 | AI7: 76 | AK7: =SUM(AE7:AJ7) -> 389 | AL7: =AVERAGE(AE7:AJ7) -> 77.8 | AM7: 74 | AN7: 74 | AO7: 80 | AP7: 80 | AQ7: 76 | AS7: =SUM(AM7:AR7) -> 384 | AT7: =AVERAGE(AM7:AR7) -> 76.8 | AU7: 74 | AV7: 78 | AW7: 77 | AX7: 79 | AY7: 76 | BA7: =SUM(AU7:AZ7) -> 384 | BB7: =AVERAGE(AU7:AZ7) -> 76.8 | BC7: 75 | BD7: 81 | BE7: 81 | BF7: 81 | BG7: 82 | BI7: =SUM(BC7:BH7) -> 400 | BJ7: =AVERAGE(BC7:BH7) -> 80 | BK7: 78 | BL7: 77 | BM7: 79 | BN7: 80 | BO7: 78 | BQ7: =SUM(BK7:BP7) -> 392 | BR7: =AVERAGE(BK7:BP7) -> 78.4 | BY7: =SUM(BS7:BX7) -> 0 | BZ7: =AVERAGE(BS7:BX7) -> #DIV/0! | CA7: 85 | CB7: 87 | CC7: 86 | CD7: 85 | CE7: 76 | CG7: =SUM(CA7:CF7) -> 419 | CH7: =AVERAGE(CA7:CF7) -> 83.8 | CI7: 74 | CJ7: 81 | CK7: 84 | CL7: 82 | CM7: 80 | CO7: =SUM(CI7:CN7) -> 401 | CP7: =AVERAGE(CI7:CN7) -> 80.2 | CQ7: 74 | CR7: 76 | CS7: 75 | CT7: 83 | CU7: 79 | CW7: =SUM(CQ7:CV7) -> 387 | CX7: =AVERAGE(CQ7:CV7) -> 77.4 | CY7: 90 | CZ7: 88 | DA7: 91 | DB7: 90 | DC7: 88 | DE7: =SUM(CY7:DD7) -> 447 | DF7: =AVERAGE(CY7:DD7) -> 89.4 | DG7: 89 | DH7: 91 | DI7: 90 | DJ7: 88 | DK7: 90 | DM7: =SUM(DG7:DL7) -> 448 | DN7: =AVERAGE(DG7:DL7) -> 89.6 | DO7: 74 | DP7: 74 | DQ7: 75 | DR7: 75 | DS7: 76 | DU7: =SUM(DO7:DT7) -> 374 | DV7: =AVERAGE(DO7:DT7) -> 74.8 | DW7: 74 | DX7: 80 | DY7: 79 | DZ7: 83 | EA7: 76 | EC7: =SUM(DW7:EB7) -> 392 | ED7: =AVERAGE(DW7:EB7) -> 78.4 | EG7: =AVERAGE(G7,O7,CY7,DG7) -> 89.25 | EH7: =AVERAGE(H7,P7,CZ7,DH7) -> 89.75 | EI7: =AVERAGE(I7,Q7,DA7,DI7) -> 89.75 | EJ7: =AVERAGE(J7,R7,DB7,DJ7) -> 89.75 | EK7: =AVERAGE(K7,S7,DC7,DK7) -> 89.75 | EM7: =SUM(EG7:EL7) -> 448.25 | EN7: =AVERAGE(EG7:EL7) -> 89.65
A8: 2 | B8: AHMAD THORIK | C8: Pekalongan, 4 Agustus 2010 | D8: 0101525400 | E8: 2097 | F8: L | G8: 86 | H8: 89 | I8: 89 | J8: 91 | K8: 90 | M8: =SUM(G8:L8) -> 445 | N8: =AVERAGE(G8:L8) -> 89 | O8: 85 | P8: 88 | Q8: 92 | R8: 90 | S8: 91 | U8: =SUM(O8:T8) -> 446 | V8: =AVERAGE(O8:T8) -> 89.2 | W8: 85 | X8: 86 | Y8: 89 | Z8: 90 | AA8: 90 | AC8: =SUM(W8:AB8) -> 440 | AD8: =AVERAGE(W8:AB8) -> 88 | AE8: 84 | AF8: 82 | AG8: 75 | AH8: 76 | AI8: 76 | AK8: =SUM(AE8:AJ8) -> 393 | AL8: =AVERAGE(AE8:AJ8) -> 78.6 | AM8: 74 | AN8: 74 | AO8: 80 | AP8: 80 | AQ8: 76 | AS8: =SUM(AM8:AR8) -> 384 | AT8: =AVERAGE(AM8:AR8) -> 76.8 | AU8: 75 | AV8: 78 | AW8: 77 | AX8: 81 | AY8: 76 | BA8: =SUM(AU8:AZ8) -> 387 | BB8: =AVERAGE(AU8:AZ8) -> 77.4 | BC8: 77 | BD8: 81 | BE8: 81 | BF8: 82 | BG8: 76 | BI8: =SUM(BC8:BH8) -> 397 | BJ8: =AVERAGE(BC8:BH8) -> 79.4 | BK8: 76 | BL8: 77 | BM8: 82 | BN8: 79 | BO8: 76 | BQ8: =SUM(BK8:BP8) -> 390 | BR8: =AVERAGE(BK8:BP8) -> 78 | BY8: =SUM(BS8:BX8) -> 0 | BZ8: =AVERAGE(BS8:BX8) -> #DIV/0! | CA8: 85 | CB8: 88 | CC8: 86 | CD8: 85 | CE8: 86 | CG8: =SUM(CA8:CF8) -> 430 | CH8: =AVERAGE(CA8:CF8) -> 86 | CI8: 74 | CJ8: 80 | CK8: 84 | CL8: 82 | CM8: 81 | CO8: =SUM(CI8:CN8) -> 401 | CP8: =AVERAGE(CI8:CN8) -> 80.2 | CQ8: 74 | CR8: 74 | CS8: 77 | CT8: 78 | CU8: 77 | CW8: =SUM(CQ8:CV8) -> 380 | CX8: =AVERAGE(CQ8:CV8) -> 76 | CY8: 89 | CZ8: 86 | DA8: 90 | DB8: 87 | DC8: 87 | DE8: =SUM(CY8:DD8) -> 439 | DF8: =AVERAGE(CY8:DD8) -> 87.8 | DG8: 85 | DH8: 88 | DI8: 90 | DJ8: 89 | DK8: 87 | DM8: =SUM(DG8:DL8) -> 439 | DN8: =AVERAGE(DG8:DL8) -> 87.8 | DO8: 75 | DP8: 74 | DQ8: 75 | DR8: 77 | DS8: 76 | DU8: =SUM(DO8:DT8) -> 377 | DV8: =AVERAGE(DO8:DT8) -> 75.4 | DW8: 74 | DX8: 75 | DY8: 80 | DZ8: 83 | EA8: 78 | EC8: =SUM(DW8:EB8) -> 390 | ED8: =AVERAGE(DW8:EB8) -> 78 | EG8: =AVERAGE(G8,O8,CY8,DG8) -> 86.25 | EH8: =AVERAGE(H8,P8,CZ8,DH8) -> 87.75 | EI8: =AVERAGE(I8,Q8,DA8,DI8) -> 90.25 | EJ8: =AVERAGE(J8,R8,DB8,DJ8) -> 89.25 | EK8: =AVERAGE(K8,S8,DC8,DK8) -> 88.75 | EM8: =SUM(EG8:EL8) -> 442.25 | EN8: =AVERAGE(EG8:EL8) -> 88.45
A9: 3 | B9: ANDISA NAILAL AUFA | C9: Pekalongan, 7 April 2010 | D9: 0109561350 | E9: 2076 | F9: P | G9: 92 | H9: 93 | I9: 91 | J9: 93 | K9: 94 | M9: =SUM(G9:L9) -> 463 | N9: =AVERAGE(G9:L9) -> 92.6 | O9: 91 | P9: 91 | Q9: 94 | R9: 93 | S9: 93 | U9: =SUM(O9:T9) -> 462 | V9: =AVERAGE(O9:T9) -> 92.4 | W9: 93 | X9: 95 | Y9: 93 | Z9: 92 | AA9: 93 | AC9: =SUM(W9:AB9) -> 466 | AD9: =AVERAGE(W9:AB9) -> 93.2 | AE9: 88 | AF9: 90 | AG9: 81 | AH9: 81 | AI9: 86 | AK9: =SUM(AE9:AJ9) -> 426 | AL9: =AVERAGE(AE9:AJ9) -> 85.2 | AM9: 82 | AN9: 84 | AO9: 83 | AP9: 84 | AQ9: 79 | AS9: =SUM(AM9:AR9) -> 412 | AT9: =AVERAGE(AM9:AR9) -> 82.4 | AU9: 84 | AV9: 85 | AW9: 84 | AX9: 89 | AY9: 83 | BA9: =SUM(AU9:AZ9) -> 425 | BB9: =AVERAGE(AU9:AZ9) -> 85 | BC9: 85 | BD9: 87 | BE9: 90 | BF9: 88 | BG9: 87 | BI9: =SUM(BC9:BH9) -> 437 | BJ9: =AVERAGE(BC9:BH9) -> 87.4 | BK9: 84 | BL9: 85 | BM9: 86 | BN9: 85 | BO9: 86 | BQ9: =SUM(BK9:BP9) -> 426 | BR9: =AVERAGE(BK9:BP9) -> 85.2 | BY9: =SUM(BS9:BX9) -> 0 | BZ9: =AVERAGE(BS9:BX9) -> #DIV/0! | CA9: 86 | CB9: 88 | CC9: 88 | CD9: 96 | CE9: 93 | CG9: =SUM(CA9:CF9) -> 451 | CH9: =AVERAGE(CA9:CF9) -> 90.2 | CI9: 80 | CJ9: 87 | CK9: 85 | CL9: 88 | CM9: 92 | CO9: =SUM(CI9:CN9) -> 432 | CP9: =AVERAGE(CI9:CN9) -> 86.4 | CQ9: 78 | CR9: 89 | CS9: 84 | CT9: 90 | CU9: 95 | CW9: =SUM(CQ9:CV9) -> 436 | CX9: =AVERAGE(CQ9:CV9) -> 87.2 | CY9: 90 | CZ9: 91 | DA9: 93 | DB9: 93 | DC9: 92 | DE9: =SUM(CY9:DD9) -> 459 | DF9: =AVERAGE(CY9:DD9) -> 91.8 | DG9: 93 | DH9: 92 | DI9: 89 | DJ9: 90 | DK9: 92 | DM9: =SUM(DG9:DL9) -> 456 | DN9: =AVERAGE(DG9:DL9) -> 91.2 | DO9: 79 | DP9: 76 | DQ9: 76 | DR9: 76 | DS9: 76 | DU9: =SUM(DO9:DT9) -> 383 | DV9: =AVERAGE(DO9:DT9) -> 76.6 | DW9: 78 | DX9: 86 | DY9: 90 | DZ9: 93 | EA9: 88 | EC9: =SUM(DW9:EB9) -> 435 | ED9: =AVERAGE(DW9:EB9) -> 87 | EG9: =AVERAGE(G9,O9,CY9,DG9) -> 91.5 | EH9: =AVERAGE(H9,P9,CZ9,DH9) -> 91.75 | EI9: =AVERAGE(I9,Q9,DA9,DI9) -> 91.75 | EJ9: =AVERAGE(J9,R9,DB9,DJ9) -> 92.25 | EK9: =AVERAGE(K9,S9,DC9,DK9) -> 92.75 | EM9: =SUM(EG9:EL9) -> 460 | EN9: =AVERAGE(EG9:EL9) -> 92
A10: 4 | B10: DINA RAHMADHADI | C10: Kumu Deli, 25 Agustus 2009 | D10: 0097792496 | E10: 2081 | F10: P | G10: 95 | H10: 90 | I10: 93 | J10: 95 | K10: 93 | M10: =SUM(G10:L10) -> 466 | N10: =AVERAGE(G10:L10) -> 93.2 | O10: 91 | P10: 92 | Q10: 95 | R10: 93 | S10: 90 | U10: =SUM(O10:T10) -> 461 | V10: =AVERAGE(O10:T10) -> 92.2 | W10: 92 | X10: 94 | Y10: 91 | Z10: 93 | AA10: 92 | AC10: =SUM(W10:AB10) -> 462 | AD10: =AVERAGE(W10:AB10) -> 92.4 | AE10: 87 | AF10: 89 | AG10: 82 | AH10: 78 | AI10: 82 | AK10: =SUM(AE10:AJ10) -> 418 | AL10: =AVERAGE(AE10:AJ10) -> 83.6 | AM10: 84 | AN10: 83 | AO10: 82 | AP10: 82 | AQ10: 78 | AS10: =SUM(AM10:AR10) -> 409 | AT10: =AVERAGE(AM10:AR10) -> 81.8 | AU10: 88 | AV10: 87 | AW10: 83 | AX10: 88 | AY10: 81 | BA10: =SUM(AU10:AZ10) -> 427 | BB10: =AVERAGE(AU10:AZ10) -> 85.4 | BC10: 89 | BD10: 90 | BE10: 88 | BF10: 83 | BG10: 85 | BI10: =SUM(BC10:BH10) -> 435 | BJ10: =AVERAGE(BC10:BH10) -> 87 | BK10: 88 | BL10: 89 | BM10: 88 | BN10: 85 | BO10: 83 | BQ10: =SUM(BK10:BP10) -> 433 | BR10: =AVERAGE(BK10:BP10) -> 86.6 | BY10: =SUM(BS10:BX10) -> 0 | BZ10: =AVERAGE(BS10:BX10) -> #DIV/0! | CA10: 85 | CB10: 90 | CC10: 86 | CD10: 87 | CE10: 93 | CG10: =SUM(CA10:CF10) -> 441 | CH10: =AVERAGE(CA10:CF10) -> 88.2 | CI10: 76 | CJ10: 85 | CK10: 87 | CL10: 87 | CM10: 87 | CO10: =SUM(CI10:CN10) -> 422 | CP10: =AVERAGE(CI10:CN10) -> 84.4 | CQ10: 80 | CR10: 83 | CS10: 83 | CT10: 83 | CU10: 88 | CW10: =SUM(CQ10:CV10) -> 417 | CX10: =AVERAGE(CQ10:CV10) -> 83.4 | CY10: 91 | CZ10: 93 | DA10: 93 | DB10: 92 | DC10: 90 | DE10: =SUM(CY10:DD10) -> 459 | DF10: =AVERAGE(CY10:DD10) -> 91.8 | DG10: 89 | DH10: 93 | DI10: 92 | DJ10: 91 | DK10: 93 | DM10: =SUM(DG10:DL10) -> 458 | DN10: =AVERAGE(DG10:DL10) -> 91.6 | DO10: 74 | DP10: 75 | DQ10: 77 | DR10: 75 | DS10: 77 | DU10: =SUM(DO10:DT10) -> 378 | DV10: =AVERAGE(DO10:DT10) -> 75.6 | DW10: 78 | DX10: 81 | DY10: 87 | DZ10: 92 | EA10: 84 | EC10: =SUM(DW10:EB10) -> 422 | ED10: =AVERAGE(DW10:EB10) -> 84.4 | EG10: =AVERAGE(G10,O10,CY10,DG10) -> 91.5 | EH10: =AVERAGE(H10,P10,CZ10,DH10) -> 92 | EI10: =AVERAGE(I10,Q10,DA10,DI10) -> 93.25 | EJ10: =AVERAGE(J10,R10,DB10,DJ10) -> 92.75 | EK10: =AVERAGE(K10,S10,DC10,DK10) -> 91.5 | EM10: =SUM(EG10:EL10) -> 461 | EN10: =AVERAGE(EG10:EL10) -> 92.2
A11: 5 | B11: DIVA AYUNING TIYAS | C11: Pekalongan, 29 Januari 2009 | D11: 3097506272 | E11: 2113 | F11: P | G11: 86 | H11: 83 | I11: 81 | J11: 81 | K11: 80 | M11: =SUM(G11:L11) -> 411 | N11: =AVERAGE(G11:L11) -> 82.2 | O11: 84 | P11: 80 | Q11: 84 | R11: 80 | S11: 86 | U11: =SUM(O11:T11) -> 414 | V11: =AVERAGE(O11:T11) -> 82.8 | W11: 76 | X11: 75 | Y11: 82 | Z11: 82 | AA11: 84 | AC11: =SUM(W11:AB11) -> 399 | AD11: =AVERAGE(W11:AB11) -> 79.8 | AE11: 79 | AF11: 85 | AG11: 77 | AH11: 76 | AI11: 76 | AK11: =SUM(AE11:AJ11) -> 393 | AL11: =AVERAGE(AE11:AJ11) -> 78.6 | AM11: 74 | AN11: 74 | AO11: 80 | AP11: 84 | AQ11: 76 | AS11: =SUM(AM11:AR11) -> 388 | AT11: =AVERAGE(AM11:AR11) -> 77.6 | AU11: 74 | AV11: 81 | AW11: 79 | AX11: 83 | AY11: 78 | BA11: =SUM(AU11:AZ11) -> 395 | BB11: =AVERAGE(AU11:AZ11) -> 79 | BC11: 77 | BD11: 81 | BE11: 84 | BF11: 81 | BG11: 80 | BI11: =SUM(BC11:BH11) -> 403 | BJ11: =AVERAGE(BC11:BH11) -> 80.6 | BK11: 76 | BL11: 77 | BM11: 85 | BN11: 80 | BO11: 78 | BQ11: =SUM(BK11:BP11) -> 396 | BR11: =AVERAGE(BK11:BP11) -> 79.2 | BY11: =SUM(BS11:BX11) -> 0 | BZ11: =AVERAGE(BS11:BX11) -> #DIV/0! | CA11: 84 | CB11: 89 | CC11: 90 | CD11: 88 | CE11: 91 | CG11: =SUM(CA11:CF11) -> 442 | CH11: =AVERAGE(CA11:CF11) -> 88.4 | CI11: 75 | CJ11: 82 | CK11: 84 | CL11: 83 | CM11: 83 | CO11: =SUM(CI11:CN11) -> 407 | CP11: =AVERAGE(CI11:CN11) -> 81.4 | CQ11: 74 | CR11: 76 | CS11: 77 | CT11: 77 | CU11: 77 | CW11: =SUM(CQ11:CV11) -> 381 | CX11: =AVERAGE(CQ11:CV11) -> 76.2 | CY11: 85 | CZ11: 82 | DA11: 84 | DB11: 85 | DC11: 77 | DE11: =SUM(CY11:DD11) -> 413 | DF11: =AVERAGE(CY11:DD11) -> 82.6 | DG11: 79 | DH11: 77 | DI11: 82 | DJ11: 78 | DK11: 81 | DM11: =SUM(DG11:DL11) -> 397 | DN11: =AVERAGE(DG11:DL11) -> 79.4 | DO11: 78 | DP11: 75 | DQ11: 75 | DR11: 75 | DS11: 76 | DU11: =SUM(DO11:DT11) -> 379 | DV11: =AVERAGE(DO11:DT11) -> 75.8 | DW11: 80 | DX11: 86 | DY11: 84 | DZ11: 88 | EA11: 76 | EC11: =SUM(DW11:EB11) -> 414 | ED11: =AVERAGE(DW11:EB11) -> 82.8 | EG11: =AVERAGE(G11,O11,CY11,DG11) -> 83.5 | EH11: =AVERAGE(H11,P11,CZ11,DH11) -> 80.5 | EI11: =AVERAGE(I11,Q11,DA11,DI11) -> 82.75 | EJ11: =AVERAGE(J11,R11,DB11,DJ11) -> 81 | EK11: =AVERAGE(K11,S11,DC11,DK11) -> 81 | EM11: =SUM(EG11:EL11) -> 408.75 | EN11: =AVERAGE(EG11:EL11) -> 81.75
A12: 6 | B12: HERI PRASETYO | C12: Pekalongan, 16 Februari 2010 | D12: 0104942364 | E12: 2095 | F12: L | G12: 97 | H12: 95 | I12: 92 | J12: 94 | K12: 95 | M12: =SUM(G12:L12) -> 473 | N12: =AVERAGE(G12:L12) -> 94.6 | O12: 94 | P12: 93 | Q12: 95 | R12: 95 | S12: 94 | U12: =SUM(O12:T12) -> 471 | V12: =AVERAGE(O12:T12) -> 94.2 | W12: 94 | X12: 93 | Y12: 95 | Z12: 96 | AA12: 94 | AC12: =SUM(W12:AB12) -> 472 | AD12: =AVERAGE(W12:AB12) -> 94.4 | AE12: 91 | AF12: 93 | AG12: 87 | AH12: 84 | AI12: 86 | AK12: =SUM(AE12:AJ12) -> 441 | AL12: =AVERAGE(AE12:AJ12) -> 88.2 | AM12: 85 | AN12: 83 | AO12: 83 | AP12: 84 | AQ12: 83 | AS12: =SUM(AM12:AR12) -> 418 | AT12: =AVERAGE(AM12:AR12) -> 83.6 | AU12: 94 | AV12: 90 | AW12: 86 | AX12: 91 | AY12: 84 | BA12: =SUM(AU12:AZ12) -> 445 | BB12: =AVERAGE(AU12:AZ12) -> 89 | BC12: 91 | BD12: 93 | BE12: 96 | BF12: 95 | BG12: 88 | BI12: =SUM(BC12:BH12) -> 463 | BJ12: =AVERAGE(BC12:BH12) -> 92.6 | BK12: 88 | BL12: 90 | BM12: 90 | BN12: 86 | BO12: 84 | BQ12: =SUM(BK12:BP12) -> 438 | BR12: =AVERAGE(BK12:BP12) -> 87.6 | BY12: =SUM(BS12:BX12) -> 0 | BZ12: =AVERAGE(BS12:BX12) -> #DIV/0! | CA12: 90 | CB12: 94 | CC12: 93 | CD12: 93 | CE12: 96 | CG12: =SUM(CA12:CF12) -> 466 | CH12: =AVERAGE(CA12:CF12) -> 93.2 | CI12: 79 | CJ12: 85 | CK12: 85 | CL12: 86 | CM12: 87 | CO12: =SUM(CI12:CN12) -> 422 | CP12: =AVERAGE(CI12:CN12) -> 84.4 | CQ12: 86 | CR12: 87 | CS12: 83 | CT12: 89 | CU12: 94 | CW12: =SUM(CQ12:CV12) -> 439 | CX12: =AVERAGE(CQ12:CV12) -> 87.8 | CY12: 95 | CZ12: 94 | DA12: 96 | DB12: 95 | DC12: 94 | DE12: =SUM(CY12:DD12) -> 474 | DF12: =AVERAGE(CY12:DD12) -> 94.8 | DG12: 94 | DH12: 94 | DI12: 93 | DJ12: 95 | DK12: 94 | DM12: =SUM(DG12:DL12) -> 470 | DN12: =AVERAGE(DG12:DL12) -> 94 | DO12: 76 | DP12: 80 | DQ12: 81 | DR12: 79 | DS12: 78 | DU12: =SUM(DO12:DT12) -> 394 | DV12: =AVERAGE(DO12:DT12) -> 78.8 | DW12: 88 | DX12: 95 | DY12: 90 | DZ12: 93 | EA12: 92 | EC12: =SUM(DW12:EB12) -> 458 | ED12: =AVERAGE(DW12:EB12) -> 91.6 | EG12: =AVERAGE(G12,O12,CY12,DG12) -> 95 | EH12: =AVERAGE(H12,P12,CZ12,DH12) -> 94 | EI12: =AVERAGE(I12,Q12,DA12,DI12) -> 94 | EJ12: =AVERAGE(J12,R12,DB12,DJ12) -> 94.75 | EK12: =AVERAGE(K12,S12,DC12,DK12) -> 94.25 | EM12: =SUM(EG12:EL12) -> 472 | EN12: =AVERAGE(EG12:EL12) -> 94.4
A13: 7 | B13: KAMILA RAMADHANI | C13: Pekalongan, 9 Agustus 2010 | D13: 3103325459 | E13: 2091 | F13: P | G13: 90 | H13: 83 | I13: 84 | J13: 85 | K13: 90 | M13: =SUM(G13:L13) -> 432 | N13: =AVERAGE(G13:L13) -> 86.4 | O13: 82 | P13: 83 | Q13: 87 | R13: 81 | S13: 88 | U13: =SUM(O13:T13) -> 421 | V13: =AVERAGE(O13:T13) -> 84.2 | W13: 74 | X13: 78 | Y13: 84 | Z13: 83 | AA13: 90 | AC13: =SUM(W13:AB13) -> 409 | AD13: =AVERAGE(W13:AB13) -> 81.8 | AE13: 80 | AF13: 86 | AG13: 76 | AH13: 76 | AI13: 78 | AK13: =SUM(AE13:AJ13) -> 396 | AL13: =AVERAGE(AE13:AJ13) -> 79.2 | AM13: 77 | AN13: 74 | AO13: 83 | AP13: 82 | AQ13: 79 | AS13: =SUM(AM13:AR13) -> 395 | AT13: =AVERAGE(AM13:AR13) -> 79 | AU13: 77 | AV13: 81 | AW13: 81 | AX13: 82 | AY13: 78 | BA13: =SUM(AU13:AZ13) -> 399 | BB13: =AVERAGE(AU13:AZ13) -> 79.8 | BC13: 75 | BD13: 81 | BE13: 87 | BF13: 83 | BG13: 82 | BI13: =SUM(BC13:BH13) -> 408 | BJ13: =AVERAGE(BC13:BH13) -> 81.6 | BK13: 78 | BL13: 78 | BM13: 82 | BN13: 82 | BO13: 81 | BQ13: =SUM(BK13:BP13) -> 401 | BR13: =AVERAGE(BK13:BP13) -> 80.2 | BY13: =SUM(BS13:BX13) -> 0 | BZ13: =AVERAGE(BS13:BX13) -> #DIV/0! | CA13: 84 | CB13: 90 | CC13: 87 | CD13: 86 | CE13: 95 | CG13: =SUM(CA13:CF13) -> 442 | CH13: =AVERAGE(CA13:CF13) -> 88.4 | CI13: 76 | CJ13: 84 | CK13: 84 | CL13: 85 | CM13: 86 | CO13: =SUM(CI13:CN13) -> 415 | CP13: =AVERAGE(CI13:CN13) -> 83 | CQ13: 76 | CR13: 78 | CS13: 76 | CT13: 76 | CU13: 77 | CW13: =SUM(CQ13:CV13) -> 383 | CX13: =AVERAGE(CQ13:CV13) -> 76.6 | CY13: 86 | CZ13: 85 | DA13: 86 | DB13: 84 | DC13: 84 | DE13: =SUM(CY13:DD13) -> 425 | DF13: =AVERAGE(CY13:DD13) -> 85 | DG13: 82 | DH13: 83 | DI13: 85 | DJ13: 81 | DK13: 83 | DM13: =SUM(DG13:DL13) -> 414 | DN13: =AVERAGE(DG13:DL13) -> 82.8 | DO13: 74 | DP13: 76 | DQ13: 75 | DR13: 76 | DS13: 77 | DU13: =SUM(DO13:DT13) -> 378 | DV13: =AVERAGE(DO13:DT13) -> 75.6 | DW13: 78 | DX13: 87 | DY13: 87 | DZ13: 88 | EA13: 85 | EC13: =SUM(DW13:EB13) -> 425 | ED13: =AVERAGE(DW13:EB13) -> 85 | EG13: =AVERAGE(G13,O13,CY13,DG13) -> 85 | EH13: =AVERAGE(H13,P13,CZ13,DH13) -> 83.5 | EI13: =AVERAGE(I13,Q13,DA13,DI13) -> 85.5 | EJ13: =AVERAGE(J13,R13,DB13,DJ13) -> 82.75 | EK13: =AVERAGE(K13,S13,DC13,DK13) -> 86.25 | EM13: =SUM(EG13:EL13) -> 423 | EN13: =AVERAGE(EG13:EL13) -> 84.6
A14: 8 | B14: LUTFI ANDANI | C14: Pekalongan, 29 Agustus 2008 | D14: 3083701088 | E14: 2108 | F14: L | G14: 86 | H14: 77 | I14: 81 | J14: 82 | K14: 78 | M14: =SUM(G14:L14) -> 404 | N14: =AVERAGE(G14:L14) -> 80.8 | O14: 77 | P14: 78 | Q14: 83 | R14: 79 | S14: 81 | U14: =SUM(O14:T14) -> 398 | V14: =AVERAGE(O14:T14) -> 79.6 | W14: 79 | X14: 79 | Y14: 80 | Z14: 81 | AA14: 80 | AC14: =SUM(W14:AB14) -> 399 | AD14: =AVERAGE(W14:AB14) -> 79.8 | AE14: 81 | AF14: 81 | AG14: 75 | AH14: 76 | AI14: 76 | AK14: =SUM(AE14:AJ14) -> 389 | AL14: =AVERAGE(AE14:AJ14) -> 77.8 | AM14: 74 | AN14: 77 | AO14: 79 | AP14: 81 | AQ14: 76 | AS14: =SUM(AM14:AR14) -> 387 | AT14: =AVERAGE(AM14:AR14) -> 77.4 | AU14: 75 | AV14: 78 | AW14: 79 | AX14: 79 | AY14: 76 | BA14: =SUM(AU14:AZ14) -> 387 | BB14: =AVERAGE(AU14:AZ14) -> 77.4 | BC14: 74 | BD14: 81 | BE14: 85 | BF14: 81 | BG14: 76 | BI14: =SUM(BC14:BH14) -> 397 | BJ14: =AVERAGE(BC14:BH14) -> 79.4 | BK14: 75 | BL14: 76 | BM14: 80 | BN14: 79 | BO14: 76 | BQ14: =SUM(BK14:BP14) -> 386 | BR14: =AVERAGE(BK14:BP14) -> 77.2 | BY14: =SUM(BS14:BX14) -> 0 | BZ14: =AVERAGE(BS14:BX14) -> #DIV/0! | CA14: 84 | CB14: 89 | CC14: 88 | CD14: 87 | CE14: 80 | CG14: =SUM(CA14:CF14) -> 428 | CH14: =AVERAGE(CA14:CF14) -> 85.6 | CI14: 76 | CJ14: 80 | CK14: 84 | CL14: 80 | CM14: 80 | CO14: =SUM(CI14:CN14) -> 400 | CP14: =AVERAGE(CI14:CN14) -> 80 | CQ14: 76 | CR14: 75 | CS14: 75 | CT14: 75 | CU14: 77 | CW14: =SUM(CQ14:CV14) -> 378 | CX14: =AVERAGE(CQ14:CV14) -> 75.6 | CY14: 85 | CZ14: 78 | DA14: 82 | DB14: 78 | DC14: 78 | DE14: =SUM(CY14:DD14) -> 401 | DF14: =AVERAGE(CY14:DD14) -> 80.2 | DG14: 77 | DH14: 76 | DI14: 81 | DJ14: 77 | DK14: 77 | DM14: =SUM(DG14:DL14) -> 388 | DN14: =AVERAGE(DG14:DL14) -> 77.6 | DO14: 75 | DP14: 74 | DQ14: 75 | DR14: 75 | DS14: 76 | DU14: =SUM(DO14:DT14) -> 375 | DV14: =AVERAGE(DO14:DT14) -> 75 | DW14: 74 | DX14: 84 | DY14: 84 | DZ14: 80 | EA14: 76 | EC14: =SUM(DW14:EB14) -> 398 | ED14: =AVERAGE(DW14:EB14) -> 79.6 | EG14: =AVERAGE(G14,O14,CY14,DG14) -> 81.25 | EH14: =AVERAGE(H14,P14,CZ14,DH14) -> 77.25 | EI14: =AVERAGE(I14,Q14,DA14,DI14) -> 81.75 | EJ14: =AVERAGE(J14,R14,DB14,DJ14) -> 79 | EK14: =AVERAGE(K14,S14,DC14,DK14) -> 78.5 | EM14: =SUM(EG14:EL14) -> 397.75 | EN14: =AVERAGE(EG14:EL14) -> 79.55
A15: 9 | B15: M. ARI ILHAM | C15: Pekalongan, 7 Juni 2010 | D15: 3105255525 | E15: 2093 | F15: L | G15: 93 | H15: 94 | I15: 91 | J15: 90 | K15: 90 | M15: =SUM(G15:L15) -> 458 | N15: =AVERAGE(G15:L15) -> 91.6 | O15: 89 | P15: 90 | Q15: 91 | R15: 90 | S15: 93 | U15: =SUM(O15:T15) -> 453 | V15: =AVERAGE(O15:T15) -> 90.6 | W15: 90 | X15: 88 | Y15: 89 | Z15: 93 | AA15: 92 | AC15: =SUM(W15:AB15) -> 452 | AD15: =AVERAGE(W15:AB15) -> 90.4 | AE15: 85 | AF15: 82 | AG15: 75 | AH15: 76 | AI15: 76 | AK15: =SUM(AE15:AJ15) -> 394 | AL15: =AVERAGE(AE15:AJ15) -> 78.8 | AM15: 77 | AN15: 75 | AO15: 81 | AP15: 80 | AQ15: 77 | AS15: =SUM(AM15:AR15) -> 390 | AT15: =AVERAGE(AM15:AR15) -> 78 | AU15: 74 | AV15: 79 | AW15: 77 | AX15: 78 | AY15: 77 | BA15: =SUM(AU15:AZ15) -> 385 | BB15: =AVERAGE(AU15:AZ15) -> 77 | BC15: 78 | BD15: 83 | BE15: 81 | BF15: 82 | BG15: 77 | BI15: =SUM(BC15:BH15) -> 401 | BJ15: =AVERAGE(BC15:BH15) -> 80.2 | BK15: 75 | BL15: 77 | BM15: 79 | BN15: 79 | BO15: 79 | BQ15: =SUM(BK15:BP15) -> 389 | BR15: =AVERAGE(BK15:BP15) -> 77.8 | BY15: =SUM(BS15:BX15) -> 0 | BZ15: =AVERAGE(BS15:BX15) -> #DIV/0! | CA15: 85 | CB15: 88 | CC15: 85 | CD15: 88 | CE15: 88 | CG15: =SUM(CA15:CF15) -> 434 | CH15: =AVERAGE(CA15:CF15) -> 86.8 | CI15: 74 | CJ15: 81 | CK15: 84 | CL15: 83 | CM15: 82 | CO15: =SUM(CI15:CN15) -> 404 | CP15: =AVERAGE(CI15:CN15) -> 80.8 | CQ15: 74 | CR15: 75 | CS15: 75 | CT15: 75 | CU15: 77 | CW15: =SUM(CQ15:CV15) -> 376 | CX15: =AVERAGE(CQ15:CV15) -> 75.2 | CY15: 91 | CZ15: 90 | DA15: 90 | DB15: 88 | DC15: 90 | DE15: =SUM(CY15:DD15) -> 449 | DF15: =AVERAGE(CY15:DD15) -> 89.8 | DG15: 89 | DH15: 88 | DI15: 90 | DJ15: 89 | DK15: 92 | DM15: =SUM(DG15:DL15) -> 448 | DN15: =AVERAGE(DG15:DL15) -> 89.6 | DO15: 73 | DP15: 3 | DQ15: 75 | DR15: 75 | DS15: 76 | DU15: =SUM(DO15:DT15) -> 302 | DV15: =AVERAGE(DO15:DT15) -> 60.4 | DW15: 74 | DX15: 74 | DY15: 82 | DZ15: 87 | EA15: 78 | EC15: =SUM(DW15:EB15) -> 395 | ED15: =AVERAGE(DW15:EB15) -> 79 | EG15: =AVERAGE(G15,O15,CY15,DG15) -> 90.5 | EH15: =AVERAGE(H15,P15,CZ15,DH15) -> 90.5 | EI15: =AVERAGE(I15,Q15,DA15,DI15) -> 90.5 | EJ15: =AVERAGE(J15,R15,DB15,DJ15) -> 89.25 | EK15: =AVERAGE(K15,S15,DC15,DK15) -> 91.25 | EM15: =SUM(EG15:EL15) -> 452 | EN15: =AVERAGE(EG15:EL15) -> 90.4
A16: 10 | B16: M. ZARIRUL FIKRI | C16: Batang, 23 Juli 2010 | D16: 3105592285 | E16: 2107 | F16: L | G16: 85 | H16: 82 | I16: 83 | J16: 81 | K16: 82 | M16: =SUM(G16:L16) -> 413 | N16: =AVERAGE(G16:L16) -> 82.6 | O16: 77 | P16: 78 | Q16: 84 | R16: 77 | S16: 86 | U16: =SUM(O16:T16) -> 402 | V16: =AVERAGE(O16:T16) -> 80.4 | W16: 81 | X16: 80 | Y16: 81 | Z16: 82 | AA16: 86 | AC16: =SUM(W16:AB16) -> 410 | AD16: =AVERAGE(W16:AB16) -> 82 | AE16: 83 | AF16: 81 | AG16: 77 | AH16: 78 | AI16: 76 | AK16: =SUM(AE16:AJ16) -> 395 | AL16: =AVERAGE(AE16:AJ16) -> 79 | AM16: 74 | AN16: 74 | AO16: 82 | AP16: 81 | AQ16: 77 | AS16: =SUM(AM16:AR16) -> 388 | AT16: =AVERAGE(AM16:AR16) -> 77.6 | AU16: 77 | AV16: 77 | AW16: 81 | AX16: 82 | AY16: 76 | BA16: =SUM(AU16:AZ16) -> 393 | BB16: =AVERAGE(AU16:AZ16) -> 78.6 | BC16: 76 | BD16: 83 | BE16: 84 | BF16: 82 | BG16: 76 | BI16: =SUM(BC16:BH16) -> 401 | BJ16: =AVERAGE(BC16:BH16) -> 80.2 | BK16: 75 | BL16: 77 | BM16: 82 | BN16: 84 | BO16: 76 | BQ16: =SUM(BK16:BP16) -> 394 | BR16: =AVERAGE(BK16:BP16) -> 78.8 | BY16: =SUM(BS16:BX16) -> 0 | BZ16: =AVERAGE(BS16:BX16) -> #DIV/0! | CA16: 86 | CB16: 88 | CC16: 85 | CD16: 82 | CE16: 84 | CG16: =SUM(CA16:CF16) -> 425 | CH16: =AVERAGE(CA16:CF16) -> 85 | CI16: 75 | CJ16: 83 | CK16: 84 | CL16: 85 | CM16: 82 | CO16: =SUM(CI16:CN16) -> 409 | CP16: =AVERAGE(CI16:CN16) -> 81.8 | CQ16: 75 | CR16: 74 | CS16: 77 | CT16: 75 | CU16: 88 | CW16: =SUM(CQ16:CV16) -> 389 | CX16: =AVERAGE(CQ16:CV16) -> 77.8 | CY16: 80 | CZ16: 80 | DA16: 84 | DB16: 77 | DC16: 80 | DE16: =SUM(CY16:DD16) -> 401 | DF16: =AVERAGE(CY16:DD16) -> 80.2 | DG16: 76 | DH16: 80 | DI16: 83 | DJ16: 76 | DK16: 81 | DM16: =SUM(DG16:DL16) -> 396 | DN16: =AVERAGE(DG16:DL16) -> 79.2 | DO16: 65 | DP16: 74 | DQ16: 75 | DR16: 75 | DS16: 76 | DU16: =SUM(DO16:DT16) -> 365 | DV16: =AVERAGE(DO16:DT16) -> 73 | DW16: 74 | DX16: 82 | DY16: 85 | DZ16: 84 | EA16: 80 | EC16: =SUM(DW16:EB16) -> 405 | ED16: =AVERAGE(DW16:EB16) -> 81 | EG16: =AVERAGE(G16,O16,CY16,DG16) -> 79.5 | EH16: =AVERAGE(H16,P16,CZ16,DH16) -> 80 | EI16: =AVERAGE(I16,Q16,DA16,DI16) -> 83.5 | EJ16: =AVERAGE(J16,R16,DB16,DJ16) -> 77.75 | EK16: =AVERAGE(K16,S16,DC16,DK16) -> 82.25 | EM16: =SUM(EG16:EL16) -> 403 | EN16: =AVERAGE(EG16:EL16) -> 80.6
A17: 11 | B17: MAGHFIROTUL KARIMAH | C17: Pekalongan, 5 November 2010 | D17: 3109162384 | E17: 2104 | F17: P | G17: 87 | H17: 79 | I17: 83 | J17: 84 | K17: 80 | M17: =SUM(G17:L17) -> 413 | N17: =AVERAGE(G17:L17) -> 82.6 | O17: 75 | P17: 81 | Q17: 82 | R17: 83 | S17: 88 | U17: =SUM(O17:T17) -> 409 | V17: =AVERAGE(O17:T17) -> 81.8 | W17: 74 | X17: 77 | Y17: 82 | Z17: 84 | AA17: 88 | AC17: =SUM(W17:AB17) -> 405 | AD17: =AVERAGE(W17:AB17) -> 81 | AE17: 82 | AF17: 87 | AG17: 80 | AH17: 80 | AI17: 77 | AK17: =SUM(AE17:AJ17) -> 406 | AL17: =AVERAGE(AE17:AJ17) -> 81.2 | AM17: 74 | AN17: 74 | AO17: 79 | AP17: 82 | AQ17: 77 | AS17: =SUM(AM17:AR17) -> 386 | AT17: =AVERAGE(AM17:AR17) -> 77.2 | AU17: 76 | AV17: 82 | AW17: 81 | AX17: 85 | AY17: 80 | BA17: =SUM(AU17:AZ17) -> 404 | BB17: =AVERAGE(AU17:AZ17) -> 80.8 | BC17: 80 | BD17: 86 | BE17: 86 | BF17: 84 | BG17: 84 | BI17: =SUM(BC17:BH17) -> 420 | BJ17: =AVERAGE(BC17:BH17) -> 84 | BK17: 87 | BL17: 88 | BM17: 89 | BN17: 85 | BO17: 84 | BQ17: =SUM(BK17:BP17) -> 433 | BR17: =AVERAGE(BK17:BP17) -> 86.6 | BY17: =SUM(BS17:BX17) -> 0 | BZ17: =AVERAGE(BS17:BX17) -> #DIV/0! | CA17: 85 | CB17: 85 | CC17: 85 | CD17: 87 | CE17: 84 | CG17: =SUM(CA17:CF17) -> 426 | CH17: =AVERAGE(CA17:CF17) -> 85.2 | CI17: 74 | CJ17: 80 | CK17: 84 | CL17: 87 | CM17: 86 | CO17: =SUM(CI17:CN17) -> 411 | CP17: =AVERAGE(CI17:CN17) -> 82.2 | CQ17: 76 | CR17: 79 | CS17: 76 | CT17: 76 | CU17: 86 | CW17: =SUM(CQ17:CV17) -> 393 | CX17: =AVERAGE(CQ17:CV17) -> 78.6 | CY17: 85 | CZ17: 85 | DA17: 90 | DB17: 85 | DC17: 80 | DE17: =SUM(CY17:DD17) -> 425 | DF17: =AVERAGE(CY17:DD17) -> 85 | DG17: 81 | DH17: 81 | DI17: 82 | DJ17: 82 | DK17: 81 | DM17: =SUM(DG17:DL17) -> 407 | DN17: =AVERAGE(DG17:DL17) -> 81.4 | DO17: 77 | DP17: 74 | DQ17: 76 | DR17: 76 | DS17: 76 | DU17: =SUM(DO17:DT17) -> 379 | DV17: =AVERAGE(DO17:DT17) -> 75.8 | DW17: 76 | DX17: 77 | DY17: 81 | DZ17: 89 | EA17: 79 | EC17: =SUM(DW17:EB17) -> 402 | ED17: =AVERAGE(DW17:EB17) -> 80.4 | EG17: =AVERAGE(G17,O17,CY17,DG17) -> 82 | EH17: =AVERAGE(H17,P17,CZ17,DH17) -> 81.5 | EI17: =AVERAGE(I17,Q17,DA17,DI17) -> 84.25 | EJ17: =AVERAGE(J17,R17,DB17,DJ17) -> 83.5 | EK17: =AVERAGE(K17,S17,DC17,DK17) -> 82.25 | EM17: =SUM(EG17:EL17) -> 413.5 | EN17: =AVERAGE(EG17:EL17) -> 82.7
A18: 12 | B18: MUHAMMAD ABDI SASONGKO | C18: Pekalongan, 13 Oktober 2010 | D18: 3107608137 | E18: 2103 | F18: L | G18: 85 | H18: 75 | I18: 79 | J18: 82 | K18: 77 | M18: =SUM(G18:L18) -> 398 | N18: =AVERAGE(G18:L18) -> 79.6 | O18: 79 | P18: 78 | Q18: 83 | R18: 80 | S18: 83 | U18: =SUM(O18:T18) -> 403 | V18: =AVERAGE(O18:T18) -> 80.6 | W18: 75 | X18: 74 | Y18: 78 | Z18: 82 | AA18: 82 | AC18: =SUM(W18:AB18) -> 391 | AD18: =AVERAGE(W18:AB18) -> 78.2 | AE18: 81 | AF18: 81 | AG18: 75 | AH18: 77 | AI18: 76 | AK18: =SUM(AE18:AJ18) -> 390 | AL18: =AVERAGE(AE18:AJ18) -> 78 | AM18: 75 | AN18: 73 | AO18: 81 | AP18: 80 | AQ18: 76 | AS18: =SUM(AM18:AR18) -> 385 | AT18: =AVERAGE(AM18:AR18) -> 77 | AU18: 74 | AV18: 77 | AW18: 79 | AX18: 80 | AY18: 76 | BA18: =SUM(AU18:AZ18) -> 386 | BB18: =AVERAGE(AU18:AZ18) -> 77.2 | BC18: 75 | BD18: 78 | BE18: 80 | BF18: 81 | BG18: 76 | BI18: =SUM(BC18:BH18) -> 390 | BJ18: =AVERAGE(BC18:BH18) -> 78 | BK18: 75 | BL18: 77 | BM18: 81 | BN18: 80 | BO18: 76 | BQ18: =SUM(BK18:BP18) -> 389 | BR18: =AVERAGE(BK18:BP18) -> 77.8 | BY18: =SUM(BS18:BX18) -> 0 | BZ18: =AVERAGE(BS18:BX18) -> #DIV/0! | CA18: 85 | CB18: 89 | CC18: 85 | CD18: 86 | CE18: 83 | CG18: =SUM(CA18:CF18) -> 428 | CH18: =AVERAGE(CA18:CF18) -> 85.6 | CI18: 74 | CJ18: 81 | CK18: 84 | CL18: 82 | CM18: 79 | CO18: =SUM(CI18:CN18) -> 400 | CP18: =AVERAGE(CI18:CN18) -> 80 | CQ18: 74 | CR18: 74 | CS18: 75 | CT18: 80 | CU18: 78 | CW18: =SUM(CQ18:CV18) -> 381 | CX18: =AVERAGE(CQ18:CV18) -> 76.2 | CY18: 83 | CZ18: 77 | DA18: 77 | DB18: 77 | DC18: 81 | DE18: =SUM(CY18:DD18) -> 395 | DF18: =AVERAGE(CY18:DD18) -> 79 | DG18: 75 | DH18: 76 | DI18: 79 | DJ18: 78 | DK18: 81 | DM18: =SUM(DG18:DL18) -> 389 | DN18: =AVERAGE(DG18:DL18) -> 77.8 | DO18: 74 | DP18: 74 | DQ18: 75 | DR18: 77 | DS18: 76 | DU18: =SUM(DO18:DT18) -> 376 | DV18: =AVERAGE(DO18:DT18) -> 75.2 | DW18: 74 | DX18: 76 | DY18: 84 | DZ18: 86 | EA18: 76 | EC18: =SUM(DW18:EB18) -> 396 | ED18: =AVERAGE(DW18:EB18) -> 79.2 | EG18: =AVERAGE(G18,O18,CY18,DG18) -> 80.5 | EH18: =AVERAGE(H18,P18,CZ18,DH18) -> 76.5 | EI18: =AVERAGE(I18,Q18,DA18,DI18) -> 79.5 | EJ18: =AVERAGE(J18,R18,DB18,DJ18) -> 79.25 | EK18: =AVERAGE(K18,S18,DC18,DK18) -> 80.5 | EM18: =SUM(EG18:EL18) -> 396.25 | EN18: =AVERAGE(EG18:EL18) -> 79.25
... A51: 45 | B51: TRI MULIA SAPUTRA | C51: Pekalongan, 10 Juni 2007 | D51: 0072355816 | E51: 2101 | F51: L | G51: 94 | H51: 93 | I51: 91 | J51: 90 | K51: 93 | M51: =SUM(G51:L51) -> 461 | N51: =AVERAGE(G51:L51) -> 92.2 | O51: 90 | P51: 93 | Q51: 90 | R51: 93 | S51: 95 | U51: =SUM(O51:T51) -> 461 | V51: =AVERAGE(O51:T51) -> 92.2 | W51: 90 | X51: 91 | Y51: 93 | Z51: 92 | AA51: 92 | AC51: =SUM(W51:AB51) -> 458 | AD51: =AVERAGE(W51:AB51) -> 91.6 | AE51: 90 | AF51: 92 | AG51: 91 | AH51: 87 | AI51: 81 | AK51: =SUM(AE51:AJ51) -> 441 | AL51: =AVERAGE(AE51:AJ51) -> 88.2 | AM51: 85 | AN51: 91 | AO51: 84 | AP51: 85 | AQ51: 84 | AS51: =SUM(AM51:AR51) -> 429 | AT51: =AVERAGE(AM51:AR51) -> 85.8 | AU51: 92 | AV51: 90 | AW51: 85 | AX51: 90 | AY51: 82 | BA51: =SUM(AU51:AZ51) -> 439 | BB51: =AVERAGE(AU51:AZ51) -> 87.8 | BC51: 88 | BD51: 90 | BE51: 89 | BF51: 91 | BG51: 86 | BI51: =SUM(BC51:BH51) -> 444 | BJ51: =AVERAGE(BC51:BH51) -> 88.8 | BK51: 88 | BL51: 88 | BM51: 86 | BN51: 83 | BO51: 85 | BQ51: =SUM(BK51:BP51) -> 430 | BR51: =AVERAGE(BK51:BP51) -> 86 | BY51: =SUM(BS51:BX51) -> 0 | BZ51: =AVERAGE(BS51:BX51) -> #DIV/0! | CA51: 90 | CB51: 93 | CC51: 89 | CD51: 88 | CE51: 86 | CG51: =SUM(CA51:CF51) -> 446 | CH51: =AVERAGE(CA51:CF51) -> 89.2 | CI51: 80 | CJ51: 89 | CK51: 85 | CL51: 90 | CM51: 82 | CO51: =SUM(CI51:CN51) -> 426 | CP51: =AVERAGE(CI51:CN51) -> 85.2 | CQ51: 83 | CR51: 86 | CS51: 88 | CT51: 91 | CU51: 86 | CW51: =SUM(CQ51:CV51) -> 434 | CX51: =AVERAGE(CQ51:CV51) -> 86.8 | CY51: 91 | CZ51: 93 | DA51: 95 | DB51: 90 | DC51: 92 | DE51: =SUM(CY51:DD51) -> 461 | DF51: =AVERAGE(CY51:DD51) -> 92.2 | DG51: 93 | DH51: 92 | DI51: 94 | DJ51: 93 | DK51: 91 | DM51: =SUM(DG51:DL51) -> 463 | DN51: =AVERAGE(DG51:DL51) -> 92.6 | DO51: 73 | DP51: 75 | DQ51: 75 | DR51: 76 | DS51: 76 | DU51: =SUM(DO51:DT51) -> 375 | DV51: =AVERAGE(DO51:DT51) -> 75 | DW51: 85 | DX51: 94 | DY51: 89 | DZ51: 95 | EA51: 90 | EC51: =SUM(DW51:EB51) -> 453 | ED51: =AVERAGE(DW51:EB51) -> 90.6 | EG51: =AVERAGE(G51,O51,CY51,DG51) -> 92 | EH51: =AVERAGE(H51,P51,CZ51,DH51) -> 92.75 | EI51: =AVERAGE(I51,Q51,DA51,DI51) -> 92.5 | EJ51: =AVERAGE(J51,R51,DB51,DJ51) -> 91.5 | EK51: =AVERAGE(K51,S51,DC51,DK51) -> 92.75 | EM51: =SUM(EG51:EL51) -> 461.5 | EN51: =AVERAGE(EG51:EL51) -> 92.3
B55: Nilai Tertinggi | G55: =MAX(G7:G51) -> 98 | H55: =MAX(H7:H51) -> 95 | I55: =MAX(I7:I51) -> 94 | J55: =MAX(J7:J51) -> 95 | K55: =MAX(K7:K51) -> 95 | L55: =MAX(L7:L51) -> 0 | M55: =MAX(M7:M51) -> 473 | N55: =MAX(N7:N51) -> 94.6 | ... ED55: =MAX(ED7:ED51) -> 91.6
B56: Nilai Terendah | G56: =MIN(G7:G51) -> 82 | H56: =MIN(H7:H51) -> 75 | I56: =MIN(I7:I51) -> 77 | J56: =MIN(J7:J51) -> 75 | K56: =MIN(K7:K51) -> 76 | L56: =MIN(L7:L51) -> 0 | M56: =MIN(M7:M51) -> 390 | N56: =MIN(N7:N51) -> 78 | ... ED56: =MIN(ED7:ED51) -> 76.6
B57: Rata-rata | G57: =AVERAGE(G7:G51) -> 89.822222 | H57: =AVERAGE(H7:H51) -> 89.111111 | I57: =AVERAGE(I7:I51) -> 87.577778 | J57: =AVERAGE(J7:J51) -> 87.6 | K57: =AVERAGE(K7:K51) -> 87 | L57: =AVERAGE(L7:L51) -> #DIV/0! | M57: =AVERAGE(M7:M51) -> 441.11111 | N57: =AVERAGE(N7:N51) -> 88.222222 | ... ED57: =AVERAGE(ED7:ED51) -> 81.697778

Sheet Gabungan Nilai Ujian
G2: Nilai Ujian Praktek + Tertulis
A4: NO | B4: NAMA | C4: PAI (Fiqih | F4: SKI | I4: PKN | L4: INDONESIA | O4: MTK | R4: IPA | U4: IPS | X4: INGGRIS | AA4: PJOK | AD4: PRAKARYA | AG4: JAWA | AJ4: HADITS | AM4: AQIDAH | AP4: ARAB | AS4: ASWAJA | AV4: Informatika
C6: Tertulis | D6: Praktek | E6: Rata-Rata | F6: Tertulis | G6: Praktek | H6: Rata-Rata | I6: Tertulis | J6: Praktek | K6: Rata-Rata | L6: Tertulis | M6: Praktek | N6: Rata-Rata | O6: Tertulis | P6: Praktek | Q6: Rata-Rata | R6: Tertulis | S6: Praktek | T6: Rata-Rata | U6: Tertulis | V6: Praktek | W6: Rata-Rata | X6: Tertulis | Y6: Praktek | Z6: Rata-Rata | AA6: Tertulis | AB6: Praktek | AC6: Rata-Rata | AD6: Tertulis | AE6: Praktek | AF6: Rata-Rata | AG6: Tertulis | AH6: Praktek | AI6: Rata-Rata | AJ6: Tertulis | AK6: Praktek | AL6: Rata-Rata | AM6: Tertulis | AN6: Praktek | AO6: Rata-Rata | AP6: Tertulis | AQ6: Praktek | AR6: Rata-Rata | AS6: Tertulis | AT6: Praktek | AU6: Rata-Rata | AV6: Tertulis | AW6: Praktek | AX6: Rata-Rata
A7: 1 | B7: ABDUL KHAFIDZ ANSHORI | D7: 87.5 | E7: =AVERAGE(C7:D7) -> 87.5 | H7: =AVERAGE(F7:G7) -> #DIV/0! | K7: =AVERAGE(I7:J7) -> #DIV/0! | M7: 79.5 | N7: =AVERAGE(L7:M7) -> 79.5 | Q7: =AVERAGE(O7:P7) -> #DIV/0! | S7: 80 | T7: =AVERAGE(R7:S7) -> 80 | W7: =AVERAGE(U7:V7) -> #DIV/0! | Y7: 78.5 | Z7: =AVERAGE(X7:Y7) -> 78.5 | AB7: 80 | AC7: =AVERAGE(AA7:AB7) -> 80 | AE7: 90 | AF7: =AVERAGE(AD7:AE7) -> 90 | AH7: 79 | AI7: =AVERAGE(AG7:AH7) -> 79 | AK7: 84.5 | AL7: =AVERAGE(AJ7:AK7) -> 84.5 | AO7: =AVERAGE(AM7:AN7) -> #DIV/0! | AQ7: 85.25 | AR7: =AVERAGE(AP7:AQ7) -> 85.25 | AU7: =AVERAGE(AS7:AT7) -> #DIV/0! | AW7: 82 | AX7: =AVERAGE(AV7:AW7) -> 82
A8: 2 | B8: AHMAD THORIK | D8: 86 | E8: =AVERAGE(C8:D8) -> 86 | H8: =AVERAGE(F8:G8) -> #DIV/0! | K8: =AVERAGE(I8:J8) -> #DIV/0! | M8: 79.5 | N8: =AVERAGE(L8:M8) -> 79.5 | Q8: =AVERAGE(O8:P8) -> #DIV/0! | S8: 81 | T8: =AVERAGE(R8:S8) -> 81 | W8: =AVERAGE(U8:V8) -> #DIV/0! | Y8: 77.5 | Z8: =AVERAGE(X8:Y8) -> 77.5 | AB8: 81 | AC8: =AVERAGE(AA8:AB8) -> 81 | AE8: 88.75 | AF8: =AVERAGE(AD8:AE8) -> 88.75 | AH8: 79 | AI8: =AVERAGE(AG8:AH8) -> 79 | AK8: 76 | AL8: =AVERAGE(AJ8:AK8) -> 76 | AO8: =AVERAGE(AM8:AN8) -> #DIV/0! | AQ8: 85.75 | AR8: =AVERAGE(AP8:AQ8) -> 85.75 | AU8: =AVERAGE(AS8:AT8) -> #DIV/0! | AW8: 76.5 | AX8: =AVERAGE(AV8:AW8) -> 76.5
A9: 3 | B9: ANDISA NAILAL AUFA | D9: 92.25 | E9: =AVERAGE(C9:D9) -> 92.25 | H9: =AVERAGE(F9:G9) -> #DIV/0! | K9: =AVERAGE(I9:J9) -> #DIV/0! | M9: 92.5 | N9: =AVERAGE(L9:M9) -> 92.5 | Q9: =AVERAGE(O9:P9) -> #DIV/0! | S9: 86 | T9: =AVERAGE(R9:S9) -> 86 | W9: =AVERAGE(U9:V9) -> #DIV/0! | Y9: 83.25 | Z9: =AVERAGE(X9:Y9) -> 83.25 | AB9: 86 | AC9: =AVERAGE(AA9:AB9) -> 86 | AE9: 90 | AF9: =AVERAGE(AD9:AE9) -> 90 | AH9: 87 | AI9: =AVERAGE(AG9:AH9) -> 87 | AK9: 91.25 | AL9: =AVERAGE(AJ9:AK9) -> 91.25 | AO9: =AVERAGE(AM9:AN9) -> #DIV/0! | AQ9: 93 | AR9: =AVERAGE(AP9:AQ9) -> 93 | AU9: =AVERAGE(AS9:AT9) -> #DIV/0! | AW9: 87.5 | AX9: =AVERAGE(AV9:AW9) -> 87.5
A10: 4 | B10: DINA RAHMADHADI | D10: 90.5 | E10: =AVERAGE(C10:D10) -> 90.5 | H10: =AVERAGE(F10:G10) -> #DIV/0! | K10: =AVERAGE(I10:J10) -> #DIV/0! | M10: 91.25 | N10: =AVERAGE(L10:M10) -> 91.25 | Q10: =AVERAGE(O10:P10) -> #DIV/0! | S10: 90 | T10: =AVERAGE(R10:S10) -> 90 | W10: =AVERAGE(U10:V10) -> #DIV/0! | Y10: 81.5 | Z10: =AVERAGE(X10:Y10) -> 81.5 | AB10: 90 | AC10: =AVERAGE(AA10:AB10) -> 90 | AE10: 88.75 | AF10: =AVERAGE(AD10:AE10) -> 88.75 | AH10: 83 | AI10: =AVERAGE(AG10:AH10) -> 83 | AK10: 91.25 | AL10: =AVERAGE(AJ10:AK10) -> 91.25 | AO10: =AVERAGE(AM10:AN10) -> #DIV/0! | AQ10: 92.25 | AR10: =AVERAGE(AP10:AQ10) -> 92.25 | AU10: =AVERAGE(AS10:AT10) -> #DIV/0! | AW10: 87 | AX10: =AVERAGE(AV10:AW10) -> 87
A11: 5 | B11: DIVA AYUNING TIYAS | D11: 87 | E11: =AVERAGE(C11:D11) -> 87 | H11: =AVERAGE(F11:G11) -> #DIV/0! | K11: =AVERAGE(I11:J11) -> #DIV/0! | M11: 83.75 | N11: =AVERAGE(L11:M11) -> 83.75 | Q11: =AVERAGE(O11:P11) -> #DIV/0! | S11: 84 | T11: =AVERAGE(R11:S11) -> 84 | W11: =AVERAGE(U11:V11) -> #DIV/0! | Y11: 78 | Z11: =AVERAGE(X11:Y11) -> 78 | AB11: 84 | AC11: =AVERAGE(AA11:AB11) -> 84 | AE11: 88.75 | AF11: =AVERAGE(AD11:AE11) -> 88.75 | AH11: 81 | AI11: =AVERAGE(AG11:AH11) -> 81 | AK11: 85.5 | AL11: =AVERAGE(AJ11:AK11) -> 85.5 | AO11: =AVERAGE(AM11:AN11) -> #DIV/0! | AQ11: 86.5 | AR11: =AVERAGE(AP11:AQ11) -> 86.5 | AU11: =AVERAGE(AS11:AT11) -> #DIV/0! | AW11: 86.75 | AX11: =AVERAGE(AV11:AW11) -> 86.75
A12: 6 | B12: HERI PRASETYO | D12: 95.25 | E12: =AVERAGE(C12:D12) -> 95.25 | H12: =AVERAGE(F12:G12) -> #DIV/0! | K12: =AVERAGE(I12:J12) -> #DIV/0! | M12: 88.75 | N12: =AVERAGE(L12:M12) -> 88.75 | Q12: =AVERAGE(O12:P12) -> #DIV/0! | S12: 91 | T12: =AVERAGE(R12:S12) -> 91 | W12: =AVERAGE(U12:V12) -> #DIV/0! | Y12: 93.75 | Z12: =AVERAGE(X12:Y12) -> 93.75 | AB12: 91 | AC12: =AVERAGE(AA12:AB12) -> 91 | AE12: 88.75 | AF12: =AVERAGE(AD12:AE12) -> 88.75 | AH12: 86 | AI12: =AVERAGE(AG12:AH12) -> 86 | AK12: 93.5 | AL12: =AVERAGE(AJ12:AK12) -> 93.5 | AO12: =AVERAGE(AM12:AN12) -> #DIV/0! | AQ12: 94.5 | AR12: =AVERAGE(AP12:AQ12) -> 94.5 | AU12: =AVERAGE(AS12:AT12) -> #DIV/0! | AW12: 89.25 | AX12: =AVERAGE(AV12:AW12) -> 89.25
A13: 7 | B13: KAMILA RAMADHANI | D13: 94 | E13: =AVERAGE(C13:D13) -> 94 | H13: =AVERAGE(F13:G13) -> #DIV/0! | K13: =AVERAGE(I13:J13) -> #DIV/0! | M13: 85 | N13: =AVERAGE(L13:M13) -> 85 | Q13: =AVERAGE(O13:P13) -> #DIV/0! | S13: 86 | T13: =AVERAGE(R13:S13) -> 86 | W13: =AVERAGE(U13:V13) -> #DIV/0! | Y13: 80 | Z13: =AVERAGE(X13:Y13) -> 80 | AB13: 86 | AC13: =AVERAGE(AA13:AB13) -> 86 | AE13: 88.75 | AF13: =AVERAGE(AD13:AE13) -> 88.75 | AH13: 81 | AI13: =AVERAGE(AG13:AH13) -> 81 | AK13: 88 | AL13: =AVERAGE(AJ13:AK13) -> 88 | AO13: =AVERAGE(AM13:AN13) -> #DIV/0! | AQ13: 93 | AR13: =AVERAGE(AP13:AQ13) -> 93 | AU13: =AVERAGE(AS13:AT13) -> #DIV/0! | AW13: 87.75 | AX13: =AVERAGE(AV13:AW13) -> 87.75
A14: 8 | B14: LUTFI ANDANI | D14: 85 | E14: =AVERAGE(C14:D14) -> 85 | H14: =AVERAGE(F14:G14) -> #DIV/0! | K14: =AVERAGE(I14:J14) -> #DIV/0! | M14: 81.5 | N14: =AVERAGE(L14:M14) -> 81.5 | Q14: =AVERAGE(O14:P14) -> #DIV/0! | S14: 78 | T14: =AVERAGE(R14:S14) -> 78 | W14: =AVERAGE(U14:V14) -> #DIV/0! | Y14: 79.75 | Z14: =AVERAGE(X14:Y14) -> 79.75 | AB14: 78 | AC14: =AVERAGE(AA14:AB14) -> 78 | AE14: 88.75 | AF14: =AVERAGE(AD14:AE14) -> 88.75 | AH14: 79 | AI14: =AVERAGE(AG14:AH14) -> 79 | AK14: 77.5 | AL14: =AVERAGE(AJ14:AK14) -> 77.5 | AO14: =AVERAGE(AM14:AN14) -> #DIV/0! | AQ14: 83 | AR14: =AVERAGE(AP14:AQ14) -> 83 | AU14: =AVERAGE(AS14:AT14) -> #DIV/0! | AW14: 80.75 | AX14: =AVERAGE(AV14:AW14) -> 80.75
A15: 9 | B15: M. ARI ILHAM | D15: 86 | E15: =AVERAGE(C15:D15) -> 86 | H15: =AVERAGE(F15:G15) -> #DIV/0! | K15: =AVERAGE(I15:J15) -> #DIV/0! | M15: 80 | N15: =AVERAGE(L15:M15) -> 80 | Q15: =AVERAGE(O15:P15) -> #DIV/0! | S15: 79 | T15: =AVERAGE(R15:S15) -> 79 | W15: =AVERAGE(U15:V15) -> #DIV/0! | Y15: 80.25 | Z15: =AVERAGE(X15:Y15) -> 80.25 | AB15: 79 | AC15: =AVERAGE(AA15:AB15) -> 79 | AE15: 90 | AF15: =AVERAGE(AD15:AE15) -> 90 | AH15: 81 | AI15: =AVERAGE(AG15:AH15) -> 81 | AK15: 80.5 | AL15: =AVERAGE(AJ15:AK15) -> 80.5 | AO15: =AVERAGE(AM15:AN15) -> #DIV/0! | AQ15: 90.25 | AR15: =AVERAGE(AP15:AQ15) -> 90.25 | AU15: =AVERAGE(AS15:AT15) -> #DIV/0! | AW15: 81 | AX15: =AVERAGE(AV15:AW15) -> 81
A16: 10 | B16: M. ZARIRUL FIKRI | D16: 91.25 | E16: =AVERAGE(C16:D16) -> 91.25 | H16: =AVERAGE(F16:G16) -> #DIV/0! | K16: =AVERAGE(I16:J16) -> #DIV/0! | M16: 81.5 | N16: =AVERAGE(L16:M16) -> 81.5 | Q16: =AVERAGE(O16:P16) -> #DIV/0! | S16: 82 | T16: =AVERAGE(R16:S16) -> 82 | W16: =AVERAGE(U16:V16) -> #DIV/0! | Y16: 81.75 | Z16: =AVERAGE(X16:Y16) -> 81.75 | AB16: 82 | AC16: =AVERAGE(AA16:AB16) -> 82 | AE16: 81.5 | AF16: =AVERAGE(AD16:AE16) -> 81.5 | AH16: 79 | AI16: =AVERAGE(AG16:AH16) -> 79 | AK16: 82 | AL16: =AVERAGE(AJ16:AK16) -> 82 | AO16: =AVERAGE(AM16:AN16) -> #DIV/0! | AQ16: 90.75 | AR16: =AVERAGE(AP16:AQ16) -> 90.75 | AU16: =AVERAGE(AS16:AT16) -> #DIV/0! | AW16: 79.75 | AX16: =AVERAGE(AV16:AW16) -> 79.75
A17: 11 | B17: MAGHFIROTUL KARIMAH | D17: 86.25 | E17: =AVERAGE(C17:D17) -> 86.25 | H17: =AVERAGE(F17:G17) -> #DIV/0! | K17: =AVERAGE(I17:J17) -> #DIV/0! | M17: 87 | N17: =AVERAGE(L17:M17) -> 87 | Q17: =AVERAGE(O17:P17) -> #DIV/0! | S17: 84 | T17: =AVERAGE(R17:S17) -> 84 | W17: =AVERAGE(U17:V17) -> #DIV/0! | Y17: 92 | Z17: =AVERAGE(X17:Y17) -> 92 | AB17: 84 | AC17: =AVERAGE(AA17:AB17) -> 84 | AE17: 90 | AF17: =AVERAGE(AD17:AE17) -> 90 | AH17: 81 | AI17: =AVERAGE(AG17:AH17) -> 81 | AK17: 87.5 | AL17: =AVERAGE(AJ17:AK17) -> 87.5 | AO17: =AVERAGE(AM17:AN17) -> #DIV/0! | AQ17: 88.5 | AR17: =AVERAGE(AP17:AQ17) -> 88.5 | AU17: =AVERAGE(AS17:AT17) -> #DIV/0! | AW17: 83 | AX17: =AVERAGE(AV17:AW17) -> 83
A18: 12 | B18: MUHAMMAD ABDI SASONGKO | D18: 84.25 | E18: =AVERAGE(C18:D18) -> 84.25 | H18: =AVERAGE(F18:G18) -> #DIV/0! | K18: =AVERAGE(I18:J18) -> #DIV/0! | M18: 80.5 | N18: =AVERAGE(L18:M18) -> 80.5 | Q18: =AVERAGE(O18:P18) -> #DIV/0! | S18: 80 | T18: =AVERAGE(R18:S18) -> 80 | W18: =AVERAGE(U18:V18) -> #DIV/0! | Y18: 81.25 | Z18: =AVERAGE(X18:Y18) -> 81.25 | AB18: 80 | AC18: =AVERAGE(AA18:AB18) -> 80 | AE18: 90 | AF18: =AVERAGE(AD18:AE18) -> 90 | AH18: 78.5 | AI18: =AVERAGE(AG18:AH18) -> 78.5 | AK18: 80.5 | AL18: =AVERAGE(AJ18:AK18) -> 80.5 | AO18: =AVERAGE(AM18:AN18) -> #DIV/0! | AQ18: 83.5 | AR18: =AVERAGE(AP18:AQ18) -> 83.5 | AU18: =AVERAGE(AS18:AT18) -> #DIV/0! | AW18: 80.5 | AX18: =AVERAGE(AV18:AW18) -> 80.5
... A51: 45 | B51: TRI MULIA SAPUTRA | D51: 94.5 | E51: =AVERAGE(C51:D51) -> 94.5 | H51: =AVERAGE(F51:G51) -> #DIV/0! | K51: =AVERAGE(I51:J51) -> #DIV/0! | M51: 83.75 | N51: =AVERAGE(L51:M51) -> 83.75 | Q51: =AVERAGE(O51:P51) -> #DIV/0! | S51: 85 | T51: =AVERAGE(R51:S51) -> 85 | W51: =AVERAGE(U51:V51) -> #DIV/0! | Y51: 86.25 | Z51: =AVERAGE(X51:Y51) -> 86.25 | AB51: 76.5 | AC51: =AVERAGE(AA51:AB51) -> 76.5 | AE51: 88.75 | AF51: =AVERAGE(AD51:AE51) -> 88.75 | AH51: 83.75 | AI51: =AVERAGE(AG51:AH51) -> 83.75 | AK51: 80 | AL51: =AVERAGE(AJ51:AK51) -> 80 | AO51: =AVERAGE(AM51:AN51) -> #DIV/0! | AQ51: 89.75 | AR51: =AVERAGE(AP51:AQ51) -> 89.75 | AU51: =AVERAGE(AS51:AT51) -> #DIV/0! | AW51: 90 | AX51: =AVERAGE(AV51:AW51) -> 90

Sheet Nilai Rata rata
C2: Nilai Rata-Rata Raport | V2: Nilai Rata - Rata Ujian
A4: NO | B4: NAMA | C4: PAI (Fiqih) | D4: SKI | E4: PKN | F4: INDONESIA | G4: MTK | H4: IPA | I4: IPS | J4: INGGRIS | K4: SBK | L4: PJOK | M4: PRAKARYA | N4: JAWA | O4: HADITS | P4: AQIDAH | Q4: ARAB | R4: ASWAJA | T4: Rata-Rata Agama (Fiqih, Ski, Alqur'an, Aqidah) | V4: PAI (Fiqih) | W4: SKI | X4: PKN | Y4: INDONESIA | Z4: MTK | AA4: IPA | AB4: IPS | AC4: INGGRIS | AD4: SBK | AE4: PJOK | AF4: PRAKARYA | AG4: JAWA | AH4: HADITS | AI4: AQIDAH | AJ4: ARAB | AK4: ASWAJA | AM4: Rata-Rata Agama (Fiqih, Ski, Alqur'an, Aqidah)
R5: Rata-Rata | T5: Rata-Rata | AK5: Rata-Rata | AM5: Rata-Rata
D6: Rata-Rata | E6: Rata-Rata | F6: Rata-Rata | G6: Rata-Rata | H6: Rata-Rata | I6: Rata-Rata | J6: Rata-Rata | K6: Rata-Rata | L6: Rata-Rata | M6: Rata-Rata | N6: Rata-Rata | O6: Rata-Rata | P6: Rata-Rata | Q6: Rata-Rata | W6: Rata-Rata | X6: Rata-Rata | Y6: Rata-Rata | Z6: Rata-Rata | AA6: Rata-Rata | AB6: Rata-Rata | AC6: Rata-Rata | AD6: Rata-Rata | AE6: Rata-Rata | AF6: Rata-Rata | AG6: Rata-Rata | AH6: Rata-Rata | AI6: Rata-Rata | AJ6: Rata-Rata
A7: 1 | B7: ABDUL KHAFIDZ ANSHORI | C7: ='Nilai Rapor 1-5 (Puluhan)'!N7 -> 89.8 | D7: ='Nilai Rapor 1-5 (Puluhan)'!V7 -> 89.8 | E7: ='Nilai Rapor 1-5 (Puluhan)'!AD7 -> 89.6 | F7: ='Nilai Rapor 1-5 (Puluhan)'!AL7 -> 77.8 | G7: ='Nilai Rapor 1-5 (Puluhan)'!AT7 -> 76.8 | H7: ='Nilai Rapor 1-5 (Puluhan)'!BB7 -> 76.8 | I7: ='Nilai Rapor 1-5 (Puluhan)'!BJ7 -> 80 | J7: ='Nilai Rapor 1-5 (Puluhan)'!BR7 -> 78.4 | K7: ='Nilai Rapor 1-5 (Puluhan)'!BZ7 -> #DIV/0! | L7: ='Nilai Rapor 1-5 (Puluhan)'!CH7 -> 83.8 | M7: ='Nilai Rapor 1-5 (Puluhan)'!CP7 -> 80.2 | N7: ='Nilai Rapor 1-5 (Puluhan)'!CX7 -> 77.4 | O7: ='Nilai Rapor 1-5 (Puluhan)'!DF7 -> 89.4 | P7: ='Nilai Rapor 1-5 (Puluhan)'!DN7 -> 89.6 | Q7: ='Nilai Rapor 1-5 (Puluhan)'!DV7 -> 74.8 | R7: ='Nilai Rapor 1-5 (Puluhan)'!ED7 -> 78.4 | T7: =AVERAGE(C7,D7,O7,P7) -> 89.65 | V7: ='Gabungan Nilai Ujian'!E7 -> 87.5 | W7: ='Gabungan Nilai Ujian'!H7 -> #DIV/0! | X7: ='Gabungan Nilai Ujian'!K7 -> #DIV/0! | Y7: ='Gabungan Nilai Ujian'!N7 -> 79.5 | Z7: ='Gabungan Nilai Ujian'!Q7 -> #DIV/0! | AA7: ='Gabungan Nilai Ujian'!T7 -> 80 | AB7: ='Gabungan Nilai Ujian'!W7 -> #DIV/0! | AC7: ='Gabungan Nilai Ujian'!Z7 -> 78.5 | AD7: ='Gabungan Nilai Ujian'!#REF! -> #REF! | AE7: ='Gabungan Nilai Ujian'!AC7 -> 80 | AF7: ='Gabungan Nilai Ujian'!AF7 -> 90 | AG7: ='Gabungan Nilai Ujian'!AI7 -> 79 | AH7: ='Gabungan Nilai Ujian'!AL7 -> 84.5 | AI7: ='Gabungan Nilai Ujian'!AO7 -> #DIV/0! | AJ7: ='Gabungan Nilai Ujian'!AR7 -> 85.25 | AK7: ='Gabungan Nilai Ujian'!AU7 -> #DIV/0! | AM7: =AVERAGE(V7,W7,AH7,AI7) -> #DIV/0!
A8: 2 | B8: AHMAD THORIK | C8: ='Nilai Rapor 1-5 (Puluhan)'!N8 -> 89 | D8: ='Nilai Rapor 1-5 (Puluhan)'!V8 -> 89.2 | E8: ='Nilai Rapor 1-5 (Puluhan)'!AD8 -> 88 | F8: ='Nilai Rapor 1-5 (Puluhan)'!AL8 -> 78.6 | G8: ='Nilai Rapor 1-5 (Puluhan)'!AT8 -> 76.8 | H8: ='Nilai Rapor 1-5 (Puluhan)'!BB8 -> 77.4 | I8: ='Nilai Rapor 1-5 (Puluhan)'!BJ8 -> 79.4 | J8: ='Nilai Rapor 1-5 (Puluhan)'!BR8 -> 78 | K8: ='Nilai Rapor 1-5 (Puluhan)'!BZ8 -> #DIV/0! | L8: ='Nilai Rapor 1-5 (Puluhan)'!CH8 -> 86 | M8: ='Nilai Rapor 1-5 (Puluhan)'!CP8 -> 80.2 | N8: ='Nilai Rapor 1-5 (Puluhan)'!CX8 -> 76 | O8: ='Nilai Rapor 1-5 (Puluhan)'!DF8 -> 87.8 | P8: ='Nilai Rapor 1-5 (Puluhan)'!DN8 -> 87.8 | Q8: ='Nilai Rapor 1-5 (Puluhan)'!DV8 -> 75.4 | R8: ='Nilai Rapor 1-5 (Puluhan)'!ED8 -> 78 | T8: =AVERAGE(C8,D8,O8,P8) -> 88.45 | V8: ='Gabungan Nilai Ujian'!E8 -> 86 | W8: ='Gabungan Nilai Ujian'!H8 -> #DIV/0! | X8: ='Gabungan Nilai Ujian'!K8 -> #DIV/0! | Y8: ='Gabungan Nilai Ujian'!N8 -> 79.5 | Z8: ='Gabungan Nilai Ujian'!Q8 -> #DIV/0! | AA8: ='Gabungan Nilai Ujian'!T8 -> 81 | AB8: ='Gabungan Nilai Ujian'!W8 -> #DIV/0! | AC8: ='Gabungan Nilai Ujian'!Z8 -> 77.5 | AD8: ='Gabungan Nilai Ujian'!#REF! -> #REF! | AE8: ='Gabungan Nilai Ujian'!AC8 -> 81 | AF8: ='Gabungan Nilai Ujian'!AF8 -> 88.75 | AG8: ='Gabungan Nilai Ujian'!AI8 -> 79 | AH8: ='Gabungan Nilai Ujian'!AL8 -> 76 | AI8: ='Gabungan Nilai Ujian'!AO8 -> #DIV/0! | AJ8: ='Gabungan Nilai Ujian'!AR8 -> 85.75 | AK8: ='Gabungan Nilai Ujian'!AU8 -> #DIV/0! | AM8: =AVERAGE(V8,W8,AH8,AI8) -> #DIV/0!
A9: 3 | B9: ANDISA NAILAL AUFA | C9: ='Nilai Rapor 1-5 (Puluhan)'!N9 -> 92.6 | D9: ='Nilai Rapor 1-5 (Puluhan)'!V9 -> 92.4 | E9: ='Nilai Rapor 1-5 (Puluhan)'!AD9 -> 93.2 | F9: ='Nilai Rapor 1-5 (Puluhan)'!AL9 -> 85.2 | G9: ='Nilai Rapor 1-5 (Puluhan)'!AT9 -> 82.4 | H9: ='Nilai Rapor 1-5 (Puluhan)'!BB9 -> 85 | I9: ='Nilai Rapor 1-5 (Puluhan)'!BJ9 -> 87.4 | J9: ='Nilai Rapor 1-5 (Puluhan)'!BR9 -> 85.2 | K9: ='Nilai Rapor 1-5 (Puluhan)'!BZ9 -> #DIV/0! | L9: ='Nilai Rapor 1-5 (Puluhan)'!CH9 -> 90.2 | M9: ='Nilai Rapor 1-5 (Puluhan)'!CP9 -> 86.4 | N9: ='Nilai Rapor 1-5 (Puluhan)'!CX9 -> 87.2 | O9: ='Nilai Rapor 1-5 (Puluhan)'!DF9 -> 91.8 | P9: ='Nilai Rapor 1-5 (Puluhan)'!DN9 -> 91.2 | Q9: ='Nilai Rapor 1-5 (Puluhan)'!DV9 -> 76.6 | R9: ='Nilai Rapor 1-5 (Puluhan)'!ED9 -> 87 | T9: =AVERAGE(C9,D9,O9,P9) -> 92 | V9: ='Gabungan Nilai Ujian'!E9 -> 92.25 | W9: ='Gabungan Nilai Ujian'!H9 -> #DIV/0! | X9: ='Gabungan Nilai Ujian'!K9 -> #DIV/0! | Y9: ='Gabungan Nilai Ujian'!N9 -> 92.5 | Z9: ='Gabungan Nilai Ujian'!Q9 -> #DIV/0! | AA9: ='Gabungan Nilai Ujian'!T9 -> 86 | AB9: ='Gabungan Nilai Ujian'!W9 -> #DIV/0! | AC9: ='Gabungan Nilai Ujian'!Z9 -> 83.25 | AD9: ='Gabungan Nilai Ujian'!#REF! -> #REF! | AE9: ='Gabungan Nilai Ujian'!AC9 -> 86 | AF9: ='Gabungan Nilai Ujian'!AF9 -> 90 | AG9: ='Gabungan Nilai Ujian'!AI9 -> 87 | AH9: ='Gabungan Nilai Ujian'!AL9 -> 91.25 | AI9: ='Gabungan Nilai Ujian'!AO9 -> #DIV/0! | AJ9: ='Gabungan Nilai Ujian'!AR9 -> 93 | AK9: ='Gabungan Nilai Ujian'!AU9 -> #DIV/0! | AM9: =AVERAGE(V9,W9,AH9,AI9) -> #DIV/0!
A10: 4 | B10: DINA RAHMADHADI | C10: ='Nilai Rapor 1-5 (Puluhan)'!N10 -> 93.2 | D10: ='Nilai Rapor 1-5 (Puluhan)'!V10 -> 92.2 | E10: ='Nilai Rapor 1-5 (Puluhan)'!AD10 -> 92.4 | F10: ='Nilai Rapor 1-5 (Puluhan)'!AL10 -> 83.6 | G10: ='Nilai Rapor 1-5 (Puluhan)'!AT10 -> 81.8 | H10: ='Nilai Rapor 1-5 (Puluhan)'!BB10 -> 85.4 | I10: ='Nilai Rapor 1-5 (Puluhan)'!BJ10 -> 87 | J10: ='Nilai Rapor 1-5 (Puluhan)'!BR10 -> 86.6 | K10: ='Nilai Rapor 1-5 (Puluhan)'!BZ10 -> #DIV/0! | L10: ='Nilai Rapor 1-5 (Puluhan)'!CH10 -> 88.2 | M10: ='Nilai Rapor 1-5 (Puluhan)'!CP10 -> 84.4 | N10: ='Nilai Rapor 1-5 (Puluhan)'!CX10 -> 83.4 | O10: ='Nilai Rapor 1-5 (Puluhan)'!DF10 -> 91.8 | P10: ='Nilai Rapor 1-5 (Puluhan)'!DN10 -> 91.6 | Q10: ='Nilai Rapor 1-5 (Puluhan)'!DV10 -> 75.6 | R10: ='Nilai Rapor 1-5 (Puluhan)'!ED10 -> 84.4 | T10: =AVERAGE(C10,D10,O10,P10) -> 92.2 | V10: ='Gabungan Nilai Ujian'!E10 -> 90.5 | W10: ='Gabungan Nilai Ujian'!H10 -> #DIV/0! | X10: ='Gabungan Nilai Ujian'!K10 -> #DIV/0! | Y10: ='Gabungan Nilai Ujian'!N10 -> 91.25 | Z10: ='Gabungan Nilai Ujian'!Q10 -> #DIV/0! | AA10: ='Gabungan Nilai Ujian'!T10 -> 90 | AB10: ='Gabungan Nilai Ujian'!W10 -> #DIV/0! | AC10: ='Gabungan Nilai Ujian'!Z10 -> 81.5 | AD10: ='Gabungan Nilai Ujian'!#REF! -> #REF! | AE10: ='Gabungan Nilai Ujian'!AC10 -> 90 | AF10: ='Gabungan Nilai Ujian'!AF10 -> 88.75 | AG10: ='Gabungan Nilai Ujian'!AI10 -> 83 | AH10: ='Gabungan Nilai Ujian'!AL10 -> 91.25 | AI10: ='Gabungan Nilai Ujian'!AO10 -> #DIV/0! | AJ10: ='Gabungan Nilai Ujian'!AR10 -> 92.25 | AK10: ='Gabungan Nilai Ujian'!AU10 -> #DIV/0! | AM10: =AVERAGE(V10,W10,AH10,AI10) -> #DIV/0!
A11: 5 | B11: DIVA AYUNING TIYAS | C11: ='Nilai Rapor 1-5 (Puluhan)'!N11 -> 82.2 | D11: ='Nilai Rapor 1-5 (Puluhan)'!V11 -> 82.8 | E11: ='Nilai Rapor 1-5 (Puluhan)'!AD11 -> 79.8 | F11: ='Nilai Rapor 1-5 (Puluhan)'!AL11 -> 78.6 | G11: ='Nilai Rapor 1-5 (Puluhan)'!AT11 -> 77.6 | H11: ='Nilai Rapor 1-5 (Puluhan)'!BB11 -> 79 | I11: ='Nilai Rapor 1-5 (Puluhan)'!BJ11 -> 80.6 | J11: ='Nilai Rapor 1-5 (Puluhan)'!BR11 -> 79.2 | K11: ='Nilai Rapor 1-5 (Puluhan)'!BZ11 -> #DIV/0! | L11: ='Nilai Rapor 1-5 (Puluhan)'!CH11 -> 88.4 | M11: ='Nilai Rapor 1-5 (Puluhan)'!CP11 -> 81.4 | N11: ='Nilai Rapor 1-5 (Puluhan)'!CX11 -> 76.2 | O11: ='Nilai Rapor 1-5 (Puluhan)'!DF11 -> 82.6 | P11: ='Nilai Rapor 1-5 (Puluhan)'!DN11 -> 79.4 | Q11: ='Nilai Rapor 1-5 (Puluhan)'!DV11 -> 75.8 | R11: ='Nilai Rapor 1-5 (Puluhan)'!ED11 -> 82.8 | T11: =AVERAGE(C11,D11,O11,P11) -> 81.75 | V11: ='Gabungan Nilai Ujian'!E11 -> 87 | W11: ='Gabungan Nilai Ujian'!H11 -> #DIV/0! | X11: ='Gabungan Nilai Ujian'!K11 -> #DIV/0! | Y11: ='Gabungan Nilai Ujian'!N11 -> 83.75 | Z11: ='Gabungan Nilai Ujian'!Q11 -> #DIV/0! | AA11: ='Gabungan Nilai Ujian'!T11 -> 84 | AB11: ='Gabungan Nilai Ujian'!W11 -> #DIV/0! | AC11: ='Gabungan Nilai Ujian'!Z11 -> 78 | AD11: ='Gabungan Nilai Ujian'!#REF! -> #REF! | AE11: ='Gabungan Nilai Ujian'!AC11 -> 84 | AF11: ='Gabungan Nilai Ujian'!AF11 -> 88.75 | AG11: ='Gabungan Nilai Ujian'!AI11 -> 81 | AH11: ='Gabungan Nilai Ujian'!AL11 -> 85.5 | AI11: ='Gabungan Nilai Ujian'!AO11 -> #DIV/0! | AJ11: ='Gabungan Nilai Ujian'!AR11 -> 86.5 | AK11: ='Gabungan Nilai Ujian'!AU11 -> #DIV/0! | AM11: =AVERAGE(V11,W11,AH11,AI11) -> #DIV/0!
A12: 6 | B12: HERI PRASETYO | C12: ='Nilai Rapor 1-5 (Puluhan)'!N12 -> 94.6 | D12: ='Nilai Rapor 1-5 (Puluhan)'!V12 -> 94.2 | E12: ='Nilai Rapor 1-5 (Puluhan)'!AD12 -> 94.4 | F12: ='Nilai Rapor 1-5 (Puluhan)'!AL12 -> 88.2 | G12: ='Nilai Rapor 1-5 (Puluhan)'!AT12 -> 83.6 | H12: ='Nilai Rapor 1-5 (Puluhan)'!BB12 -> 89 | I12: ='Nilai Rapor 1-5 (Puluhan)'!BJ12 -> 92.6 | J12: ='Nilai Rapor 1-5 (Puluhan)'!BR12 -> 87.6 | K12: ='Nilai Rapor 1-5 (Puluhan)'!BZ12 -> #DIV/0! | L12: ='Nilai Rapor 1-5 (Puluhan)'!CH12 -> 93.2 | M12: ='Nilai Rapor 1-5 (Puluhan)'!CP12 -> 84.4 | N12: ='Nilai Rapor 1-5 (Puluhan)'!CX12 -> 87.8 | O12: ='Nilai Rapor 1-5 (Puluhan)'!DF12 -> 94.8 | P12: ='Nilai Rapor 1-5 (Puluhan)'!DN12 -> 94 | Q12: ='Nilai Rapor 1-5 (Puluhan)'!DV12 -> 78.8 | R12: ='Nilai Rapor 1-5 (Puluhan)'!ED12 -> 91.6 | T12: =AVERAGE(C12,D12,O12,P12) -> 94.4 | V12: ='Gabungan Nilai Ujian'!E12 -> 95.25 | W12: ='Gabungan Nilai Ujian'!H12 -> #DIV/0! | X12: ='Gabungan Nilai Ujian'!K12 -> #DIV/0! | Y12: ='Gabungan Nilai Ujian'!N12 -> 88.75 | Z12: ='Gabungan Nilai Ujian'!Q12 -> #DIV/0! | AA12: ='Gabungan Nilai Ujian'!T12 -> 91 | AB12: ='Gabungan Nilai Ujian'!W12 -> #DIV/0! | AC12: ='Gabungan Nilai Ujian'!Z12 -> 93.75 | AD12: ='Gabungan Nilai Ujian'!#REF! -> #REF! | AE12: ='Gabungan Nilai Ujian'!AC12 -> 91 | AF12: ='Gabungan Nilai Ujian'!AF12 -> 88.75 | AG12: ='Gabungan Nilai Ujian'!AI12 -> 86 | AH12: ='Gabungan Nilai Ujian'!AL12 -> 93.5 | AI12: ='Gabungan Nilai Ujian'!AO12 -> #DIV/0! | AJ12: ='Gabungan Nilai Ujian'!AR12 -> 94.5 | AK12: ='Gabungan Nilai Ujian'!AU12 -> #DIV/0! | AM12: =AVERAGE(V12,W12,AH12,AI12) -> #DIV/0!
A13: 7 | B13: KAMILA RAMADHANI | C13: ='Nilai Rapor 1-5 (Puluhan)'!N13 -> 86.4 | D13: ='Nilai Rapor 1-5 (Puluhan)'!V13 -> 84.2 | E13: ='Nilai Rapor 1-5 (Puluhan)'!AD13 -> 81.8 | F13: ='Nilai Rapor 1-5 (Puluhan)'!AL13 -> 79.2 | G13: ='Nilai Rapor 1-5 (Puluhan)'!AT13 -> 79 | H13: ='Nilai Rapor 1-5 (Puluhan)'!BB13 -> 79.8 | I13: ='Nilai Rapor 1-5 (Puluhan)'!BJ13 -> 81.6 | J13: ='Nilai Rapor 1-5 (Puluhan)'!BR13 -> 80.2 | K13: ='Nilai Rapor 1-5 (Puluhan)'!BZ13 -> #DIV/0! | L13: ='Nilai Rapor 1-5 (Puluhan)'!CH13 -> 88.4 | M13: ='Nilai Rapor 1-5 (Puluhan)'!CP13 -> 83 | N13: ='Nilai Rapor 1-5 (Puluhan)'!CX13 -> 76.6 | O13: ='Nilai Rapor 1-5 (Puluhan)'!DF13 -> 85 | P13: ='Nilai Rapor 1-5 (Puluhan)'!DN13 -> 82.8 | Q13: ='Nilai Rapor 1-5 (Puluhan)'!DV13 -> 75.6 | R13: ='Nilai Rapor 1-5 (Puluhan)'!ED13 -> 85 | T13: =AVERAGE(C13,D13,O13,P13) -> 84.6 | V13: ='Gabungan Nilai Ujian'!E13 -> 94 | W13: ='Gabungan Nilai Ujian'!H13 -> #DIV/0! | X13: ='Gabungan Nilai Ujian'!K13 -> #DIV/0! | Y13: ='Gabungan Nilai Ujian'!N13 -> 85 | Z13: ='Gabungan Nilai Ujian'!Q13 -> #DIV/0! | AA13: ='Gabungan Nilai Ujian'!T13 -> 86 | AB13: ='Gabungan Nilai Ujian'!W13 -> #DIV/0! | AC13: ='Gabungan Nilai Ujian'!Z13 -> 80 | AD13: ='Gabungan Nilai Ujian'!#REF! -> #REF! | AE13: ='Gabungan Nilai Ujian'!AC13 -> 86 | AF13: ='Gabungan Nilai Ujian'!AF13 -> 88.75 | AG13: ='Gabungan Nilai Ujian'!AI13 -> 81 | AH13: ='Gabungan Nilai Ujian'!AL13 -> 88 | AI13: ='Gabungan Nilai Ujian'!AO13 -> #DIV/0! | AJ13: ='Gabungan Nilai Ujian'!AR13 -> 93 | AK13: ='Gabungan Nilai Ujian'!AU13 -> #DIV/0! | AM13: =AVERAGE(V13,W13,AH13,AI13) -> #DIV/0!
A14: 8 | B14: LUTFI ANDANI | C14: ='Nilai Rapor 1-5 (Puluhan)'!N14 -> 80.8 | D14: ='Nilai Rapor 1-5 (Puluhan)'!V14 -> 79.6 | E14: ='Nilai Rapor 1-5 (Puluhan)'!AD14 -> 79.8 | F14: ='Nilai Rapor 1-5 (Puluhan)'!AL14 -> 77.8 | G14: ='Nilai Rapor 1-5 (Puluhan)'!AT14 -> 77.4 | H14: ='Nilai Rapor 1-5 (Puluhan)'!BB14 -> 77.4 | I14: ='Nilai Rapor 1-5 (Puluhan)'!BJ14 -> 79.4 | J14: ='Nilai Rapor 1-5 (Puluhan)'!BR14 -> 77.2 | K14: ='Nilai Rapor 1-5 (Puluhan)'!BZ14 -> #DIV/0! | L14: ='Nilai Rapor 1-5 (Puluhan)'!CH14 -> 85.6 | M14: ='Nilai Rapor 1-5 (Puluhan)'!CP14 -> 80 | N14: ='Nilai Rapor 1-5 (Puluhan)'!CX14 -> 75.6 | O14: ='Nilai Rapor 1-5 (Puluhan)'!DF14 -> 80.2 | P14: ='Nilai Rapor 1-5 (Puluhan)'!DN14 -> 77.6 | Q14: ='Nilai Rapor 1-5 (Puluhan)'!DV14 -> 75 | R14: ='Nilai Rapor 1-5 (Puluhan)'!ED14 -> 79.6 | T14: =AVERAGE(C14,D14,O14,P14) -> 79.55 | V14: ='Gabungan Nilai Ujian'!E14 -> 85 | W14: ='Gabungan Nilai Ujian'!H14 -> #DIV/0! | X14: ='Gabungan Nilai Ujian'!K14 -> #DIV/0! | Y14: ='Gabungan Nilai Ujian'!N14 -> 81.5 | Z14: ='Gabungan Nilai Ujian'!Q14 -> #DIV/0! | AA14: ='Gabungan Nilai Ujian'!T14 -> 78 | AB14: ='Gabungan Nilai Ujian'!W14 -> #DIV/0! | AC14: ='Gabungan Nilai Ujian'!Z14 -> 79.75 | AD14: ='Gabungan Nilai Ujian'!#REF! -> #REF! | AE14: ='Gabungan Nilai Ujian'!AC14 -> 78 | AF14: ='Gabungan Nilai Ujian'!AF14 -> 88.75 | AG14: ='Gabungan Nilai Ujian'!AI14 -> 79 | AH14: ='Gabungan Nilai Ujian'!AL14 -> 77.5 | AI14: ='Gabungan Nilai Ujian'!AO14 -> #DIV/0! | AJ14: ='Gabungan Nilai Ujian'!AR14 -> 83 | AK14: ='Gabungan Nilai Ujian'!AU14 -> #DIV/0! | AM14: =AVERAGE(V14,W14,AH14,AI14) -> #DIV/0!
A15: 9 | B15: M. ARI ILHAM | C15: ='Nilai Rapor 1-5 (Puluhan)'!N15 -> 91.6 | D15: ='Nilai Rapor 1-5 (Puluhan)'!V15 -> 90.6 | E15: ='Nilai Rapor 1-5 (Puluhan)'!AD15 -> 90.4 | F15: ='Nilai Rapor 1-5 (Puluhan)'!AL15 -> 78.8 | G15: ='Nilai Rapor 1-5 (Puluhan)'!AT15 -> 78 | H15: ='Nilai Rapor 1-5 (Puluhan)'!BB15 -> 77 | I15: ='Nilai Rapor 1-5 (Puluhan)'!BJ15 -> 80.2 | J15: ='Nilai Rapor 1-5 (Puluhan)'!BR15 -> 77.8 | K15: ='Nilai Rapor 1-5 (Puluhan)'!BZ15 -> #DIV/0! | L15: ='Nilai Rapor 1-5 (Puluhan)'!CH15 -> 86.8 | M15: ='Nilai Rapor 1-5 (Puluhan)'!CP15 -> 80.8 | N15: ='Nilai Rapor 1-5 (Puluhan)'!CX15 -> 75.2 | O15: ='Nilai Rapor 1-5 (Puluhan)'!DF15 -> 89.8 | P15: ='Nilai Rapor 1-5 (Puluhan)'!DN15 -> 89.6 | Q15: ='Nilai Rapor 1-5 (Puluhan)'!DV15 -> 60.4 | R15: ='Nilai Rapor 1-5 (Puluhan)'!ED15 -> 79 | T15: =AVERAGE(C15,D15,O15,P15) -> 90.4 | V15: ='Gabungan Nilai Ujian'!E15 -> 86 | W15: ='Gabungan Nilai Ujian'!H15 -> #DIV/0! | X15: ='Gabungan Nilai Ujian'!K15 -> #DIV/0! | Y15: ='Gabungan Nilai Ujian'!N15 -> 80 | Z15: ='Gabungan Nilai Ujian'!Q15 -> #DIV/0! | AA15: ='Gabungan Nilai Ujian'!T15 -> 79 | AB15: ='Gabungan Nilai Ujian'!W15 -> #DIV/0! | AC15: ='Gabungan Nilai Ujian'!Z15 -> 80.25 | AD15: ='Gabungan Nilai Ujian'!#REF! -> #REF! | AE15: ='Gabungan Nilai Ujian'!AC15 -> 79 | AF15: ='Gabungan Nilai Ujian'!AF15 -> 90 | AG15: ='Gabungan Nilai Ujian'!AI15 -> 81 | AH15: ='Gabungan Nilai Ujian'!AL15 -> 80.5 | AI15: ='Gabungan Nilai Ujian'!AO15 -> #DIV/0! | AJ15: ='Gabungan Nilai Ujian'!AR15 -> 90.25 | AK15: ='Gabungan Nilai Ujian'!AU15 -> #DIV/0! | AM15: =AVERAGE(V15,W15,AH15,AI15) -> #DIV/0!
A16: 10 | B16: M. ZARIRUL FIKRI | C16: ='Nilai Rapor 1-5 (Puluhan)'!N16 -> 82.6 | D16: ='Nilai Rapor 1-5 (Puluhan)'!V16 -> 80.4 | E16: ='Nilai Rapor 1-5 (Puluhan)'!AD16 -> 82 | F16: ='Nilai Rapor 1-5 (Puluhan)'!AL16 -> 79 | G16: ='Nilai Rapor 1-5 (Puluhan)'!AT16 -> 77.6 | H16: ='Nilai Rapor 1-5 (Puluhan)'!BB16 -> 78.6 | I16: ='Nilai Rapor 1-5 (Puluhan)'!BJ16 -> 80.2 | J16: ='Nilai Rapor 1-5 (Puluhan)'!BR16 -> 78.8 | K16: ='Nilai Rapor 1-5 (Puluhan)'!BZ16 -> #DIV/0! | L16: ='Nilai Rapor 1-5 (Puluhan)'!CH16 -> 85 | M16: ='Nilai Rapor 1-5 (Puluhan)'!CP16 -> 81.8 | N16: ='Nilai Rapor 1-5 (Puluhan)'!CX16 -> 77.8 | O16: ='Nilai Rapor 1-5 (Puluhan)'!DF16 -> 80.2 | P16: ='Nilai Rapor 1-5 (Puluhan)'!DN16 -> 79.2 | Q16: ='Nilai Rapor 1-5 (Puluhan)'!DV16 -> 73 | R16: ='Nilai Rapor 1-5 (Puluhan)'!ED16 -> 81 | T16: =AVERAGE(C16,D16,O16,P16) -> 80.6 | V16: ='Gabungan Nilai Ujian'!E16 -> 91.25 | W16: ='Gabungan Nilai Ujian'!H16 -> #DIV/0! | X16: ='Gabungan Nilai Ujian'!K16 -> #DIV/0! | Y16: ='Gabungan Nilai Ujian'!N16 -> 81.5 | Z16: ='Gabungan Nilai Ujian'!Q16 -> #DIV/0! | AA16: ='Gabungan Nilai Ujian'!T16 -> 82 | AB16: ='Gabungan Nilai Ujian'!W16 -> #DIV/0! | AC16: ='Gabungan Nilai Ujian'!Z16 -> 81.75 | AD16: ='Gabungan Nilai Ujian'!#REF! -> #REF! | AE16: ='Gabungan Nilai Ujian'!AC16 -> 82 | AF16: ='Gabungan Nilai Ujian'!AF16 -> 81.5 | AG16: ='Gabungan Nilai Ujian'!AI16 -> 79 | AH16: ='Gabungan Nilai Ujian'!AL16 -> 82 | AI16: ='Gabungan Nilai Ujian'!AO16 -> #DIV/0! | AJ16: ='Gabungan Nilai Ujian'!AR16 -> 90.75 | AK16: ='Gabungan Nilai Ujian'!AU16 -> #DIV/0! | AM16: =AVERAGE(V16,W16,AH16,AI16) -> #DIV/0!
A17: 11 | B17: MAGHFIROTUL KARIMAH | C17: ='Nilai Rapor 1-5 (Puluhan)'!N17 -> 82.6 | D17: ='Nilai Rapor 1-5 (Puluhan)'!V17 -> 81.8 | E17: ='Nilai Rapor 1-5 (Puluhan)'!AD17 -> 81 | F17: ='Nilai Rapor 1-5 (Puluhan)'!AL17 -> 81.2 | G17: ='Nilai Rapor 1-5 (Puluhan)'!AT17 -> 77.2 | H17: ='Nilai Rapor 1-5 (Puluhan)'!BB17 -> 80.8 | I17: ='Nilai Rapor 1-5 (Puluhan)'!BJ17 -> 84 | J17: ='Nilai Rapor 1-5 (Puluhan)'!BR17 -> 86.6 | K17: ='Nilai Rapor 1-5 (Puluhan)'!BZ17 -> #DIV/0! | L17: ='Nilai Rapor 1-5 (Puluhan)'!CH17 -> 85.2 | M17: ='Nilai Rapor 1-5 (Puluhan)'!CP17 -> 82.2 | N17: ='Nilai Rapor 1-5 (Puluhan)'!CX17 -> 78.6 | O17: ='Nilai Rapor 1-5 (Puluhan)'!DF17 -> 85 | P17: ='Nilai Rapor 1-5 (Puluhan)'!DN17 -> 81.4 | Q17: ='Nilai Rapor 1-5 (Puluhan)'!DV17 -> 75.8 | R17: ='Nilai Rapor 1-5 (Puluhan)'!ED17 -> 80.4 | T17: =AVERAGE(C17,D17,O17,P17) -> 82.7 | V17: ='Gabungan Nilai Ujian'!E17 -> 86.25 | W17: ='Gabungan Nilai Ujian'!H17 -> #DIV/0! | X17: ='Gabungan Nilai Ujian'!K17 -> #DIV/0! | Y17: ='Gabungan Nilai Ujian'!N17 -> 87 | Z17: ='Gabungan Nilai Ujian'!Q17 -> #DIV/0! | AA17: ='Gabungan Nilai Ujian'!T17 -> 84 | AB17: ='Gabungan Nilai Ujian'!W17 -> #DIV/0! | AC17: ='Gabungan Nilai Ujian'!Z17 -> 92 | AD17: ='Gabungan Nilai Ujian'!#REF! -> #REF! | AE17: ='Gabungan Nilai Ujian'!AC17 -> 84 | AF17: ='Gabungan Nilai Ujian'!AF17 -> 90 | AG17: ='Gabungan Nilai Ujian'!AI17 -> 81 | AH17: ='Gabungan Nilai Ujian'!AL17 -> 87.5 | AI17: ='Gabungan Nilai Ujian'!AO17 -> #DIV/0! | AJ17: ='Gabungan Nilai Ujian'!AR17 -> 88.5 | AK17: ='Gabungan Nilai Ujian'!AU17 -> #DIV/0! | AM17: =AVERAGE(V17,W17,AH17,AI17) -> #DIV/0!
A18: 12 | B18: MUHAMMAD ABDI SASONGKO | C18: ='Nilai Rapor 1-5 (Puluhan)'!N18 -> 79.6 | D18: ='Nilai Rapor 1-5 (Puluhan)'!V18 -> 80.6 | E18: ='Nilai Rapor 1-5 (Puluhan)'!AD18 -> 78.2 | F18: ='Nilai Rapor 1-5 (Puluhan)'!AL18 -> 78 | G18: ='Nilai Rapor 1-5 (Puluhan)'!AT18 -> 77 | H18: ='Nilai Rapor 1-5 (Puluhan)'!BB18 -> 77.2 | I18: ='Nilai Rapor 1-5 (Puluhan)'!BJ18 -> 78 | J18: ='Nilai Rapor 1-5 (Puluhan)'!BR18 -> 77.8 | K18: ='Nilai Rapor 1-5 (Puluhan)'!BZ18 -> #DIV/0! | L18: ='Nilai Rapor 1-5 (Puluhan)'!CH18 -> 85.6 | M18: ='Nilai Rapor 1-5 (Puluhan)'!CP18 -> 80 | N18: ='Nilai Rapor 1-5 (Puluhan)'!CX18 -> 76.2 | O18: ='Nilai Rapor 1-5 (Puluhan)'!DF18 -> 79 | P18: ='Nilai Rapor 1-5 (Puluhan)'!DN18 -> 77.8 | Q18: ='Nilai Rapor 1-5 (Puluhan)'!DV18 -> 75.2 | R18: ='Nilai Rapor 1-5 (Puluhan)'!ED18 -> 79.2 | T18: =AVERAGE(C18,D18,O18,P18) -> 79.25 | V18: ='Gabungan Nilai Ujian'!E18 -> 84.25 | W18: ='Gabungan Nilai Ujian'!H18 -> #DIV/0! | X18: ='Gabungan Nilai Ujian'!K18 -> #DIV/0! | Y18: ='Gabungan Nilai Ujian'!N18 -> 80.5 | Z18: ='Gabungan Nilai Ujian'!Q18 -> #DIV/0! | AA18: ='Gabungan Nilai Ujian'!T18 -> 80 | AB18: ='Gabungan Nilai Ujian'!W18 -> #DIV/0! | AC18: ='Gabungan Nilai Ujian'!Z18 -> 81.25 | AD18: ='Gabungan Nilai Ujian'!#REF! -> #REF! | AE18: ='Gabungan Nilai Ujian'!AC18 -> 80 | AF18: ='Gabungan Nilai Ujian'!AF18 -> 90 | AG18: ='Gabungan Nilai Ujian'!AI18 -> 78.5 | AH18: ='Gabungan Nilai Ujian'!AL18 -> 80.5 | AI18: ='Gabungan Nilai Ujian'!AO18 -> #DIV/0! | AJ18: ='Gabungan Nilai Ujian'!AR18 -> 83.5 | AK18: ='Gabungan Nilai Ujian'!AU18 -> #DIV/0! | AM18: =AVERAGE(V18,W18,AH18,AI18) -> #DIV/0!
... A51: 45 | B51: TRI MULIA SAPUTRA | C51: ='Nilai Rapor 1-5 (Puluhan)'!N51 -> 92.2 | D51: ='Nilai Rapor 1-5 (Puluhan)'!V51 -> 92.2 | E51: ='Nilai Rapor 1-5 (Puluhan)'!AD51 -> 91.6 | F51: ='Nilai Rapor 1-5 (Puluhan)'!AL51 -> 88.2 | G51: ='Nilai Rapor 1-5 (Puluhan)'!AT51 -> 85.8 | H51: ='Nilai Rapor 1-5 (Puluhan)'!BB51 -> 87.8 | I51: ='Nilai Rapor 1-5 (Puluhan)'!BJ51 -> 88.8 | J51: ='Nilai Rapor 1-5 (Puluhan)'!BR51 -> 86 | K51: ='Nilai Rapor 1-5 (Puluhan)'!BZ51 -> #DIV/0! | L51: ='Nilai Rapor 1-5 (Puluhan)'!CH51 -> 89.2 | M51: ='Nilai Rapor 1-5 (Puluhan)'!CP51 -> 85.2 | N51: ='Nilai Rapor 1-5 (Puluhan)'!CX51 -> 86.8 | O51: ='Nilai Rapor 1-5 (Puluhan)'!DF51 -> 92.2 | P51: ='Nilai Rapor 1-5 (Puluhan)'!DN51 -> 92.6 | Q51: ='Nilai Rapor 1-5 (Puluhan)'!DV51 -> 75 | R51: ='Nilai Rapor 1-5 (Puluhan)'!ED51 -> 90.6 | T51: =AVERAGE(C51,D51,O51,P51) -> 92.3 | V51: ='Gabungan Nilai Ujian'!E51 -> 94.5 | W51: ='Gabungan Nilai Ujian'!H51 -> #DIV/0! | X51: ='Gabungan Nilai Ujian'!K51 -> #DIV/0! | Y51: ='Gabungan Nilai Ujian'!N51 -> 83.75 | Z51: ='Gabungan Nilai Ujian'!Q51 -> #DIV/0! | AA51: ='Gabungan Nilai Ujian'!T51 -> 85 | AB51: ='Gabungan Nilai Ujian'!W51 -> #DIV/0! | AC51: ='Gabungan Nilai Ujian'!Z51 -> 86.25 | AD51: ='Gabungan Nilai Ujian'!#REF! -> #REF! | AE51: ='Gabungan Nilai Ujian'!AC51 -> 76.5 | AF51: ='Gabungan Nilai Ujian'!AF51 -> 88.75 | AG51: ='Gabungan Nilai Ujian'!AI51 -> 83.75 | AH51: ='Gabungan Nilai Ujian'!AL51 -> 80 | AI51: ='Gabungan Nilai Ujian'!AO51 -> #DIV/0! | AJ51: ='Gabungan Nilai Ujian'!AR51 -> 89.75 | AK51: ='Gabungan Nilai Ujian'!AU51 -> #DIV/0! | AM51: =AVERAGE(V51,W51,AH51,AI51) -> #DIV/0!

Sheet Nilai Ujian+Raport Persentase
A2: NILAI RATA-RATA RAPOR DAN UJIAN (IJAZAH)
E3: * | G3: * | H3: * | I3: * | J3: * | K3: * | L3: * | M3: * | P3: * | Q3: *
A4: NO | B4: NAMA | C4: PAI (Fiqih) | D4: SKI | E4: PKN | F4: INDONESIA | G4: MTK | H4: IPA | I4: IPS | J4: INGGRIS | K4: PJOK | L4: PRAKARYA | M4: JAWA | N4: HADITS | O4: AQIDAH | P4: ARAB | Q4: ASWAJA | R4: Jumlah | S4: Rata-rata | T4: Rangking | V4: RATA-RATA AGAMA
Q5: Rata-Rata | V5: Rata-Rata
D6: Rata-Rata | E6: Rata-Rata | F6: Rata-Rata | G6: Rata-Rata | H6: Rata-Rata | I6: Rata-Rata | J6: Rata-Rata | K6: Rata-Rata | L6: Rata-Rata | M6: Rata-Rata | N6: Rata-Rata | O6: Rata-Rata | P6: Rata-Rata
A7: 1 | B7: ABDUL KHAFIDZ ANSHORI | C7: =SUM('Nilai Rata rata'!C7*50%+'Nilai Rata rata'!V7*50%) -> 88.65 | D7: =SUM('Nilai Rata rata'!D7*50%+'Nilai Rata rata'!W7*50%) -> #DIV/0! | E7: =SUM('Nilai Rata rata'!E7*50%+'Nilai Rata rata'!X7*50%) -> #DIV/0! | F7: =SUM('Nilai Rata rata'!F7*50%+'Nilai Rata rata'!Y7*50%) -> 78.65 | G7: =SUM('Nilai Rata rata'!G7*50%+'Nilai Rata rata'!Z7*50%) -> #DIV/0! | H7: =SUM('Nilai Rata rata'!H7*50%+'Nilai Rata rata'!AA7*50%) -> 78.4 | I7: =SUM('Nilai Rata rata'!I7*50%+'Nilai Rata rata'!AB7*50%) -> #DIV/0! | J7: =SUM('Nilai Rata rata'!J7*50%+'Nilai Rata rata'!AC7*50%) -> 78.45 | K7: =SUM('Nilai Rata rata'!L7*50%+'Nilai Rata rata'!AE7*50%) -> 81.9 | L7: =SUM('Nilai Rata rata'!M7*50%+'Nilai Rata rata'!AF7*50%) -> 85.1 | M7: =SUM('Nilai Rata rata'!N7*50%+'Nilai Rata rata'!AG7*50%) -> 78.2 | N7: =SUM('Nilai Rata rata'!O7*50%+'Nilai Rata rata'!AH7*50%) -> 86.95 | O7: =SUM('Nilai Rata rata'!P7*50%+'Nilai Rata rata'!AI7*50%) -> #DIV/0! | P7: =SUM('Nilai Rata rata'!Q7*50%+'Nilai Rata rata'!AJ7*50%) -> 80.025 | Q7: =SUM('Nilai Rata rata'!R7*50%+'Nilai Rata rata'!AK7*50%) -> #DIV/0! | R7: =SUM(C7:Q7) -> #DIV/0! | S7: =AVERAGE(C7:Q7) -> #DIV/0! | T7: =RANK(S7,$S$7:$S$51) -> #DIV/0! | U7: =AVERAGE(V7,E7,F7,G7,H7,I7,J7,K7,L7,M7) -> #DIV/0! | V7: =SUM('Nilai Rata rata'!T7*50%+'Nilai Rata rata'!AM7*50%) -> #DIV/0!
A8: 2 | B8: AHMAD THORIK | C8: =SUM('Nilai Rata rata'!C8*50%+'Nilai Rata rata'!V8*50%) -> 87.5 | D8: =SUM('Nilai Rata rata'!D8*50%+'Nilai Rata rata'!W8*50%) -> #DIV/0! | E8: =SUM('Nilai Rata rata'!E8*50%+'Nilai Rata rata'!X8*50%) -> #DIV/0! | F8: =SUM('Nilai Rata rata'!F8*50%+'Nilai Rata rata'!Y8*50%) -> 79.05 | G8: =SUM('Nilai Rata rata'!G8*50%+'Nilai Rata rata'!Z8*50%) -> #DIV/0! | H8: =SUM('Nilai Rata rata'!H8*50%+'Nilai Rata rata'!AA8*50%) -> 79.2 | I8: =SUM('Nilai Rata rata'!I8*50%+'Nilai Rata rata'!AB8*50%) -> #DIV/0! | J8: =SUM('Nilai Rata rata'!J8*50%+'Nilai Rata rata'!AC8*50%) -> 77.75 | K8: =SUM('Nilai Rata rata'!L8*50%+'Nilai Rata rata'!AE8*50%) -> 83.5 | L8: =SUM('Nilai Rata rata'!M8*50%+'Nilai Rata rata'!AF8*50%) -> 84.475 | M8: =SUM('Nilai Rata rata'!N8*50%+'Nilai Rata rata'!AG8*50%) -> 77.5 | N8: =SUM('Nilai Rata rata'!O8*50%+'Nilai Rata rata'!AH8*50%) -> 81.9 | O8: =SUM('Nilai Rata rata'!P8*50%+'Nilai Rata rata'!AI8*50%) -> #DIV/0! | P8: =SUM('Nilai Rata rata'!Q8*50%+'Nilai Rata rata'!AJ8*50%) -> 80.575 | Q8: =SUM('Nilai Rata rata'!R8*50%+'Nilai Rata rata'!AK8*50%) -> #DIV/0! | R8: =SUM(C8:Q8) -> #DIV/0! | S8: =AVERAGE(C8:Q8) -> #DIV/0! | T8: =RANK(S8,$S$7:$S$51) -> #DIV/0! | U8: =AVERAGE(V8,E8,F8,G8,H8,I8,J8,#REF!,K8,L8,M8) -> #REF! | V8: =SUM('Nilai Rata rata'!T8*50%+'Nilai Rata rata'!AM8*50%) -> #DIV/0!
A9: 3 | B9: ANDISA NAILAL AUFA | C9: =SUM('Nilai Rata rata'!C9*50%+'Nilai Rata rata'!V9*50%) -> 92.425 | D9: =SUM('Nilai Rata rata'!D9*50%+'Nilai Rata rata'!W9*50%) -> #DIV/0! | E9: =SUM('Nilai Rata rata'!E9*50%+'Nilai Rata rata'!X9*50%) -> #DIV/0! | F9: =SUM('Nilai Rata rata'!F9*50%+'Nilai Rata rata'!Y9*50%) -> 88.85 | G9: =SUM('Nilai Rata rata'!G9*50%+'Nilai Rata rata'!Z9*50%) -> #DIV/0! | H9: =SUM('Nilai Rata rata'!H9*50%+'Nilai Rata rata'!AA9*50%) -> 85.5 | I9: =SUM('Nilai Rata rata'!I9*50%+'Nilai Rata rata'!AB9*50%) -> #DIV/0! | J9: =SUM('Nilai Rata rata'!J9*50%+'Nilai Rata rata'!AC9*50%) -> 84.225 | K9: =SUM('Nilai Rata rata'!L9*50%+'Nilai Rata rata'!AE9*50%) -> 88.1 | L9: =SUM('Nilai Rata rata'!M9*50%+'Nilai Rata rata'!AF9*50%) -> 88.2 | M9: =SUM('Nilai Rata rata'!N9*50%+'Nilai Rata rata'!AG9*50%) -> 87.1 | N9: =SUM('Nilai Rata rata'!O9*50%+'Nilai Rata rata'!AH9*50%) -> 91.525 | O9: =SUM('Nilai Rata rata'!P9*50%+'Nilai Rata rata'!AI9*50%) -> #DIV/0! | P9: =SUM('Nilai Rata rata'!Q9*50%+'Nilai Rata rata'!AJ9*50%) -> 84.8 | Q9: =SUM('Nilai Rata rata'!R9*50%+'Nilai Rata rata'!AK9*50%) -> #DIV/0! | R9: =SUM(C9:Q9) -> #DIV/0! | S9: =AVERAGE(C9:Q9) -> #DIV/0! | T9: =RANK(S9,$S$7:$S$51) -> #DIV/0! | U9: =AVERAGE(V9,E9,F9,G9,H9,I9,J9,#REF!,K9,L9,M9) -> #REF! | V9: =SUM('Nilai Rata rata'!T9*50%+'Nilai Rata rata'!AM9*50%) -> #DIV/0!
A10: 4 | B10: DINA RAHMADHADI | C10: =SUM('Nilai Rata rata'!C10*50%+'Nilai Rata rata'!V10*50%) -> 91.85 | D10: =SUM('Nilai Rata rata'!D10*50%+'Nilai Rata rata'!W10*50%) -> #DIV/0! | E10: =SUM('Nilai Rata rata'!E10*50%+'Nilai Rata rata'!X10*50%) -> #DIV/0! | F10: =SUM('Nilai Rata rata'!F10*50%+'Nilai Rata rata'!Y10*50%) -> 87.425 | G10: =SUM('Nilai Rata rata'!G10*50%+'Nilai Rata rata'!Z10*50%) -> #DIV/0! | H10: =SUM('Nilai Rata rata'!H10*50%+'Nilai Rata rata'!AA10*50%) -> 87.7 | I10: =SUM('Nilai Rata rata'!I10*50%+'Nilai Rata rata'!AB10*50%) -> #DIV/0! | J10: =SUM('Nilai Rata rata'!J10*50%+'Nilai Rata rata'!AC10*50%) -> 84.05 | K10: =SUM('Nilai Rata rata'!L10*50%+'Nilai Rata rata'!AE10*50%) -> 89.1 | L10: =SUM('Nilai Rata rata'!M10*50%+'Nilai Rata rata'!AF10*50%) -> 86.575 | M10: =SUM('Nilai Rata rata'!N10*50%+'Nilai Rata rata'!AG10*50%) -> 83.2 | N10: =SUM('Nilai Rata rata'!O10*50%+'Nilai Rata rata'!AH10*50%) -> 91.525 | O10: =SUM('Nilai Rata rata'!P10*50%+'Nilai Rata rata'!AI10*50%) -> #DIV/0! | P10: =SUM('Nilai Rata rata'!Q10*50%+'Nilai Rata rata'!AJ10*50%) -> 83.925 | Q10: =SUM('Nilai Rata rata'!R10*50%+'Nilai Rata rata'!AK10*50%) -> #DIV/0! | R10: =SUM(C10:Q10) -> #DIV/0! | S10: =AVERAGE(C10:Q10) -> #DIV/0! | T10: =RANK(S10,$S$7:$S$51) -> #DIV/0! | U10: =AVERAGE(V10,E10,F10,G10,H10,I10,J10,#REF!,K10,L10,M10) -> #REF! | V10: =SUM('Nilai Rata rata'!T10*50%+'Nilai Rata rata'!AM10*50%) -> #DIV/0!
A11: 5 | B11: DIVA AYUNING TIYAS | C11: =SUM('Nilai Rata rata'!C11*50%+'Nilai Rata rata'!V11*50%) -> 84.6 | D11: =SUM('Nilai Rata rata'!D11*50%+'Nilai Rata rata'!W11*50%) -> #DIV/0! | E11: =SUM('Nilai Rata rata'!E11*50%+'Nilai Rata rata'!X11*50%) -> #DIV/0! | F11: =SUM('Nilai Rata rata'!F11*50%+'Nilai Rata rata'!Y11*50%) -> 81.175 | G11: =SUM('Nilai Rata rata'!G11*50%+'Nilai Rata rata'!Z11*50%) -> #DIV/0! | H11: =SUM('Nilai Rata rata'!H11*50%+'Nilai Rata rata'!AA11*50%) -> 81.5 | I11: =SUM('Nilai Rata rata'!I11*50%+'Nilai Rata rata'!AB11*50%) -> #DIV/0! | J11: =SUM('Nilai Rata rata'!J11*50%+'Nilai Rata rata'!AC11*50%) -> 78.6 | K11: =SUM('Nilai Rata rata'!L11*50%+'Nilai Rata rata'!AE11*50%) -> 86.2 | L11: =SUM('Nilai Rata rata'!M11*50%+'Nilai Rata rata'!AF11*50%) -> 85.075 | M11: =SUM('Nilai Rata rata'!N11*50%+'Nilai Rata rata'!AG11*50%) -> 78.6 | N11: =SUM('Nilai Rata rata'!O11*50%+'Nilai Rata rata'!AH11*50%) -> 84.05 | O11: =SUM('Nilai Rata rata'!P11*50%+'Nilai Rata rata'!AI11*50%) -> #DIV/0! | P11: =SUM('Nilai Rata rata'!Q11*50%+'Nilai Rata rata'!AJ11*50%) -> 81.15 | Q11: =SUM('Nilai Rata rata'!R11*50%+'Nilai Rata rata'!AK11*50%) -> #DIV/0! | R11: =SUM(C11:Q11) -> #DIV/0! | S11: =AVERAGE(C11:Q11) -> #DIV/0! | T11: =RANK(S11,$S$7:$S$51) -> #DIV/0! | U11: =AVERAGE(V11,E11,F11,G11,H11,I11,J11,#REF!,K11,L11,M11) -> #REF! | V11: =SUM('Nilai Rata rata'!T11*50%+'Nilai Rata rata'!AM11*50%) -> #DIV/0!
A12: 6 | B12: HERI PRASETYO | C12: =SUM('Nilai Rata rata'!C12*50%+'Nilai Rata rata'!V12*50%) -> 94.925 | D12: =SUM('Nilai Rata rata'!D12*50%+'Nilai Rata rata'!W12*50%) -> #DIV/0! | E12: =SUM('Nilai Rata rata'!E12*50%+'Nilai Rata rata'!X12*50%) -> #DIV/0! | F12: =SUM('Nilai Rata rata'!F12*50%+'Nilai Rata rata'!Y12*50%) -> 88.475 | G12: =SUM('Nilai Rata rata'!G12*50%+'Nilai Rata rata'!Z12*50%) -> #DIV/0! | H12: =SUM('Nilai Rata rata'!H12*50%+'Nilai Rata rata'!AA12*50%) -> 90 | I12: =SUM('Nilai Rata rata'!I12*50%+'Nilai Rata rata'!AB12*50%) -> #DIV/0! | J12: =SUM('Nilai Rata rata'!J12*50%+'Nilai Rata rata'!AC12*50%) -> 90.675 | K12: =SUM('Nilai Rata rata'!L12*50%+'Nilai Rata rata'!AE12*50%) -> 92.1 | L12: =SUM('Nilai Rata rata'!M12*50%+'Nilai Rata rata'!AF12*50%) -> 86.575 | M12: =SUM('Nilai Rata rata'!N12*50%+'Nilai Rata rata'!AG12*50%) -> 86.9 | N12: =SUM('Nilai Rata rata'!O12*50%+'Nilai Rata rata'!AH12*50%) -> 94.15 | O12: =SUM('Nilai Rata rata'!P12*50%+'Nilai Rata rata'!AI12*50%) -> #DIV/0! | P12: =SUM('Nilai Rata rata'!Q12*50%+'Nilai Rata rata'!AJ12*50%) -> 86.65 | Q12: =SUM('Nilai Rata rata'!R12*50%+'Nilai Rata rata'!AK12*50%) -> #DIV/0! | R12: =SUM(C12:Q12) -> #DIV/0! | S12: =AVERAGE(C12:Q12) -> #DIV/0! | T12: =RANK(S12,$S$7:$S$51) -> #DIV/0! | U12: =AVERAGE(V12,E12,F12,G12,H12,I12,J12,#REF!,K12,L12,M12) -> #REF! | V12: =SUM('Nilai Rata rata'!T12*50%+'Nilai Rata rata'!AM12*50%) -> #DIV/0!
A13: 7 | B13: KAMILA RAMADHANI | C13: =SUM('Nilai Rata rata'!C13*50%+'Nilai Rata rata'!V13*50%) -> 90.2 | D13: =SUM('Nilai Rata rata'!D13*50%+'Nilai Rata rata'!W13*50%) -> #DIV/0! | E13: =SUM('Nilai Rata rata'!E13*50%+'Nilai Rata rata'!X13*50%) -> #DIV/0! | F13: =SUM('Nilai Rata rata'!F13*50%+'Nilai Rata rata'!Y13*50%) -> 82.1 | G13: =SUM('Nilai Rata rata'!G13*50%+'Nilai Rata rata'!Z13*50%) -> #DIV/0! | H13: =SUM('Nilai Rata rata'!H13*50%+'Nilai Rata rata'!AA13*50%) -> 82.9 | I13: =SUM('Nilai Rata rata'!I13*50%+'Nilai Rata rata'!AB13*50%) -> #DIV/0! | J13: =SUM('Nilai Rata rata'!J13*50%+'Nilai Rata rata'!AC13*50%) -> 80.1 | K13: =SUM('Nilai Rata rata'!L13*50%+'Nilai Rata rata'!AE13*50%) -> 87.2 | L13: =SUM('Nilai Rata rata'!M13*50%+'Nilai Rata rata'!AF13*50%) -> 85.875 | M13: =SUM('Nilai Rata rata'!N13*50%+'Nilai Rata rata'!AG13*50%) -> 78.8 | N13: =SUM('Nilai Rata rata'!O13*50%+'Nilai Rata rata'!AH13*50%) -> 86.5 | O13: =SUM('Nilai Rata rata'!P13*50%+'Nilai Rata rata'!AI13*50%) -> #DIV/0! | P13: =SUM('Nilai Rata rata'!Q13*50%+'Nilai Rata rata'!AJ13*50%) -> 84.3 | Q13: =SUM('Nilai Rata rata'!R13*50%+'Nilai Rata rata'!AK13*50%) -> #DIV/0! | R13: =SUM(C13:Q13) -> #DIV/0! | S13: =AVERAGE(C13:Q13) -> #DIV/0! | T13: =RANK(S13,$S$7:$S$51) -> #DIV/0! | U13: =AVERAGE(V13,E13,F13,G13,H13,I13,J13,#REF!,K13,L13,M13) -> #REF! | V13: =SUM('Nilai Rata rata'!T13*50%+'Nilai Rata rata'!AM13*50%) -> #DIV/0!
A14: 8 | B14: LUTFI ANDANI | C14: =SUM('Nilai Rata rata'!C14*50%+'Nilai Rata rata'!V14*50%) -> 82.9 | D14: =SUM('Nilai Rata rata'!D14*50%+'Nilai Rata rata'!W14*50%) -> #DIV/0! | E14: =SUM('Nilai Rata rata'!E14*50%+'Nilai Rata rata'!X14*50%) -> #DIV/0! | F14: =SUM('Nilai Rata rata'!F14*50%+'Nilai Rata rata'!Y14*50%) -> 79.65 | G14: =SUM('Nilai Rata rata'!G14*50%+'Nilai Rata rata'!Z14*50%) -> #DIV/0! | H14: =SUM('Nilai Rata rata'!H14*50%+'Nilai Rata rata'!AA14*50%) -> 77.7 | I14: =SUM('Nilai Rata rata'!I14*50%+'Nilai Rata rata'!AB14*50%) -> #DIV/0! | J14: =SUM('Nilai Rata rata'!J14*50%+'Nilai Rata rata'!AC14*50%) -> 78.475 | K14: =SUM('Nilai Rata rata'!L14*50%+'Nilai Rata rata'!AE14*50%) -> 81.8 | L14: =SUM('Nilai Rata rata'!M14*50%+'Nilai Rata rata'!AF14*50%) -> 84.375 | M14: =SUM('Nilai Rata rata'!N14*50%+'Nilai Rata rata'!AG14*50%) -> 77.3 | N14: =SUM('Nilai Rata rata'!O14*50%+'Nilai Rata rata'!AH14*50%) -> 78.85 | O14: =SUM('Nilai Rata rata'!P14*50%+'Nilai Rata rata'!AI14*50%) -> #DIV/0! | P14: =SUM('Nilai Rata rata'!Q14*50%+'Nilai Rata rata'!AJ14*50%) -> 79 | Q14: =SUM('Nilai Rata rata'!R14*50%+'Nilai Rata rata'!AK14*50%) -> #DIV/0! | R14: =SUM(C14:Q14) -> #DIV/0! | S14: =AVERAGE(C14:Q14) -> #DIV/0! | T14: =RANK(S14,$S$7:$S$51) -> #DIV/0! | U14: =AVERAGE(V14,E14,F14,G14,H14,I14,J14,#REF!,K14,L14,M14) -> #REF! | V14: =SUM('Nilai Rata rata'!T14*50%+'Nilai Rata rata'!AM14*50%) -> #DIV/0!
A15: 9 | B15: M. ARI ILHAM | C15: =SUM('Nilai Rata rata'!C15*50%+'Nilai Rata rata'!V15*50%) -> 88.8 | D15: =SUM('Nilai Rata rata'!D15*50%+'Nilai Rata rata'!W15*50%) -> #DIV/0! | E15: =SUM('Nilai Rata rata'!E15*50%+'Nilai Rata rata'!X15*50%) -> #DIV/0! | F15: =SUM('Nilai Rata rata'!F15*50%+'Nilai Rata rata'!Y15*50%) -> 79.4 | G15: =SUM('Nilai Rata rata'!G15*50%+'Nilai Rata rata'!Z15*50%) -> #DIV/0! | H15: =SUM('Nilai Rata rata'!H15*50%+'Nilai Rata rata'!AA15*50%) -> 78 | I15: =SUM('Nilai Rata rata'!I15*50%+'Nilai Rata rata'!AB15*50%) -> #DIV/0! | J15: =SUM('Nilai Rata rata'!J15*50%+'Nilai Rata rata'!AC15*50%) -> 79.025 | K15: =SUM('Nilai Rata rata'!L15*50%+'Nilai Rata rata'!AE15*50%) -> 82.9 | L15: =SUM('Nilai Rata rata'!M15*50%+'Nilai Rata rata'!AF15*50%) -> 85.4 | M15: =SUM('Nilai Rata rata'!N15*50%+'Nilai Rata rata'!AG15*50%) -> 78.1 | N15: =SUM('Nilai Rata rata'!O15*50%+'Nilai Rata rata'!AH15*50%) -> 85.15 | O15: =SUM('Nilai Rata rata'!P15*50%+'Nilai Rata rata'!AI15*50%) -> #DIV/0! | P15: =SUM('Nilai Rata rata'!Q15*50%+'Nilai Rata rata'!AJ15*50%) -> 75.325 | Q15: =SUM('Nilai Rata rata'!R15*50%+'Nilai Rata rata'!AK15*50%) -> #DIV/0! | R15: =SUM(C15:Q15) -> #DIV/0! | S15: =AVERAGE(C15:Q15) -> #DIV/0! | T15: =RANK(S15,$S$7:$S$51) -> #DIV/0! | U15: =AVERAGE(V15,E15,F15,G15,H15,I15,J15,#REF!,K15,L15,M15) -> #REF! | V15: =SUM('Nilai Rata rata'!T15*50%+'Nilai Rata rata'!AM15*50%) -> #DIV/0!
A16: 10 | B16: M. ZARIRUL FIKRI | C16: =SUM('Nilai Rata rata'!C16*50%+'Nilai Rata rata'!V16*50%) -> 86.925 | D16: =SUM('Nilai Rata rata'!D16*50%+'Nilai Rata rata'!W16*50%) -> #DIV/0! | E16: =SUM('Nilai Rata rata'!E16*50%+'Nilai Rata rata'!X16*50%) -> #DIV/0! | F16: =SUM('Nilai Rata rata'!F16*50%+'Nilai Rata rata'!Y16*50%) -> 80.25 | G16: =SUM('Nilai Rata rata'!G16*50%+'Nilai Rata rata'!Z16*50%) -> #DIV/0! | H16: =SUM('Nilai Rata rata'!H16*50%+'Nilai Rata rata'!AA16*50%) -> 80.3 | I16: =SUM('Nilai Rata rata'!I16*50%+'Nilai Rata rata'!AB16*50%) -> #DIV/0! | J16: =SUM('Nilai Rata rata'!J16*50%+'Nilai Rata rata'!AC16*50%) -> 80.275 | K16: =SUM('Nilai Rata rata'!L16*50%+'Nilai Rata rata'!AE16*50%) -> 83.5 | L16: =SUM('Nilai Rata rata'!M16*50%+'Nilai Rata rata'!AF16*50%) -> 81.65 | M16: =SUM('Nilai Rata rata'!N16*50%+'Nilai Rata rata'!AG16*50%) -> 78.4 | N16: =SUM('Nilai Rata rata'!O16*50%+'Nilai Rata rata'!AH16*50%) -> 81.1 | O16: =SUM('Nilai Rata rata'!P16*50%+'Nilai Rata rata'!AI16*50%) -> #DIV/0! | P16: =SUM('Nilai Rata rata'!Q16*50%+'Nilai Rata rata'!AJ16*50%) -> 81.875 | Q16: =SUM('Nilai Rata rata'!R16*50%+'Nilai Rata rata'!AK16*50%) -> #DIV/0! | R16: =SUM(C16:Q16) -> #DIV/0! | S16: =AVERAGE(C16:Q16) -> #DIV/0! | T16: =RANK(S16,$S$7:$S$51) -> #DIV/0! | U16: =AVERAGE(V16,E16,F16,G16,H16,I16,J16,#REF!,K16,L16,M16) -> #REF! | V16: =SUM('Nilai Rata rata'!T16*50%+'Nilai Rata rata'!AM16*50%) -> #DIV/0!
A17: 11 | B17: MAGHFIROTUL KARIMAH | C17: =SUM('Nilai Rata rata'!C17*50%+'Nilai Rata rata'!V17*50%) -> 84.425 | D17: =SUM('Nilai Rata rata'!D17*50%+'Nilai Rata rata'!W17*50%) -> #DIV/0! | E17: =SUM('Nilai Rata rata'!E17*50%+'Nilai Rata rata'!X17*50%) -> #DIV/0! | F17: =SUM('Nilai Rata rata'!F17*50%+'Nilai Rata rata'!Y17*50%) -> 84.1 | G17: =SUM('Nilai Rata rata'!G17*50%+'Nilai Rata rata'!Z17*50%) -> #DIV/0! | H17: =SUM('Nilai Rata rata'!H17*50%+'Nilai Rata rata'!AA17*50%) -> 82.4 | I17: =SUM('Nilai Rata rata'!I17*50%+'Nilai Rata rata'!AB17*50%) -> #DIV/0! | J17: =SUM('Nilai Rata rata'!J17*50%+'Nilai Rata rata'!AC17*50%) -> 89.3 | K17: =SUM('Nilai Rata rata'!L17*50%+'Nilai Rata rata'!AE17*50%) -> 84.6 | L17: =SUM('Nilai Rata rata'!M17*50%+'Nilai Rata rata'!AF17*50%) -> 86.1 | M17: =SUM('Nilai Rata rata'!N17*50%+'Nilai Rata rata'!AG17*50%) -> 79.8 | N17: =SUM('Nilai Rata rata'!O17*50%+'Nilai Rata rata'!AH17*50%) -> 86.25 | O17: =SUM('Nilai Rata rata'!P17*50%+'Nilai Rata rata'!AI17*50%) -> #DIV/0! | P17: =SUM('Nilai Rata rata'!Q17*50%+'Nilai Rata rata'!AJ17*50%) -> 82.15 | Q17: =SUM('Nilai Rata rata'!R17*50%+'Nilai Rata rata'!AK17*50%) -> #DIV/0! | R17: =SUM(C17:Q17) -> #DIV/0! | S17: =AVERAGE(C17:Q17) -> #DIV/0! | T17: =RANK(S17,$S$7:$S$51) -> #DIV/0! | U17: =AVERAGE(V17,E17,F17,G17,H17,I17,J17,#REF!,K17,L17,M17) -> #REF! | V17: =SUM('Nilai Rata rata'!T17*50%+'Nilai Rata rata'!AM17*50%) -> #DIV/0!
A18: 12 | B18: MUHAMMAD ABDI SASONGKO | C18: =SUM('Nilai Rata rata'!C18*50%+'Nilai Rata rata'!V18*50%) -> 81.925 | D18: =SUM('Nilai Rata rata'!D18*50%+'Nilai Rata rata'!W18*50%) -> #DIV/0! | E18: =SUM('Nilai Rata rata'!E18*50%+'Nilai Rata rata'!X18*50%) -> #DIV/0! | F18: =SUM('Nilai Rata rata'!F18*50%+'Nilai Rata rata'!Y18*50%) -> 79.25 | G18: =SUM('Nilai Rata rata'!G18*50%+'Nilai Rata rata'!Z18*50%) -> #DIV/0! | H18: =SUM('Nilai Rata rata'!H18*50%+'Nilai Rata rata'!AA18*50%) -> 78.6 | I18: =SUM('Nilai Rata rata'!I18*50%+'Nilai Rata rata'!AB18*50%) -> #DIV/0! | J18: =SUM('Nilai Rata rata'!J18*50%+'Nilai Rata rata'!AC18*50%) -> 79.525 | K18: =SUM('Nilai Rata rata'!L18*50%+'Nilai Rata rata'!AE18*50%) -> 82.8 | L18: =SUM('Nilai Rata rata'!M18*50%+'Nilai Rata rata'!AF18*50%) -> 85 | M18: =SUM('Nilai Rata rata'!N18*50%+'Nilai Rata rata'!AG18*50%) -> 77.35 | N18: =SUM('Nilai Rata rata'!O18*50%+'Nilai Rata rata'!AH18*50%) -> 79.75 | O18: =SUM('Nilai Rata rata'!P18*50%+'Nilai Rata rata'!AI18*50%) -> #DIV/0! | P18: =SUM('Nilai Rata rata'!Q18*50%+'Nilai Rata rata'!AJ18*50%) -> 79.35 | Q18: =SUM('Nilai Rata rata'!R18*50%+'Nilai Rata rata'!AK18*50%) -> #DIV/0! | R18: =SUM(C18:Q18) -> #DIV/0! | S18: =AVERAGE(C18:Q18) -> #DIV/0! | T18: =RANK(S18,$S$7:$S$51) -> #DIV/0! | U18: =AVERAGE(V18,E18,F18,G18,H18,I18,J18,#REF!,K18,L18,M18) -> #REF! | V18: =SUM('Nilai Rata rata'!T18*50%+'Nilai Rata rata'!AM18*50%) -> #DIV/0!
A19: 13 | B19: MUHAMMMAD ARZA HENDRA IRAWAN | C19: =SUM('Nilai Rata rata'!C19*50%+'Nilai Rata rata'!V19*50%) -> 80.5 | D19: =SUM('Nilai Rata rata'!D19*50%+'Nilai Rata rata'!W19*50%) -> #DIV/0! | E19: =SUM('Nilai Rata rata'!E19*50%+'Nilai Rata rata'!X19*50%) -> #DIV/0! | F19: =SUM('Nilai Rata rata'!F19*50%+'Nilai Rata rata'!Y19*50%) -> 79.05 | G19: =SUM('Nilai Rata rata'!G19*50%+'Nilai Rata rata'!Z19*50%) -> #DIV/0! | H19: =SUM('Nilai Rata rata'!H19*50%+'Nilai Rata rata'!AA19*50%) -> 77.6 | I19: =SUM('Nilai Rata rata'!I19*50%+'Nilai Rata rata'!AB19*50%) -> #DIV/0! | J19: =SUM('Nilai Rata rata'!J19*50%+'Nilai Rata rata'!AC19*50%) -> 77.5 | K19: =SUM('Nilai Rata rata'!L19*50%+'Nilai Rata rata'!AE19*50%) -> 82.85 | L19: =SUM('Nilai Rata rata'!M19*50%+'Nilai Rata rata'!AF19*50%) -> 84.7 | M19: =SUM('Nilai Rata rata'!N19*50%+'Nilai Rata rata'!AG19*50%) -> 77.7 | N19: =SUM('Nilai Rata rata'!O19*50%+'Nilai Rata rata'!AH19*50%) -> 78.35 | O19: =SUM('Nilai Rata rata'!P19*50%+'Nilai Rata rata'!AI19*50%) -> #DIV/0! | P19: =SUM('Nilai Rata rata'!Q19*50%+'Nilai Rata rata'!AJ19*50%) -> 79.65 | Q19: =SUM('Nilai Rata rata'!R19*50%+'Nilai Rata rata'!AK19*50%) -> #DIV/0! | R19: =SUM(C19:Q19) -> #DIV/0! | S19: =AVERAGE(C19:Q19) -> #DIV/0! | T19: =RANK(S19,$S$7:$S$51) -> #DIV/0! | U19: =AVERAGE(V19,E19,F19,G19,H19,I19,J19,#REF!,K19,L19,M19) -> #REF! | V19: =SUM('Nilai Rata rata'!T19*50%+'Nilai Rata rata'!AM19*50%) -> #DIV/0!
... A26: 20 | B26: SITI ZAHRA | C26: =SUM('Nilai Rata rata'!C26*50%+'Nilai Rata rata'!V26*50%) -> 92.85 | D26: =SUM('Nilai Rata rata'!D26*50%+'Nilai Rata rata'!W26*50%) -> #DIV/0! | E26: =SUM('Nilai Rata rata'!E26*50%+'Nilai Rata rata'!X26*50%) -> #DIV/0! | F26: =SUM('Nilai Rata rata'!F26*50%+'Nilai Rata rata'!Y26*50%) -> 85.9 | G26: =SUM('Nilai Rata rata'!G26*50%+'Nilai Rata rata'!Z26*50%) -> #DIV/0! | H26: =SUM('Nilai Rata rata'!H26*50%+'Nilai Rata rata'!AA26*50%) -> 87.4 | I26: =SUM('Nilai Rata rata'!I26*50%+'Nilai Rata rata'!AB26*50%) -> #DIV/0! | J26: =SUM('Nilai Rata rata'!J26*50%+'Nilai Rata rata'!AC26*50%) -> 87.375 | K26: =SUM('Nilai Rata rata'!L26*50%+'Nilai Rata rata'!AE26*50%) -> 84.15 | L26: =SUM('Nilai Rata rata'!M26*50%+'Nilai Rata rata'!AF26*50%) -> 87.9 | M26: =SUM('Nilai Rata rata'!N26*50%+'Nilai Rata rata'!AG26*50%) -> 83.55 | N26: =SUM('Nilai Rata rata'!O26*50%+'Nilai Rata rata'!AH26*50%) -> 90.35 | O26: =SUM('Nilai Rata rata'!P26*50%+'Nilai Rata rata'!AI26*50%) -> #DIV/0! | P26: =SUM('Nilai Rata rata'!Q26*50%+'Nilai Rata rata'!AJ26*50%) -> 83.95 | Q26: =SUM('Nilai Rata rata'!R26*50%+'Nilai Rata rata'!AK26*50%) -> #DIV/0! | R26: =SUM(C26:Q26) -> #DIV/0! | S26: =AVERAGE(C26:Q26) -> #DIV/0! | T26: =RANK(S26,$S$7:$S$51) -> #DIV/0! | U26: =AVERAGE(V26,E26,F26,G26,H26,I26,J26,#REF!,K26,L26,M26) -> #REF! | V26: =SUM('Nilai Rata rata'!T26*50%+'Nilai Rata rata'!AM26*50%) -> #DIV/0!
A27: 21 | B27: SYAHRUL MAULANA MUKHAROM | C27: =SUM('Nilai Rata rata'!C27*50%+'Nilai Rata rata'!V27*50%) -> 88.85 | D27: =SUM('Nilai Rata rata'!D27*50%+'Nilai Rata rata'!W27*50%) -> #DIV/0! | E27: =SUM('Nilai Rata rata'!E27*50%+'Nilai Rata rata'!X27*50%) -> #DIV/0! | F27: =SUM('Nilai Rata rata'!F27*50%+'Nilai Rata rata'!Y27*50%) -> 79.25 | G27: =SUM('Nilai Rata rata'!G27*50%+'Nilai Rata rata'!Z27*50%) -> #DIV/0! | H27: =SUM('Nilai Rata rata'!H27*50%+'Nilai Rata rata'!AA27*50%) -> 78.8 | I27: =SUM('Nilai Rata rata'!I27*50%+'Nilai Rata rata'!AB27*50%) -> #DIV/0! | J27: =SUM('Nilai Rata rata'!J27*50%+'Nilai Rata rata'!AC27*50%) -> 77.65 | K27: =SUM('Nilai Rata rata'!L27*50%+'Nilai Rata rata'!AE27*50%) -> 80.3 | L27: =SUM('Nilai Rata rata'!M27*50%+'Nilai Rata rata'!AF27*50%) -> 85.3 | M27: =SUM('Nilai Rata rata'!N27*50%+'Nilai Rata rata'!AG27*50%) -> 80.4 | N27: =SUM('Nilai Rata rata'!O27*50%+'Nilai Rata rata'!AH27*50%) -> 83.3 | O27: =SUM('Nilai Rata rata'!P27*50%+'Nilai Rata rata'!AI27*50%) -> #DIV/0! | P27: =SUM('Nilai Rata rata'!Q27*50%+'Nilai Rata rata'!AJ27*50%) -> 85.35 | Q27: =SUM('Nilai Rata rata'!R27*50%+'Nilai Rata rata'!AK27*50%) -> #DIV/0! | R27: =SUM(C27:Q27) -> #DIV/0! | S27: =AVERAGE(C27:Q27) -> #DIV/0! | T27: =RANK(S27,$S$7:$S$51) -> #DIV/0! | V27: =SUM('Nilai Rata rata'!T27*50%+'Nilai Rata rata'!AM27*50%) -> #DIV/0!
A28: 22 | B28: MUHAMMAD HERU AKMAL | C28: =SUM('Nilai Rata rata'!C28*50%+'Nilai Rata rata'!V28*50%) -> 79.65 | D28: =SUM('Nilai Rata rata'!D28*50%+'Nilai Rata rata'!W28*50%) -> #DIV/0! | E28: =SUM('Nilai Rata rata'!E28*50%+'Nilai Rata rata'!X28*50%) -> #DIV/0! | F28: =SUM('Nilai Rata rata'!F28*50%+'Nilai Rata rata'!Y28*50%) -> 78.3 | G28: =SUM('Nilai Rata rata'!G28*50%+'Nilai Rata rata'!Z28*50%) -> #DIV/0! | H28: =SUM('Nilai Rata rata'!H28*50%+'Nilai Rata rata'!AA28*50%) -> 76.6 | I28: =SUM('Nilai Rata rata'!I28*50%+'Nilai Rata rata'!AB28*50%) -> #DIV/0! | J28: =SUM('Nilai Rata rata'!J28*50%+'Nilai Rata rata'!AC28*50%) -> 76.55 | K28: =SUM('Nilai Rata rata'!L28*50%+'Nilai Rata rata'!AE28*50%) -> 78.05 | L28: =SUM('Nilai Rata rata'!M28*50%+'Nilai Rata rata'!AF28*50%) -> 83.275 | M28: =SUM('Nilai Rata rata'!N28*50%+'Nilai Rata rata'!AG28*50%) -> 77.8 | N28: =SUM('Nilai Rata rata'!O28*50%+'Nilai Rata rata'!AH28*50%) -> 77.9 | O28: =SUM('Nilai Rata rata'!P28*50%+'Nilai Rata rata'!AI28*50%) -> #DIV/0! | P28: =SUM('Nilai Rata rata'!Q28*50%+'Nilai Rata rata'!AJ28*50%) -> 75.75 | Q28: =SUM('Nilai Rata rata'!R28*50%+'Nilai Rata rata'!AK28*50%) -> #DIV/0! | R28: =SUM(C28:Q28) -> #DIV/0! | S28: =AVERAGE(C28:Q28) -> #DIV/0! | T28: =RANK(S28,$S$7:$S$51) -> #DIV/0! | V28: =SUM('Nilai Rata rata'!T28*50%+'Nilai Rata rata'!AM28*50%) -> #DIV/0!
A29: 23 | B29: AGA ALBANI ZAMIR | C29: =SUM('Nilai Rata rata'!C29*50%+'Nilai Rata rata'!V29*50%) -> 89.65 | D29: =SUM('Nilai Rata rata'!D29*50%+'Nilai Rata rata'!W29*50%) -> #DIV/0! | E29: =SUM('Nilai Rata rata'!E29*50%+'Nilai Rata rata'!X29*50%) -> #DIV/0! | F29: =SUM('Nilai Rata rata'!F29*50%+'Nilai Rata rata'!Y29*50%) -> 80.05 | G29: =SUM('Nilai Rata rata'!G29*50%+'Nilai Rata rata'!Z29*50%) -> #DIV/0! | H29: =SUM('Nilai Rata rata'!H29*50%+'Nilai Rata rata'!AA29*50%) -> 82.1 | I29: =SUM('Nilai Rata rata'!I29*50%+'Nilai Rata rata'!AB29*50%) -> #DIV/0! | J29: =SUM('Nilai Rata rata'!J29*50%+'Nilai Rata rata'!AC29*50%) -> 80.95 | K29: =SUM('Nilai Rata rata'!L29*50%+'Nilai Rata rata'!AE29*50%) -> 81.3 | L29: =SUM('Nilai Rata rata'!M29*50%+'Nilai Rata rata'!AF29*50%) -> 82.075 | M29: =SUM('Nilai Rata rata'!N29*50%+'Nilai Rata rata'!AG29*50%) -> 78.55 | N29: =SUM('Nilai Rata rata'!O29*50%+'Nilai Rata rata'!AH29*50%) -> 88.95 | O29: =SUM('Nilai Rata rata'!P29*50%+'Nilai Rata rata'!AI29*50%) -> #DIV/0! | P29: =SUM('Nilai Rata rata'!Q29*50%+'Nilai Rata rata'!AJ29*50%) -> 79.75 | Q29: =SUM('Nilai Rata rata'!R29*50%+'Nilai Rata rata'!AK29*50%) -> #DIV/0! | R29: =SUM(C29:Q29) -> #DIV/0! | S29: =AVERAGE(C29:Q29) -> #DIV/0! | T29: =RANK(S29,$S$7:$S$51) -> #DIV/0! | V29: =SUM('Nilai Rata rata'!T29*50%+'Nilai Rata rata'!AM29*50%) -> #DIV/0!
A30: 24 | B30: AKBAR FIRLY MAULANA | C30: =SUM('Nilai Rata rata'!C30*50%+'Nilai Rata rata'!V30*50%) -> 82.35 | D30: =SUM('Nilai Rata rata'!D30*50%+'Nilai Rata rata'!W30*50%) -> #DIV/0! | E30: =SUM('Nilai Rata rata'!E30*50%+'Nilai Rata rata'!X30*50%) -> #DIV/0! | F30: =SUM('Nilai Rata rata'!F30*50%+'Nilai Rata rata'!Y30*50%) -> 79.15 | G30: =SUM('Nilai Rata rata'!G30*50%+'Nilai Rata rata'!Z30*50%) -> #DIV/0! | H30: =SUM('Nilai Rata rata'!H30*50%+'Nilai Rata rata'!AA30*50%) -> 80.4 | I30: =SUM('Nilai Rata rata'!I30*50%+'Nilai Rata rata'!AB30*50%) -> #DIV/0! | J30: =SUM('Nilai Rata rata'!J30*50%+'Nilai Rata rata'!AC30*50%) -> 78.525 | K30: =SUM('Nilai Rata rata'!L30*50%+'Nilai Rata rata'!AE30*50%) -> 81.1 | L30: =SUM('Nilai Rata rata'!M30*50%+'Nilai Rata rata'!AF30*50%) -> 82.075 | M30: =SUM('Nilai Rata rata'!N30*50%+'Nilai Rata rata'!AG30*50%) -> 78.1 | N30: =SUM('Nilai Rata rata'!O30*50%+'Nilai Rata rata'!AH30*50%) -> 79.125 | O30: =SUM('Nilai Rata rata'!P30*50%+'Nilai Rata rata'!AI30*50%) -> #DIV/0! | P30: =SUM('Nilai Rata rata'!Q30*50%+'Nilai Rata rata'!AJ30*50%) -> 79.175 | Q30: =SUM('Nilai Rata rata'!R30*50%+'Nilai Rata rata'!AK30*50%) -> #DIV/0! | R30: =SUM(C30:Q30) -> #DIV/0! | S30: =AVERAGE(C30:Q30) -> #DIV/0! | T30: =RANK(S30,$S$7:$S$51) -> #DIV/0! | V30: =SUM('Nilai Rata rata'!T30*50%+'Nilai Rata rata'!AM30*50%) -> #DIV/0!
A31: 25 | B31: ALVINO EWALDO | C31: =SUM('Nilai Rata rata'!C31*50%+'Nilai Rata rata'!V31*50%) -> 88.425 | D31: =SUM('Nilai Rata rata'!D31*50%+'Nilai Rata rata'!W31*50%) -> #DIV/0! | E31: =SUM('Nilai Rata rata'!E31*50%+'Nilai Rata rata'!X31*50%) -> #DIV/0! | F31: =SUM('Nilai Rata rata'!F31*50%+'Nilai Rata rata'!Y31*50%) -> 80.3 | G31: =SUM('Nilai Rata rata'!G31*50%+'Nilai Rata rata'!Z31*50%) -> #DIV/0! | H31: =SUM('Nilai Rata rata'!H31*50%+'Nilai Rata rata'!AA31*50%) -> 79.6 | I31: =SUM('Nilai Rata rata'!I31*50%+'Nilai Rata rata'!AB31*50%) -> #DIV/0! | J31: =SUM('Nilai Rata rata'!J31*50%+'Nilai Rata rata'!AC31*50%) -> 79.875 | K31: =SUM('Nilai Rata rata'!L31*50%+'Nilai Rata rata'!AE31*50%) -> 83.5 | L31: =SUM('Nilai Rata rata'!M31*50%+'Nilai Rata rata'!AF31*50%) -> 82.275 | M31: =SUM('Nilai Rata rata'!N31*50%+'Nilai Rata rata'!AG31*50%) -> 79 | N31: =SUM('Nilai Rata rata'!O31*50%+'Nilai Rata rata'!AH31*50%) -> 86.675 | O31: =SUM('Nilai Rata rata'!P31*50%+'Nilai Rata rata'!AI31*50%) -> #DIV/0! | P31: =SUM('Nilai Rata rata'!Q31*50%+'Nilai Rata rata'!AJ31*50%) -> 77.875 | Q31: =SUM('Nilai Rata rata'!R31*50%+'Nilai Rata rata'!AK31*50%) -> #DIV/0! | R31: =SUM(C31:Q31) -> #DIV/0! | S31: =AVERAGE(C31:Q31) -> #DIV/0! | T31: =RANK(S31,$S$7:$S$51) -> #DIV/0! | V31: =SUM('Nilai Rata rata'!T31*50%+'Nilai Rata rata'!AM31*50%) -> #DIV/0!
A32: 26 | B32: AURA SUCI RAMADHANI | C32: =SUM('Nilai Rata rata'!C32*50%+'Nilai Rata rata'!V32*50%) -> 90.425 | D32: =SUM('Nilai Rata rata'!D32*50%+'Nilai Rata rata'!W32*50%) -> #DIV/0! | E32: =SUM('Nilai Rata rata'!E32*50%+'Nilai Rata rata'!X32*50%) -> #DIV/0! | F32: =SUM('Nilai Rata rata'!F32*50%+'Nilai Rata rata'!Y32*50%) -> 82.7 | G32: =SUM('Nilai Rata rata'!G32*50%+'Nilai Rata rata'!Z32*50%) -> #DIV/0! | H32: =SUM('Nilai Rata rata'!H32*50%+'Nilai Rata rata'!AA32*50%) -> 83.3 | I32: =SUM('Nilai Rata rata'!I32*50%+'Nilai Rata rata'!AB32*50%) -> #DIV/0! | J32: =SUM('Nilai Rata rata'!J32*50%+'Nilai Rata rata'!AC32*50%) -> 84.85 | K32: =SUM('Nilai Rata rata'!L32*50%+'Nilai Rata rata'!AE32*50%) -> 84.25 | L32: =SUM('Nilai Rata rata'!M32*50%+'Nilai Rata rata'!AF32*50%) -> 83.975 | M32: =SUM('Nilai Rata rata'!N32*50%+'Nilai Rata rata'!AG32*50%) -> 80.3 | N32: =SUM('Nilai Rata rata'!O32*50%+'Nilai Rata rata'!AH32*50%) -> 91.475 | O32: =SUM('Nilai Rata rata'!P32*50%+'Nilai Rata rata'!AI32*50%) -> #DIV/0! | P32: =SUM('Nilai Rata rata'!Q32*50%+'Nilai Rata rata'!AJ32*50%) -> 82.575 | Q32: =SUM('Nilai Rata rata'!R32*50%+'Nilai Rata rata'!AK32*50%) -> #DIV/0! | R32: =SUM(C32:Q32) -> #DIV/0! | S32: =AVERAGE(C32:Q32) -> #DIV/0! | T32: =RANK(S32,$S$7:$S$51) -> #DIV/0! | V32: =SUM('Nilai Rata rata'!T32*50%+'Nilai Rata rata'!AM32*50%) -> #DIV/0!
A33: 27 | B33: AYU SAFNA | C33: =SUM('Nilai Rata rata'!C33*50%+'Nilai Rata rata'!V33*50%) -> 90 | D33: =SUM('Nilai Rata rata'!D33*50%+'Nilai Rata rata'!W33*50%) -> #DIV/0! | E33: =SUM('Nilai Rata rata'!E33*50%+'Nilai Rata rata'!X33*50%) -> #DIV/0! | F33: =SUM('Nilai Rata rata'!F33*50%+'Nilai Rata rata'!Y33*50%) -> 81.1 | G33: =SUM('Nilai Rata rata'!G33*50%+'Nilai Rata rata'!Z33*50%) -> #DIV/0! | H33: =SUM('Nilai Rata rata'!H33*50%+'Nilai Rata rata'!AA33*50%) -> 84.5 | I33: =SUM('Nilai Rata rata'!I33*50%+'Nilai Rata rata'!AB33*50%) -> #DIV/0! | J33: =SUM('Nilai Rata rata'!J33*50%+'Nilai Rata rata'!AC33*50%) -> 79.875 | K33: =SUM('Nilai Rata rata'!L33*50%+'Nilai Rata rata'!AE33*50%) -> 80.4 | L33: =SUM('Nilai Rata rata'!M33*50%+'Nilai Rata rata'!AF33*50%) -> 87.375 | M33: =SUM('Nilai Rata rata'!N33*50%+'Nilai Rata rata'!AG33*50%) -> 80.4 | N33: =SUM('Nilai Rata rata'!O33*50%+'Nilai Rata rata'!AH33*50%) -> 89.2 | O33: =SUM('Nilai Rata rata'!P33*50%+'Nilai Rata rata'!AI33*50%) -> #DIV/0! | P33: =SUM('Nilai Rata rata'!Q33*50%+'Nilai Rata rata'!AJ33*50%) -> 82.075 | Q33: =SUM('Nilai Rata rata'!R33*50%+'Nilai Rata rata'!AK33*50%) -> #DIV/0! | R33: =SUM(C33:Q33) -> #DIV/0! | S33: =AVERAGE(C33:Q33) -> #DIV/0! | T33: =RANK(S33,$S$7:$S$51) -> #DIV/0! | V33: =SUM('Nilai Rata rata'!T33*50%+'Nilai Rata rata'!AM33*50%) -> #DIV/0!
A34: 28 | B34: DEWI AYU NURHALIZA | C34: =SUM('Nilai Rata rata'!C34*50%+'Nilai Rata rata'!V34*50%) -> 91.325 | D34: =SUM('Nilai Rata rata'!D34*50%+'Nilai Rata rata'!W34*50%) -> #DIV/0! | E34: =SUM('Nilai Rata rata'!E34*50%+'Nilai Rata rata'!X34*50%) -> #DIV/0! | F34: =SUM('Nilai Rata rata'!F34*50%+'Nilai Rata rata'!Y34*50%) -> 80.8 | G34: =SUM('Nilai Rata rata'!G34*50%+'Nilai Rata rata'!Z34*50%) -> #DIV/0! | H34: =SUM('Nilai Rata rata'!H34*50%+'Nilai Rata rata'!AA34*50%) -> 81.5 | I34: =SUM('Nilai Rata rata'!I34*50%+'Nilai Rata rata'!AB34*50%) -> #DIV/0! | J34: =SUM('Nilai Rata rata'!J34*50%+'Nilai Rata rata'!AC34*50%) -> 79.225 | K34: =SUM('Nilai Rata rata'!L34*50%+'Nilai Rata rata'!AE34*50%) -> 83.2 | L34: =SUM('Nilai Rata rata'!M34*50%+'Nilai Rata rata'!AF34*50%) -> 82.775 | M34: =SUM('Nilai Rata rata'!N34*50%+'Nilai Rata rata'!AG34*50%) -> 79.5 | N34: =SUM('Nilai Rata rata'!O34*50%+'Nilai Rata rata'!AH34*50%) -> 91.725 | O34: =SUM('Nilai Rata rata'!P34*50%+'Nilai Rata rata'!AI34*50%) -> #DIV/0! | P34: =SUM('Nilai Rata rata'!Q34*50%+'Nilai Rata rata'!AJ34*50%) -> 82.975 | Q34: =SUM('Nilai Rata rata'!R34*50%+'Nilai Rata rata'!AK34*50%) -> #DIV/0! | R34: =SUM(C34:Q34) -> #DIV/0! | S34: =AVERAGE(C34:Q34) -> #DIV/0! | T34: =RANK(S34,$S$7:$S$51) -> #DIV/0! | V34: =SUM('Nilai Rata rata'!T34*50%+'Nilai Rata rata'!AM34*50%) -> #DIV/0!
A35: 29 | B35: FADLY ARYA PUTRA | C35: =SUM('Nilai Rata rata'!C35*50%+'Nilai Rata rata'!V35*50%) -> 86.775 | D35: =SUM('Nilai Rata rata'!D35*50%+'Nilai Rata rata'!W35*50%) -> #DIV/0! | E35: =SUM('Nilai Rata rata'!E35*50%+'Nilai Rata rata'!X35*50%) -> #DIV/0! | F35: =SUM('Nilai Rata rata'!F35*50%+'Nilai Rata rata'!Y35*50%) -> 79.6 | G35: =SUM('Nilai Rata rata'!G35*50%+'Nilai Rata rata'!Z35*50%) -> #DIV/0! | H35: =SUM('Nilai Rata rata'!H35*50%+'Nilai Rata rata'!AA35*50%) -> 78.6 | I35: =SUM('Nilai Rata rata'!I35*50%+'Nilai Rata rata'!AB35*50%) -> #DIV/0! | J35: =SUM('Nilai Rata rata'!J35*50%+'Nilai Rata rata'!AC35*50%) -> 78 | K35: =SUM('Nilai Rata rata'!L35*50%+'Nilai Rata rata'!AE35*50%) -> 82.3 | L35: =SUM('Nilai Rata rata'!M35*50%+'Nilai Rata rata'!AF35*50%) -> 86.575 | M35: =SUM('Nilai Rata rata'!N35*50%+'Nilai Rata rata'!AG35*50%) -> 79.45 | N35: =SUM('Nilai Rata rata'!O35*50%+'Nilai Rata rata'!AH35*50%) -> 86.35 | O35: =SUM('Nilai Rata rata'!P35*50%+'Nilai Rata rata'!AI35*50%) -> #DIV/0! | P35: =SUM('Nilai Rata rata'!Q35*50%+'Nilai Rata rata'!AJ35*50%) -> 77.1 | Q35: =SUM('Nilai Rata rata'!R35*50%+'Nilai Rata rata'!AK35*50%) -> #DIV/0! | R35: =SUM(C35:Q35) -> #DIV/0! | S35: =AVERAGE(C35:Q35) -> #DIV/0! | T35: =RANK(S35,$S$7:$S$51) -> #DIV/0! | V35: =SUM('Nilai Rata rata'!T35*50%+'Nilai Rata rata'!AM35*50%) -> #DIV/0!
A36: 30 | B36: ILHAM MAULANA | C36: =SUM('Nilai Rata rata'!C36*50%+'Nilai Rata rata'!V36*50%) -> 88.575 | D36: =SUM('Nilai Rata rata'!D36*50%+'Nilai Rata rata'!W36*50%) -> #DIV/0! | E36: =SUM('Nilai Rata rata'!E36*50%+'Nilai Rata rata'!X36*50%) -> #DIV/0! | F36: =SUM('Nilai Rata rata'!F36*50%+'Nilai Rata rata'!Y36*50%) -> 80.95 | G36: =SUM('Nilai Rata rata'!G36*50%+'Nilai Rata rata'!Z36*50%) -> #DIV/0! | H36: =SUM('Nilai Rata rata'!H36*50%+'Nilai Rata rata'!AA36*50%) -> 82 | I36: =SUM('Nilai Rata rata'!I36*50%+'Nilai Rata rata'!AB36*50%) -> #DIV/0! | J36: =SUM('Nilai Rata rata'!J36*50%+'Nilai Rata rata'!AC36*50%) -> 79.325 | K36: =SUM('Nilai Rata rata'!L36*50%+'Nilai Rata rata'!AE36*50%) -> 84.925 | L36: =SUM('Nilai Rata rata'!M36*50%+'Nilai Rata rata'!AF36*50%) -> 87.775 | M36: =SUM('Nilai Rata rata'!N36*50%+'Nilai Rata rata'!AG36*50%) -> 79.9 | N36: =SUM('Nilai Rata rata'!O36*50%+'Nilai Rata rata'!AH36*50%) -> 85.125 | O36: =SUM('Nilai Rata rata'!P36*50%+'Nilai Rata rata'!AI36*50%) -> #DIV/0! | P36: =SUM('Nilai Rata rata'!Q36*50%+'Nilai Rata rata'!AJ36*50%) -> 81 | Q36: =SUM('Nilai Rata rata'!R36*50%+'Nilai Rata rata'!AK36*50%) -> #DIV/0! | R36: =SUM(C36:Q36) -> #DIV/0! | S36: =AVERAGE(C36:Q36) -> #DIV/0! | T36: =RANK(S36,$S$7:$S$51) -> #DIV/0! | V36: =SUM('Nilai Rata rata'!T36*50%+'Nilai Rata rata'!AM36*50%) -> #DIV/0!
A37: 31 | B37: INDAH VIOLAFITRA | C37: =SUM('Nilai Rata rata'!C37*50%+'Nilai Rata rata'!V37*50%) -> 84.525 | D37: =SUM('Nilai Rata rata'!D37*50%+'Nilai Rata rata'!W37*50%) -> #DIV/0! | E37: =SUM('Nilai Rata rata'!E37*50%+'Nilai Rata rata'!X37*50%) -> #DIV/0! | F37: =SUM('Nilai Rata rata'!F37*50%+'Nilai Rata rata'!Y37*50%) -> 80.3 | G37: =SUM('Nilai Rata rata'!G37*50%+'Nilai Rata rata'!Z37*50%) -> #DIV/0! | H37: =SUM('Nilai Rata rata'!H37*50%+'Nilai Rata rata'!AA37*50%) -> 78.9 | I37: =SUM('Nilai Rata rata'!I37*50%+'Nilai Rata rata'!AB37*50%) -> #DIV/0! | J37: =SUM('Nilai Rata rata'!J37*50%+'Nilai Rata rata'!AC37*50%) -> 82.475 | K37: =SUM('Nilai Rata rata'!L37*50%+'Nilai Rata rata'!AE37*50%) -> 80.4 | L37: =SUM('Nilai Rata rata'!M37*50%+'Nilai Rata rata'!AF37*50%) -> 87.675 | M37: =SUM('Nilai Rata rata'!N37*50%+'Nilai Rata rata'!AG37*50%) -> 77.3 | N37: =SUM('Nilai Rata rata'!O37*50%+'Nilai Rata rata'!AH37*50%) -> 85.625 | O37: =SUM('Nilai Rata rata'!P37*50%+'Nilai Rata rata'!AI37*50%) -> #DIV/0! | P37: =SUM('Nilai Rata rata'!Q37*50%+'Nilai Rata rata'!AJ37*50%) -> 80.5 | Q37: =SUM('Nilai Rata rata'!R37*50%+'Nilai Rata rata'!AK37*50%) -> #DIV/0! | R37: =SUM(C37:Q37) -> #DIV/0! | S37: =AVERAGE(C37:Q37) -> #DIV/0! | T37: =RANK(S37,$S$7:$S$51) -> #DIV/0! | V37: =SUM('Nilai Rata rata'!T37*50%+'Nilai Rata rata'!AM37*50%) -> #DIV/0!
A38: 32 | B38: KEVIN FAHREZI | C38: =SUM('Nilai Rata rata'!C38*50%+'Nilai Rata rata'!V38*50%) -> 90.2 | D38: =SUM('Nilai Rata rata'!D38*50%+'Nilai Rata rata'!W38*50%) -> #DIV/0! | E38: =SUM('Nilai Rata rata'!E38*50%+'Nilai Rata rata'!X38*50%) -> #DIV/0! | F38: =SUM('Nilai Rata rata'!F38*50%+'Nilai Rata rata'!Y38*50%) -> 81.15 | G38: =SUM('Nilai Rata rata'!G38*50%+'Nilai Rata rata'!Z38*50%) -> #DIV/0! | H38: =SUM('Nilai Rata rata'!H38*50%+'Nilai Rata rata'!AA38*50%) -> 82.3 | I38: =SUM('Nilai Rata rata'!I38*50%+'Nilai Rata rata'!AB38*50%) -> #DIV/0! | J38: =SUM('Nilai Rata rata'!J38*50%+'Nilai Rata rata'!AC38*50%) -> 81.625 | K38: =SUM('Nilai Rata rata'!L38*50%+'Nilai Rata rata'!AE38*50%) -> 82.2 | L38: =SUM('Nilai Rata rata'!M38*50%+'Nilai Rata rata'!AF38*50%) -> 87.175 | M38: =SUM('Nilai Rata rata'!N38*50%+'Nilai Rata rata'!AG38*50%) -> 81 | N38: =SUM('Nilai Rata rata'!O38*50%+'Nilai Rata rata'!AH38*50%) -> 85.225 | O38: =SUM('Nilai Rata rata'!P38*50%+'Nilai Rata rata'!AI38*50%) -> #DIV/0! | P38: =SUM('Nilai Rata rata'!Q38*50%+'Nilai Rata rata'!AJ38*50%) -> 81.425 | Q38: =SUM('Nilai Rata rata'!R38*50%+'Nilai Rata rata'!AK38*50%) -> #DIV/0! | R38: =SUM(C38:Q38) -> #DIV/0! | S38: =AVERAGE(C38:Q38) -> #DIV/0! | T38: =RANK(S38,$S$7:$S$51) -> #DIV/0! | V38: =SUM('Nilai Rata rata'!T38*50%+'Nilai Rata rata'!AM38*50%) -> #DIV/0!
... A42: 36 | B42: MUH. SYIFA' BAYU AJI | C42: =SUM('Nilai Rata rata'!C42*50%+'Nilai Rata rata'!V42*50%) -> 83.35 | D42: =SUM('Nilai Rata rata'!D42*50%+'Nilai Rata rata'!W42*50%) -> #DIV/0! | E42: =SUM('Nilai Rata rata'!E42*50%+'Nilai Rata rata'!X42*50%) -> #DIV/0! | F42: =SUM('Nilai Rata rata'!F42*50%+'Nilai Rata rata'!Y42*50%) -> 77.95 | G42: =SUM('Nilai Rata rata'!G42*50%+'Nilai Rata rata'!Z42*50%) -> #DIV/0! | H42: =SUM('Nilai Rata rata'!H42*50%+'Nilai Rata rata'!AA42*50%) -> 77.6 | I42: =SUM('Nilai Rata rata'!I42*50%+'Nilai Rata rata'!AB42*50%) -> #DIV/0! | J42: =SUM('Nilai Rata rata'!J42*50%+'Nilai Rata rata'!AC42*50%) -> 76 | K42: =SUM('Nilai Rata rata'!L42*50%+'Nilai Rata rata'!AE42*50%) -> 79.2 | L42: =SUM('Nilai Rata rata'!M42*50%+'Nilai Rata rata'!AF42*50%) -> 83.675 | M42: =SUM('Nilai Rata rata'!N42*50%+'Nilai Rata rata'!AG42*50%) -> 76.15 | N42: =SUM('Nilai Rata rata'!O42*50%+'Nilai Rata rata'!AH42*50%) -> 76.2 | O42: =SUM('Nilai Rata rata'!P42*50%+'Nilai Rata rata'!AI42*50%) -> #DIV/0! | P42: =SUM('Nilai Rata rata'!Q42*50%+'Nilai Rata rata'!AJ42*50%) -> 79.2 | Q42: =SUM('Nilai Rata rata'!R42*50%+'Nilai Rata rata'!AK42*50%) -> #DIV/0! | R42: =SUM(C42:Q42) -> #DIV/0! | S42: =AVERAGE(C42:Q42) -> #DIV/0! | T42: =RANK(S42,$S$7:$S$51) -> #DIV/0! | V42: =SUM('Nilai Rata rata'!T42*50%+'Nilai Rata rata'!AM42*50%) -> #DIV/0!
A43: 37 | B43: MUHAMMAD FATIKHUL ILMI | C43: =SUM('Nilai Rata rata'!C43*50%+'Nilai Rata rata'!V43*50%) -> 89.675 | D43: =SUM('Nilai Rata rata'!D43*50%+'Nilai Rata rata'!W43*50%) -> #DIV/0! | E43: =SUM('Nilai Rata rata'!E43*50%+'Nilai Rata rata'!X43*50%) -> #DIV/0! | F43: =SUM('Nilai Rata rata'!F43*50%+'Nilai Rata rata'!Y43*50%) -> 80.9 | G43: =SUM('Nilai Rata rata'!G43*50%+'Nilai Rata rata'!Z43*50%) -> #DIV/0! | H43: =SUM('Nilai Rata rata'!H43*50%+'Nilai Rata rata'!AA43*50%) -> 85 | I43: =SUM('Nilai Rata rata'!I43*50%+'Nilai Rata rata'!AB43*50%) -> #DIV/0! | J43: =SUM('Nilai Rata rata'!J43*50%+'Nilai Rata rata'!AC43*50%) -> 80.5 | K43: =SUM('Nilai Rata rata'!L43*50%+'Nilai Rata rata'!AE43*50%) -> 83.6 | L43: =SUM('Nilai Rata rata'!M43*50%+'Nilai Rata rata'!AF43*50%) -> 87.375 | M43: =SUM('Nilai Rata rata'!N43*50%+'Nilai Rata rata'!AG43*50%) -> 80.1 | N43: =SUM('Nilai Rata rata'!O43*50%+'Nilai Rata rata'!AH43*50%) -> 85.55 | O43: =SUM('Nilai Rata rata'!P43*50%+'Nilai Rata rata'!AI43*50%) -> #DIV/0! | P43: =SUM('Nilai Rata rata'!Q43*50%+'Nilai Rata rata'!AJ43*50%) -> 80.8 | Q43: =SUM('Nilai Rata rata'!R43*50%+'Nilai Rata rata'!AK43*50%) -> #DIV/0! | R43: =SUM(C43:Q43) -> #DIV/0! | S43: =AVERAGE(C43:Q43) -> #DIV/0! | T43: =RANK(S43,$S$7:$S$51) -> #DIV/0! | U43: =AVERAGE(V43,E43,F43,G43,H43,I43,J43,#REF!,K43,L43,M43) -> #REF! | V43: =SUM('Nilai Rata rata'!T43*50%+'Nilai Rata rata'!AM43*50%) -> #DIV/0!
A44: 38 | B44: MUHAMMAD RAZIF KASYAFANI | C44: =SUM('Nilai Rata rata'!C44*50%+'Nilai Rata rata'!V44*50%) -> 87.975 | D44: =SUM('Nilai Rata rata'!D44*50%+'Nilai Rata rata'!W44*50%) -> #DIV/0! | E44: =SUM('Nilai Rata rata'!E44*50%+'Nilai Rata rata'!X44*50%) -> #DIV/0! | F44: =SUM('Nilai Rata rata'!F44*50%+'Nilai Rata rata'!Y44*50%) -> 79.35 | G44: =SUM('Nilai Rata rata'!G44*50%+'Nilai Rata rata'!Z44*50%) -> #DIV/0! | H44: =SUM('Nilai Rata rata'!H44*50%+'Nilai Rata rata'!AA44*50%) -> 79.3 | I44: =SUM('Nilai Rata rata'!I44*50%+'Nilai Rata rata'!AB44*50%) -> #DIV/0! | J44: =SUM('Nilai Rata rata'!J44*50%+'Nilai Rata rata'!AC44*50%) -> 79.3 | K44: =SUM('Nilai Rata rata'!L44*50%+'Nilai Rata rata'!AE44*50%) -> 81.6 | L44: =SUM('Nilai Rata rata'!M44*50%+'Nilai Rata rata'!AF44*50%) -> 87.275 | M44: =SUM('Nilai Rata rata'!N44*50%+'Nilai Rata rata'!AG44*50%) -> 79.15 | N44: =SUM('Nilai Rata rata'!O44*50%+'Nilai Rata rata'!AH44*50%) -> 85.925 | O44: =SUM('Nilai Rata rata'!P44*50%+'Nilai Rata rata'!AI44*50%) -> #DIV/0! | P44: =SUM('Nilai Rata rata'!Q44*50%+'Nilai Rata rata'!AJ44*50%) -> 78.375 | Q44: =SUM('Nilai Rata rata'!R44*50%+'Nilai Rata rata'!AK44*50%) -> #DIV/0! | R44: =SUM(C44:Q44) -> #DIV/0! | S44: =AVERAGE(C44:Q44) -> #DIV/0! | T44: =RANK(S44,$S$7:$S$51) -> #DIV/0! | U44: =AVERAGE(V44,E44,F44,G44,H44,I44,J44,#REF!,K44,L44,M44) -> #REF! | V44: =SUM('Nilai Rata rata'!T44*50%+'Nilai Rata rata'!AM44*50%) -> #DIV/0!
A45: 39 | B45: NAZILATUN NIKMAH | C45: =SUM('Nilai Rata rata'!C45*50%+'Nilai Rata rata'!V45*50%) -> 93.7 | D45: =SUM('Nilai Rata rata'!D45*50%+'Nilai Rata rata'!W45*50%) -> #DIV/0! | E45: =SUM('Nilai Rata rata'!E45*50%+'Nilai Rata rata'!X45*50%) -> #DIV/0! | F45: =SUM('Nilai Rata rata'!F45*50%+'Nilai Rata rata'!Y45*50%) -> 83.025 | G45: =SUM('Nilai Rata rata'!G45*50%+'Nilai Rata rata'!Z45*50%) -> #DIV/0! | H45: =SUM('Nilai Rata rata'!H45*50%+'Nilai Rata rata'!AA45*50%) -> 80.2 | I45: =SUM('Nilai Rata rata'!I45*50%+'Nilai Rata rata'!AB45*50%) -> #DIV/0! | J45: =SUM('Nilai Rata rata'!J45*50%+'Nilai Rata rata'!AC45*50%) -> 81.825 | K45: =SUM('Nilai Rata rata'!L45*50%+'Nilai Rata rata'!AE45*50%) -> 81.4 | L45: =SUM('Nilai Rata rata'!M45*50%+'Nilai Rata rata'!AF45*50%) -> 88.675 | M45: =SUM('Nilai Rata rata'!N45*50%+'Nilai Rata rata'!AG45*50%) -> 79.75 | N45: =SUM('Nilai Rata rata'!O45*50%+'Nilai Rata rata'!AH45*50%) -> 90.475 | O45: =SUM('Nilai Rata rata'!P45*50%+'Nilai Rata rata'!AI45*50%) -> #DIV/0! | P45: =SUM('Nilai Rata rata'!Q45*50%+'Nilai Rata rata'!AJ45*50%) -> 85.05 | Q45: =SUM('Nilai Rata rata'!R45*50%+'Nilai Rata rata'!AK45*50%) -> #DIV/0! | R45: =SUM(C45:Q45) -> #DIV/0! | S45: =AVERAGE(C45:Q45) -> #DIV/0! | T45: =RANK(S45,$S$7:$S$51) -> #DIV/0! | U45: =AVERAGE(V45,E45,F45,G45,H45,I45,J45,#REF!,K45,L45,M45) -> #REF! | V45: =SUM('Nilai Rata rata'!T45*50%+'Nilai Rata rata'!AM45*50%) -> #DIV/0!
A46: 40 | B46: NIRMALA MAHARANI | C46: =SUM('Nilai Rata rata'!C46*50%+'Nilai Rata rata'!V46*50%) -> 90.225 | D46: =SUM('Nilai Rata rata'!D46*50%+'Nilai Rata rata'!W46*50%) -> #DIV/0! | E46: =SUM('Nilai Rata rata'!E46*50%+'Nilai Rata rata'!X46*50%) -> #DIV/0! | F46: =SUM('Nilai Rata rata'!F46*50%+'Nilai Rata rata'!Y46*50%) -> 81.425 | G46: =SUM('Nilai Rata rata'!G46*50%+'Nilai Rata rata'!Z46*50%) -> #DIV/0! | H46: =SUM('Nilai Rata rata'!H46*50%+'Nilai Rata rata'!AA46*50%) -> 81.1 | I46: =SUM('Nilai Rata rata'!I46*50%+'Nilai Rata rata'!AB46*50%) -> #DIV/0! | J46: =SUM('Nilai Rata rata'!J46*50%+'Nilai Rata rata'!AC46*50%) -> 78.55 | K46: =SUM('Nilai Rata rata'!L46*50%+'Nilai Rata rata'!AE46*50%) -> 80.8 | L46: =SUM('Nilai Rata rata'!M46*50%+'Nilai Rata rata'!AF46*50%) -> 87.775 | M46: =SUM('Nilai Rata rata'!N46*50%+'Nilai Rata rata'!AG46*50%) -> 80.325 | N46: =SUM('Nilai Rata rata'!O46*50%+'Nilai Rata rata'!AH46*50%) -> 88.975 | O46: =SUM('Nilai Rata rata'!P46*50%+'Nilai Rata rata'!AI46*50%) -> #DIV/0! | P46: =SUM('Nilai Rata rata'!Q46*50%+'Nilai Rata rata'!AJ46*50%) -> 80.725 | Q46: =SUM('Nilai Rata rata'!R46*50%+'Nilai Rata rata'!AK46*50%) -> #DIV/0! | R46: =SUM(C46:Q46) -> #DIV/0! | S46: =AVERAGE(C46:Q46) -> #DIV/0! | T46: =RANK(S46,$S$7:$S$51) -> #DIV/0! | U46: =AVERAGE(V46,E46,F46,G46,H46,I46,J46,#REF!,K46,L46,M46) -> #REF! | V46: =SUM('Nilai Rata rata'!T46*50%+'Nilai Rata rata'!AM46*50%) -> #DIV/0!
A47: 41 | B47: NOR ALIA SILFA | C47: =SUM('Nilai Rata rata'!C47*50%+'Nilai Rata rata'!V47*50%) -> 87.175 | D47: =SUM('Nilai Rata rata'!D47*50%+'Nilai Rata rata'!W47*50%) -> #DIV/0! | E47: =SUM('Nilai Rata rata'!E47*50%+'Nilai Rata rata'!X47*50%) -> #DIV/0! | F47: =SUM('Nilai Rata rata'!F47*50%+'Nilai Rata rata'!Y47*50%) -> 80.175 | G47: =SUM('Nilai Rata rata'!G47*50%+'Nilai Rata rata'!Z47*50%) -> #DIV/0! | H47: =SUM('Nilai Rata rata'!H47*50%+'Nilai Rata rata'!AA47*50%) -> 79.9 | I47: =SUM('Nilai Rata rata'!I47*50%+'Nilai Rata rata'!AB47*50%) -> #DIV/0! | J47: =SUM('Nilai Rata rata'!J47*50%+'Nilai Rata rata'!AC47*50%) -> 78.1 | K47: =SUM('Nilai Rata rata'!L47*50%+'Nilai Rata rata'!AE47*50%) -> 80.35 | L47: =SUM('Nilai Rata rata'!M47*50%+'Nilai Rata rata'!AF47*50%) -> 83.575 | M47: =SUM('Nilai Rata rata'!N47*50%+'Nilai Rata rata'!AG47*50%) -> 80.775 | N47: =SUM('Nilai Rata rata'!O47*50%+'Nilai Rata rata'!AH47*50%) -> 80.75 | O47: =SUM('Nilai Rata rata'!P47*50%+'Nilai Rata rata'!AI47*50%) -> #DIV/0! | P47: =SUM('Nilai Rata rata'!Q47*50%+'Nilai Rata rata'!AJ47*50%) -> 82.4 | Q47: =SUM('Nilai Rata rata'!R47*50%+'Nilai Rata rata'!AK47*50%) -> #DIV/0! | R47: =SUM(C47:Q47) -> #DIV/0! | S47: =AVERAGE(C47:Q47) -> #DIV/0! | T47: =RANK(S47,$S$7:$S$51) -> #DIV/0! | U47: =AVERAGE(V47,E47,F47,G47,H47,I47,J47,#REF!,K47,L47,M47) -> #REF! | V47: =SUM('Nilai Rata rata'!T47*50%+'Nilai Rata rata'!AM47*50%) -> #DIV/0!
A48: 42 | B48: NUR MUTIA | C48: =SUM('Nilai Rata rata'!C48*50%+'Nilai Rata rata'!V48*50%) -> 88.525 | D48: =SUM('Nilai Rata rata'!D48*50%+'Nilai Rata rata'!W48*50%) -> #DIV/0! | E48: =SUM('Nilai Rata rata'!E48*50%+'Nilai Rata rata'!X48*50%) -> #DIV/0! | F48: =SUM('Nilai Rata rata'!F48*50%+'Nilai Rata rata'!Y48*50%) -> 79.2 | G48: =SUM('Nilai Rata rata'!G48*50%+'Nilai Rata rata'!Z48*50%) -> #DIV/0! | H48: =SUM('Nilai Rata rata'!H48*50%+'Nilai Rata rata'!AA48*50%) -> 78.4 | I48: =SUM('Nilai Rata rata'!I48*50%+'Nilai Rata rata'!AB48*50%) -> #DIV/0! | J48: =SUM('Nilai Rata rata'!J48*50%+'Nilai Rata rata'!AC48*50%) -> 76.95 | K48: =SUM('Nilai Rata rata'!L48*50%+'Nilai Rata rata'!AE48*50%) -> 80.55 | L48: =SUM('Nilai Rata rata'!M48*50%+'Nilai Rata rata'!AF48*50%) -> 84.175 | M48: =SUM('Nilai Rata rata'!N48*50%+'Nilai Rata rata'!AG48*50%) -> 77.9 | N48: =SUM('Nilai Rata rata'!O48*50%+'Nilai Rata rata'!AH48*50%) -> 84.275 | O48: =SUM('Nilai Rata rata'!P48*50%+'Nilai Rata rata'!AI48*50%) -> #DIV/0! | P48: =SUM('Nilai Rata rata'!Q48*50%+'Nilai Rata rata'!AJ48*50%) -> 81.125 | Q48: =SUM('Nilai Rata rata'!R48*50%+'Nilai Rata rata'!AK48*50%) -> #DIV/0! | R48: =SUM(C48:Q48) -> #DIV/0! | S48: =AVERAGE(C48:Q48) -> #DIV/0! | T48: =RANK(S48,$S$7:$S$51) -> #DIV/0! | U48: =AVERAGE(V48,E48,F48,G48,H48,I48,J48,#REF!,K48,L48,M48) -> #REF! | V48: =SUM('Nilai Rata rata'!T48*50%+'Nilai Rata rata'!AM48*50%) -> #DIV/0!
A49: 43 | B49: ROHMAT HIDAYAT | C49: =SUM('Nilai Rata rata'!C49*50%+'Nilai Rata rata'!V49*50%) -> 90.15 | D49: =SUM('Nilai Rata rata'!D49*50%+'Nilai Rata rata'!W49*50%) -> #DIV/0! | E49: =SUM('Nilai Rata rata'!E49*50%+'Nilai Rata rata'!X49*50%) -> #DIV/0! | F49: =SUM('Nilai Rata rata'!F49*50%+'Nilai Rata rata'!Y49*50%) -> 80.6 | G49: =SUM('Nilai Rata rata'!G49*50%+'Nilai Rata rata'!Z49*50%) -> #DIV/0! | H49: =SUM('Nilai Rata rata'!H49*50%+'Nilai Rata rata'!AA49*50%) -> 80.9 | I49: =SUM('Nilai Rata rata'!I49*50%+'Nilai Rata rata'!AB49*50%) -> #DIV/0! | J49: =SUM('Nilai Rata rata'!J49*50%+'Nilai Rata rata'!AC49*50%) -> 80.225 | K49: =SUM('Nilai Rata rata'!L49*50%+'Nilai Rata rata'!AE49*50%) -> 83.65 | L49: =SUM('Nilai Rata rata'!M49*50%+'Nilai Rata rata'!AF49*50%) -> 87.175 | M49: =SUM('Nilai Rata rata'!N49*50%+'Nilai Rata rata'!AG49*50%) -> 78.4 | N49: =SUM('Nilai Rata rata'!O49*50%+'Nilai Rata rata'!AH49*50%) -> 85.075 | O49: =SUM('Nilai Rata rata'!P49*50%+'Nilai Rata rata'!AI49*50%) -> #DIV/0! | P49: =SUM('Nilai Rata rata'!Q49*50%+'Nilai Rata rata'!AJ49*50%) -> 80.525 | Q49: =SUM('Nilai Rata rata'!R49*50%+'Nilai Rata rata'!AK49*50%) -> #DIV/0! | R49: =SUM(C49:Q49) -> #DIV/0! | S49: =AVERAGE(C49:Q49) -> #DIV/0! | T49: =RANK(S49,$S$7:$S$51) -> #DIV/0! | U49: =AVERAGE(V49,E49,F49,G49,H49,I49,J49,#REF!,K49,L49,M49) -> #REF! | V49: =SUM('Nilai Rata rata'!T49*50%+'Nilai Rata rata'!AM49*50%) -> #DIV/0!
A50: 44 | B50: SABRINA OKTAVIANI | C50: =SUM('Nilai Rata rata'!C50*50%+'Nilai Rata rata'!V50*50%) -> 83.975 | D50: =SUM('Nilai Rata rata'!D50*50%+'Nilai Rata rata'!W50*50%) -> #DIV/0! | E50: =SUM('Nilai Rata rata'!E50*50%+'Nilai Rata rata'!X50*50%) -> #DIV/0! | F50: =SUM('Nilai Rata rata'!F50*50%+'Nilai Rata rata'!Y50*50%) -> 79.1 | G50: =SUM('Nilai Rata rata'!G50*50%+'Nilai Rata rata'!Z50*50%) -> #DIV/0! | H50: =SUM('Nilai Rata rata'!H50*50%+'Nilai Rata rata'!AA50*50%) -> 78.8 | I50: =SUM('Nilai Rata rata'!I50*50%+'Nilai Rata rata'!AB50*50%) -> #DIV/0! | J50: =SUM('Nilai Rata rata'!J50*50%+'Nilai Rata rata'!AC50*50%) -> 79.175 | K50: =SUM('Nilai Rata rata'!L50*50%+'Nilai Rata rata'!AE50*50%) -> 80.2 | L50: =SUM('Nilai Rata rata'!M50*50%+'Nilai Rata rata'!AF50*50%) -> 87.275 | M50: =SUM('Nilai Rata rata'!N50*50%+'Nilai Rata rata'!AG50*50%) -> 78 | N50: =SUM('Nilai Rata rata'!O50*50%+'Nilai Rata rata'!AH50*50%) -> 80.4 | O50: =SUM('Nilai Rata rata'!P50*50%+'Nilai Rata rata'!AI50*50%) -> #DIV/0! | P50: =SUM('Nilai Rata rata'!Q50*50%+'Nilai Rata rata'!AJ50*50%) -> 80 | Q50: =SUM('Nilai Rata rata'!R50*50%+'Nilai Rata rata'!AK50*50%) -> #DIV/0! | R50: =SUM(C50:Q50) -> #DIV/0! | S50: =AVERAGE(C50:Q50) -> #DIV/0! | T50: =RANK(S50,$S$7:$S$51) -> #DIV/0! | U50: =AVERAGE(V50,E50,F50,G50,H50,I50,J50,#REF!,K50,L50,M50) -> #REF! | V50: =SUM('Nilai Rata rata'!T50*50%+'Nilai Rata rata'!AM50*50%) -> #DIV/0!
A51: 45 | B51: TRI MULIA SAPUTRA | C51: =SUM('Nilai Rata rata'!C51*50%+'Nilai Rata rata'!V51*50%) -> 93.35 | D51: =SUM('Nilai Rata rata'!D51*50%+'Nilai Rata rata'!W51*50%) -> #DIV/0! | E51: =SUM('Nilai Rata rata'!E51*50%+'Nilai Rata rata'!X51*50%) -> #DIV/0! | F51: =SUM('Nilai Rata rata'!F51*50%+'Nilai Rata rata'!Y51*50%) -> 85.975 | G51: =SUM('Nilai Rata rata'!G51*50%+'Nilai Rata rata'!Z51*50%) -> #DIV/0! | H51: =SUM('Nilai Rata rata'!H51*50%+'Nilai Rata rata'!AA51*50%) -> 86.4 | I51: =SUM('Nilai Rata rata'!I51*50%+'Nilai Rata rata'!AB51*50%) -> #DIV/0! | J51: =SUM('Nilai Rata rata'!J51*50%+'Nilai Rata rata'!AC51*50%) -> 86.125 | K51: =SUM('Nilai Rata rata'!L51*50%+'Nilai Rata rata'!AE51*50%) -> 82.85 | L51: =SUM('Nilai Rata rata'!M51*50%+'Nilai Rata rata'!AF51*50%) -> 86.975 | M51: =SUM('Nilai Rata rata'!N51*50%+'Nilai Rata rata'!AG51*50%) -> 85.275 | N51: =SUM('Nilai Rata rata'!O51*50%+'Nilai Rata rata'!AH51*50%) -> 86.1 | O51: =SUM('Nilai Rata rata'!P51*50%+'Nilai Rata rata'!AI51*50%) -> #DIV/0! | P51: =SUM('Nilai Rata rata'!Q51*50%+'Nilai Rata rata'!AJ51*50%) -> 82.375 | Q51: =SUM('Nilai Rata rata'!R51*50%+'Nilai Rata rata'!AK51*50%) -> #DIV/0! | R51: =SUM(C51:Q51) -> #DIV/0! | S51: =AVERAGE(C51:Q51) -> #DIV/0! | T51: =RANK(S51,$S$7:$S$51) -> #DIV/0! | U51: =AVERAGE(V51,E51,F51,G51,H51,I51,J51,#REF!,K51,L51,M51) -> #REF! | V51: =SUM('Nilai Rata rata'!T51*50%+'Nilai Rata rata'!AM51*50%) -> #DIV/0!
A56: 1 | B56: 2 | C56: 3 | D56: 4 | E56: 5 | F56: 6 | G56: 7 | H56: 8 | I56: 9 | J56: 10 | K56: 12 | L56: 13 | M56: 14 | N56: 15 | O56: 16 | P56: 17 | Q56: 18 | R56: 19 | S56: 20 | T56: 21 | U56: 22 | V56: 23

Sheet IJAZAH
B2: DAFTAR NILAI
B3: SEKOLAH MENENGAH PERTAMA
B4: TAHUN PELAJARAN 2023/2024
B6: Nama | D6: =VLOOKUP($H$8,Nilai,2) -> AHMAD THORIK | H6: NO
B7: Tempat dan Tanggal Lahir
B8: Nomor Induk Siswa | H8: 2
B9: Nomor Induk Siswa Nasional
B12: No. | C12: Mata Pelajaran | E12: Nilai
B13: Kelompok A
B14: 1 | C14: Pendidikan Agama dan Budi Pekerti | E14: =VLOOKUP($H$8,Nilai,23) -> #REF!
B15: 2 | C15: Pendidikan Pancasila | E15: =VLOOKUP($H$8,Nilai,5) -> #DIV/0!
B16: 3 | C16: Bahasa Indonesia | E16: =VLOOKUP($H$8,Nilai,6) -> 79.05
B17: 4 | C17: Matematika | E17: =VLOOKUP($H$8,Nilai,7) -> #DIV/0!
B18: 5 | C18: Ilmu Pengetahuan Alam | E18: =VLOOKUP($H$8,Nilai,8) -> 79.2
B19: 6 | C19: Ilmu Pengetahuan Sosial | E19: =VLOOKUP($H$8,Nilai,9) -> #DIV/0!
B20: 7 | C20: Bahasa Inggris | E20: =VLOOKUP($H$8,Nilai,10) -> 77.75
B21: Kelompok B
B22: 8 | C22: Pendidikan Jasmani, Olahraga, dan Kesehatan | E22: =VLOOKUP($H$8,Nilai,12) -> 84.475
B23: 9 | C23: Informatika | E23: =VLOOKUP($H$8,Nilai,13) -> 77.5
B24: 10 | C24: Seni, Budaya, dan Prakarya | E24: =VLOOKUP($H$8,Nilai,11) -> 83.5
B25: 11 | C25: Muatan Lokal
C26: a. Bahasa Jawa | E26: =VLOOKUP($H$8,Nilai,14) -> 81.9
C27: b.
C28: c.
B29: Rata-rata | E29: =VLOOKUP($H$8,Nilai,22) -> #DIV/0! | G29: =AVERAGE(E14:E28) -> #REF!

Sheet NR 7 mapel (puluhan)
A3: 1 | B3: 2 | C3: 3 | D3: 4 | E3: 5 | F3: 6 | G3: 7 | H3: 8 | I3: 9 | J3: 10 | K3: 11 | L3: 12 | M3: 13 | N3: 14 | O3: 15 | P3: 16 | Q3: 17 | R3: 18 | S3: 19 | T3: 20 | U3: 21 | V3: 22 | W3: 23 | X3: 24 | Y3: 25 | Z3: 26 | AA3: 27 | AB3: 28 | AC3: 29 | AD3: 30 | AE3: 31 | AF3: 32 | AG3: 33 | AH3: 34 | AI3: 35 | AJ3: 36 | AK3: 37 | AL3: 38 | AM3: 39 | AN3: 40 | AO3: 41 | AP3: 42 | AQ3: 43 | AR3: 44 | AS3: 45 | AT3: 46 | AU3: 47 | AV3: 48 | AW3: 49 | AX3: 50 | AY3: 51 | AZ3: 52 | BA3: 53 | BB3: 54 | BC3: 55 | BD3: 56 | BE3: 57 | BF3: 58 | BG3: 59 | BH3: 60 | BI3: 61 | BJ3: 62 | BK3: 63 | BL3: 64 | BM3: 65 | BN3: 66 | BO3: 67 | BP3: 68 | BQ3: 69 | BR3: 70 | BS3: 71 | BT3: 72 | BU3: 73 | BV3: 74 | BW3: 75 | BX3: 76 | BY3: 77 | BZ3: 78 | CA3: 79 | CB3: 80 | CC3: 81 | CD3: 82 | CE3: 83 | CF3: 84 | CG3: 85 | CH3: 86 | CI3: 87 | CJ3: 88 | CK3: 89 | CL3: 90 | CM3: 91 | CN3: 92 | CO3: 93 | CP3: 94 | CQ3: 95 | CR3: 96 | CS3: 97 | CT3: 98 | CU3: 99 | CV3: 100 | CW3: 101 | CX3: 102 | CY3: 103 | CZ3: 104 | DA3: 105 | DB3: 106 | DC3: 107 | DD3: 108 | DE3: 109 | DF3: 110 | DG3: 111 | DH3: 112
A4: NO | B4: NAMA | C4: NISN | D4: PAI (Fiqih) | P4: PKN | AB4: INDONESIA | AN4: MTK | AZ4: IPA | BL4: IPS | BX4: INGGRIS | CK4: Rata-rata Agama (Fiqih, SKI, Hadits, Akidah) | CX4: Jml 7 Mapel | CZ4: Jml 7 Mapel | DB4: Jml 7 Mapel | DD4: Jml 7 Mapel | DF4: Jml 7 Mapel | DH4: Rata-Rata Nilai Smester I - 5
D5: Semester 1 | F5: Semester 2 | H5: Semester 3 | J5: Semester 4 | L5: Semester 5 | N5: Jumlah | O5: Rata-Rata | P5: Semester 1 | R5: Semester 2 | T5: Semester 3 | V5: Semester 4 | X5: Semester 5 | Z5: Jumlah | AA5: Rata-Rata | AB5: Semester 1 | AD5: Semester 2 | AF5: Semester 3 | AH5: Semester 4 | AJ5: Semester 5 | AN5: Semester 1 | AP5: Semester 2 | AR5: Semester 3 | AT5: Semester 4 | AV5: Semester 5 | AZ5: Semester 1 | BB5: Semester 2 | BD5: Semester 3 | BF5: Semester 4 | BH5: Semester 5 | BL5: Semester 1 | BN5: Semester 2 | BP5: Semester 3 | BR5: Semester 4 | BT5: Semester 5 | BX5: Semester 1 | BZ5: Semester 2 | CB5: Semester 3 | CD5: Semester 4 | CF5: Semester 5 | CK5: Semester 1 | CM5: Semester 2 | CO5: Semester 3 | CQ5: Semester 4 | CS5: Semester 5 | CU5: Jumlah | CV5: Rata-Rata | CX5: Semester I | CZ5: Semester II | DB5: Semester III | DD5: Semester IV | DF5: Semester V
D6: A | E6: Rata-Rata | F6: A | G6: Rata-Rata | H6: A | I6: Rata-Rata | J6: A | K6: Rata-Rata | L6: A | M6: Rata-Rata | P6: A | Q6: Rata-Rata | R6: A | S6: Rata-Rata | T6: A | U6: Rata-Rata | V6: A | W6: Rata-Rata | X6: A | Y6: Rata-Rata | AB6: A | AC6: Rata-Rata | AD6: A | AE6: Rata-Rata | AF6: A | AG6: Rata-Rata | AH6: A | AI6: Rata-Rata | AJ6: A | AK6: Rata-Rata | AL6: Jumlah | AM6: Rata-Rata | AN6: A | AO6: Rata-Rata | AP6: A | AQ6: Rata-Rata | AR6: A | AS6: Rata-Rata | AT6: A | AU6: Rata-Rata | AV6: A | AW6: Rata-Rata | AX6: Jumlah | AY6: Rata-Rata | AZ6: A | BA6: Rata-Rata | BB6: A | BC6: Rata-Rata | BD6: A | BE6: Rata-Rata | BF6: A | BG6: Rata-Rata | BH6: A | BI6: Rata-Rata | BJ6: Jumlah | BK6: Rata-Rata | BL6: A | BM6: Rata-Rata | BN6: A | BO6: Rata-Rata | BP6: A | BQ6: Rata-Rata | BR6: A | BS6: Rata-Rata | BT6: A | BU6: Rata-Rata | BV6: Jumlah | BW6: Rata-Rata | BX6: A | BY6: Rata-Rata | BZ6: A | CA6: Rata-Rata | CB6: A | CC6: Rata-Rata | CD6: A | CE6: Rata-Rata | CF6: A | CG6: Rata-Rata | CH6: Jumlah | CI6: Rata-Rata | CK6: A | CL6: Rata-Rata | CM6: A | CN6: Rata-Rata | CO6: A | CP6: Rata-Rata | CQ6: A | CR6: Rata-Rata | CS6: A | CT6: Rata-Rata | CX6: A | CY6: Rata-Rata | CZ6: A | DA6: Rata-Rata | DB6: A | DC6: Rata-Rata | DD6: A | DE6: Rata-Rata | DF6: A | DG6: Rata-Rata
A7: 1 | B7: Abdul Khafidz Anshori | C7: 0106247597 | D7: ='Nilai Rapor 1-5 (Puluhan)'!G7 -> 89 | E7: =AVERAGE(D7:D7) -> 89 | F7: ='Nilai Rapor 1-5 (Puluhan)'!H7 -> 90 | G7: =AVERAGE(F7:F7) -> 90 | H7: ='Nilai Rapor 1-5 (Puluhan)'!I7 -> 88 | I7: =AVERAGE(H7:H7) -> 88 | J7: ='Nilai Rapor 1-5 (Puluhan)'!J7 -> 92 | K7: =AVERAGE(J7:J7) -> 92 | L7: ='Nilai Rapor 1-5 (Puluhan)'!K7 -> 90 | M7: =AVERAGE(L7:L7) -> 90 | N7: =E7+G7+I7+K7+M7 -> 449 | O7: =N7/5 -> 89.8 | P7: ='Nilai Rapor 1-5 (Puluhan)'!W7 -> 89 | Q7: =AVERAGE(P7:P7) -> 89 | R7: ='Nilai Rapor 1-5 (Puluhan)'!X7 -> 88 | S7: =AVERAGE(R7:R7) -> 88 | T7: ='Nilai Rapor 1-5 (Puluhan)'!Y7 -> 89 | U7: =AVERAGE(T7:T7) -> 89 | V7: ='Nilai Rapor 1-5 (Puluhan)'!Z7 -> 90 | W7: =AVERAGE(V7:V7) -> 90 | X7: ='Nilai Rapor 1-5 (Puluhan)'!AA7 -> 92 | Y7: =AVERAGE(X7:X7) -> 92 | Z7: =Q7+S7+U7+W7+Y7 -> 448 | AA7: =Z7/5 -> 89.6 | AB7: ='Nilai Rapor 1-5 (Puluhan)'!AE7 -> 82 | AC7: =AVERAGE(AB7:AB7) -> 82 | AD7: ='Nilai Rapor 1-5 (Puluhan)'!AF7 -> 81 | AE7: =AVERAGE(AD7:AD7) -> 81 | AF7: ='Nilai Rapor 1-5 (Puluhan)'!AG7 -> 75 | AG7: =AVERAGE(AF7:AF7) -> 75 | AH7: ='Nilai Rapor 1-5 (Puluhan)'!AH7 -> 75 | AI7: =AVERAGE(AH7:AH7) -> 75 | AJ7: ='Nilai Rapor 1-5 (Puluhan)'!AI7 -> 76 | AK7: =AVERAGE(AJ7:AJ7) -> 76 | AL7: =AC7+AE7+AG7+AI7+AK7 -> 389 | AM7: =AL7/5 -> 77.8 | AN7: ='Nilai Rapor 1-5 (Puluhan)'!AM7 -> 74 | AO7: =AVERAGE(AN7:AN7) -> 74 | AP7: ='Nilai Rapor 1-5 (Puluhan)'!AN7 -> 74 | AQ7: =AVERAGE(AP7:AP7) -> 74 | AR7: ='Nilai Rapor 1-5 (Puluhan)'!AO7 -> 80 | AS7: =AVERAGE(AR7:AR7) -> 80 | AT7: ='Nilai Rapor 1-5 (Puluhan)'!AP7 -> 80 | AU7: =AVERAGE(AT7:AT7) -> 80 | AV7: ='Nilai Rapor 1-5 (Puluhan)'!AQ7 -> 76 | AW7: =AVERAGE(AV7:AV7) -> 76 | AX7: =AO7+AQ7+AS7+AU7+AW7 -> 384 | AY7: =AX7/5 -> 76.8 | AZ7: ='Nilai Rapor 1-5 (Puluhan)'!AU7 -> 74 | BA7: =AVERAGE(AZ7:AZ7) -> 74 | BB7: ='Nilai Rapor 1-5 (Puluhan)'!AV7 -> 78 | BC7: =AVERAGE(BB7:BB7) -> 78 | BD7: ='Nilai Rapor 1-5 (Puluhan)'!AW7 -> 77 | BE7: =AVERAGE(BD7:BD7) -> 77 | BF7: ='Nilai Rapor 1-5 (Puluhan)'!AX7 -> 79 | BG7: =AVERAGE(BF7:BF7) -> 79 | BH7: ='Nilai Rapor 1-5 (Puluhan)'!AY7 -> 76 | BI7: =AVERAGE(BH7:BH7) -> 76 | BJ7: =BA7+BC7+BE7+BG7+BI7 -> 384 | BK7: =BJ7/5 -> 76.8 | BL7: ='Nilai Rapor 1-5 (Puluhan)'!BC7 -> 75 | BM7: =AVERAGE(BL7:BL7) -> 75 | BN7: ='Nilai Rapor 1-5 (Puluhan)'!BD7 -> 81 | BO7: =AVERAGE(BN7:BN7) -> 81 | BP7: ='Nilai Rapor 1-5 (Puluhan)'!BE7 -> 81 | BQ7: =AVERAGE(BP7:BP7) -> 81 | BR7: ='Nilai Rapor 1-5 (Puluhan)'!BF7 -> 81 | BS7: =AVERAGE(BR7:BR7) -> 81 | BT7: ='Nilai Rapor 1-5 (Puluhan)'!BG7 -> 82 | BU7: =AVERAGE(BT7:BT7) -> 82 | BV7: =BM7+BO7+BQ7+BS7+BU7 -> 400 | BW7: =BV7/5 -> 80 | BX7: ='Nilai Rapor 1-5 (Puluhan)'!BK7 -> 78 | BY7: =AVERAGE(BX7:BX7) -> 78 | BZ7: ='Nilai Rapor 1-5 (Puluhan)'!BL7 -> 77 | CA7: =AVERAGE(BZ7:BZ7) -> 77 | CB7: ='Nilai Rapor 1-5 (Puluhan)'!BM7 -> 79 | CC7: =AVERAGE(CB7:CB7) -> 79 | CD7: ='Nilai Rapor 1-5 (Puluhan)'!BN7 -> 80 | CE7: =AVERAGE(CD7:CD7) -> 80 | CF7: ='Nilai Rapor 1-5 (Puluhan)'!BO7 -> 78 | CG7: =AVERAGE(CF7:CF7) -> 78 | CH7: =BY7+CA7+CC7+CE7+CG7 -> 392 | CI7: =CH7/5 -> 78.4 | CK7: ='Nilai Rapor 1-5 (Puluhan)'!EG7 -> 89.25 | CL7: =AVERAGE(CK7:CK7) -> 89.25 | CM7: ='Nilai Rapor 1-5 (Puluhan)'!EH7 -> 89.75 | CN7: =AVERAGE(CM7:CM7) -> 89.75 | CO7: ='Nilai Rapor 1-5 (Puluhan)'!EI7 -> 89.75 | CP7: =AVERAGE(CO7:CO7) -> 89.75 | CQ7: ='Nilai Rapor 1-5 (Puluhan)'!EJ7 -> 89.75 | CR7: =AVERAGE(CQ7:CQ7) -> 89.75 | CS7: ='Nilai Rapor 1-5 (Puluhan)'!EK7 -> 89.75 | CT7: =AVERAGE(CS7:CS7) -> 89.75 | CU7: =CL7+CN7+CP7+CR7+CT7 -> 448.25 | CV7: =CU7/5 -> 89.65 | CX7: =AVERAGE(CK7,P7,AB7,AN7,AZ7,BL7,BX7) -> 80.178571 | CY7: =AVERAGE(CX7,CX7) -> 80.178571 | CZ7: =AVERAGE(CM7,R7,AD7,AP7,BB7,BN7,BZ7) -> 81.25 | DA7: =AVERAGE(CZ7,CZ7) -> 81.25 | DB7: =AVERAGE(CO7,T7,AF7,AR7,BD7,BP7,CB7) -> 81.535714 | DC7: =AVERAGE(DB7,DB7) -> 81.535714 | DD7: =AVERAGE(CQ7,V7,AH7,AT7,BF7,BR7,CD7) -> 82.107143 | DE7: =AVERAGE(DD7,DD7) -> 82.107143 | DF7: =AVERAGE(CS7,X7,AJ7,AV7,BH7,BT7,CF7) -> 81.392857 | DG7: =AVERAGE(DF7,DF7) -> 81.392857 | DH7: =AVERAGE(CV7,AA7,AM7,AY7,BK7,BW7,CI7) -> 81.292857 | DI7: =RANK(DH7,$DH$7:$DH$51,0) -> 28
A8: 2 | B8: Ahmad Thorik | C8: 0101525400 | D8: ='Nilai Rapor 1-5 (Puluhan)'!G8 -> 86 | E8: =AVERAGE(D8:D8) -> 86 | F8: ='Nilai Rapor 1-5 (Puluhan)'!H8 -> 89 | G8: =AVERAGE(F8:F8) -> 89 | H8: ='Nilai Rapor 1-5 (Puluhan)'!I8 -> 89 | I8: =AVERAGE(H8:H8) -> 89 | J8: ='Nilai Rapor 1-5 (Puluhan)'!J8 -> 91 | K8: =AVERAGE(J8:J8) -> 91 | L8: ='Nilai Rapor 1-5 (Puluhan)'!K8 -> 90 | M8: =AVERAGE(L8:L8) -> 90 | N8: =E8+G8+I8+K8+M8 -> 445 | O8: =N8/5 -> 89 | P8: ='Nilai Rapor 1-5 (Puluhan)'!W8 -> 85 | Q8: =AVERAGE(P8:P8) -> 85 | R8: ='Nilai Rapor 1-5 (Puluhan)'!X8 -> 86 | S8: =AVERAGE(R8:R8) -> 86 | T8: ='Nilai Rapor 1-5 (Puluhan)'!Y8 -> 89 | U8: =AVERAGE(T8:T8) -> 89 | V8: ='Nilai Rapor 1-5 (Puluhan)'!Z8 -> 90 | W8: =AVERAGE(V8:V8) -> 90 | X8: ='Nilai Rapor 1-5 (Puluhan)'!AA8 -> 90 | Y8: =AVERAGE(X8:X8) -> 90 | Z8: =Q8+S8+U8+W8+Y8 -> 440 | AA8: =Z8/5 -> 88 | AB8: ='Nilai Rapor 1-5 (Puluhan)'!AE8 -> 84 | AC8: =AVERAGE(AB8:AB8) -> 84 | AD8: ='Nilai Rapor 1-5 (Puluhan)'!AF8 -> 82 | AE8: =AVERAGE(AD8:AD8) -> 82 | AF8: ='Nilai Rapor 1-5 (Puluhan)'!AG8 -> 75 | AG8: =AVERAGE(AF8:AF8) -> 75 | AH8: ='Nilai Rapor 1-5 (Puluhan)'!AH8 -> 76 | AI8: =AVERAGE(AH8:AH8) -> 76 | AJ8: ='Nilai Rapor 1-5 (Puluhan)'!AI8 -> 76 | AK8: =AVERAGE(AJ8:AJ8) -> 76 | AL8: =AC8+AE8+AG8+AI8+AK8 -> 393 | AM8: =AL8/5 -> 78.6 | AN8: ='Nilai Rapor 1-5 (Puluhan)'!AM8 -> 74 | AO8: =AVERAGE(AN8:AN8) -> 74 | AP8: ='Nilai Rapor 1-5 (Puluhan)'!AN8 -> 74 | AQ8: =AVERAGE(AP8:AP8) -> 74 | AR8: ='Nilai Rapor 1-5 (Puluhan)'!AO8 -> 80 | AS8: =AVERAGE(AR8:AR8) -> 80 | AT8: ='Nilai Rapor 1-5 (Puluhan)'!AP8 -> 80 | AU8: =AVERAGE(AT8:AT8) -> 80 | AV8: ='Nilai Rapor 1-5 (Puluhan)'!AQ8 -> 76 | AW8: =AVERAGE(AV8:AV8) -> 76 | AX8: =AO8+AQ8+AS8+AU8+AW8 -> 384 | AY8: =AX8/5 -> 76.8 | AZ8: ='Nilai Rapor 1-5 (Puluhan)'!AU8 -> 75 | BA8: =AVERAGE(AZ8:AZ8) -> 75 | BB8: ='Nilai Rapor 1-5 (Puluhan)'!AV8 -> 78 | BC8: =AVERAGE(BB8:BB8) -> 78 | BD8: ='Nilai Rapor 1-5 (Puluhan)'!AW8 -> 77 | BE8: =AVERAGE(BD8:BD8) -> 77 | BF8: ='Nilai Rapor 1-5 (Puluhan)'!AX8 -> 81 | BG8: =AVERAGE(BF8:BF8) -> 81 | BH8: ='Nilai Rapor 1-5 (Puluhan)'!AY8 -> 76 | BI8: =AVERAGE(BH8:BH8) -> 76 | BJ8: =BA8+BC8+BE8+BG8+BI8 -> 387 | BK8: =BJ8/5 -> 77.4 | BL8: ='Nilai Rapor 1-5 (Puluhan)'!BC8 -> 77 | BM8: =AVERAGE(BL8:BL8) -> 77 | BN8: ='Nilai Rapor 1-5 (Puluhan)'!BD8 -> 81 | BO8: =AVERAGE(BN8:BN8) -> 81 | BP8: ='Nilai Rapor 1-5 (Puluhan)'!BE8 -> 81 | BQ8: =AVERAGE(BP8:BP8) -> 81 | BR8: ='Nilai Rapor 1-5 (Puluhan)'!BF8 -> 82 | BS8: =AVERAGE(BR8:BR8) -> 82 | BT8: ='Nilai Rapor 1-5 (Puluhan)'!BG8 -> 76 | BU8: =AVERAGE(BT8:BT8) -> 76 | BV8: =BM8+BO8+BQ8+BS8+BU8 -> 397 | BW8: =BV8/5 -> 79.4 | BX8: ='Nilai Rapor 1-5 (Puluhan)'!BK8 -> 76 | BY8: =AVERAGE(BX8:BX8) -> 76 | BZ8: ='Nilai Rapor 1-5 (Puluhan)'!BL8 -> 77 | CA8: =AVERAGE(BZ8:BZ8) -> 77 | CB8: ='Nilai Rapor 1-5 (Puluhan)'!BM8 -> 82 | CC8: =AVERAGE(CB8:CB8) -> 82 | CD8: ='Nilai Rapor 1-5 (Puluhan)'!BN8 -> 79 | CE8: =AVERAGE(CD8:CD8) -> 79 | CF8: ='Nilai Rapor 1-5 (Puluhan)'!BO8 -> 76 | CG8: =AVERAGE(CF8:CF8) -> 76 | CH8: =BY8+CA8+CC8+CE8+CG8 -> 390 | CI8: =CH8/5 -> 78 | CK8: ='Nilai Rapor 1-5 (Puluhan)'!EG8 -> 86.25 | CL8: =AVERAGE(CK8:CK8) -> 86.25 | CM8: ='Nilai Rapor 1-5 (Puluhan)'!EH8 -> 87.75 | CN8: =AVERAGE(CM8:CM8) -> 87.75 | CO8: ='Nilai Rapor 1-5 (Puluhan)'!EI8 -> 90.25 | CP8: =AVERAGE(CO8:CO8) -> 90.25 | CQ8: ='Nilai Rapor 1-5 (Puluhan)'!EJ8 -> 89.25 | CR8: =AVERAGE(CQ8:CQ8) -> 89.25 | CS8: ='Nilai Rapor 1-5 (Puluhan)'!EK8 -> 88.75 | CT8: =AVERAGE(CS8:CS8) -> 88.75 | CU8: =CL8+CN8+CP8+CR8+CT8 -> 442.25 | CV8: =CU8/5 -> 88.45 | CX8: =AVERAGE(CK8,P8,AB8,AN8,AZ8,BL8,BX8) -> 79.607143 | CY8: =AVERAGE(CX8,CX8) -> 79.607143 | CZ8: =AVERAGE(CM8,R8,AD8,AP8,BB8,BN8,BZ8) -> 80.821429 | DA8: =AVERAGE(CZ8,CZ8) -> 80.821429 | DB8: =AVERAGE(CO8,T8,AF8,AR8,BD8,BP8,CB8) -> 82.035714 | DC8: =AVERAGE(DB8,DB8) -> 82.035714 | DD8: =AVERAGE(CQ8,V8,AH8,AT8,BF8,BR8,CD8) -> 82.464286 | DE8: =AVERAGE(DD8,DD8) -> 82.464286 | DF8: =AVERAGE(CS8,X8,AJ8,AV8,BH8,BT8,CF8) -> 79.821429 | DG8: =AVERAGE(DF8,DF8) -> 79.821429 | DH8: =AVERAGE(CV8,AA8,AM8,AY8,BK8,BW8,CI8) -> 80.95 | DI8: =RANK(DH8,$DH$7:$DH$51,0) -> 29
A9: 3 | B9: Andisa Nailal Aufa | C9: 0109561350 | D9: ='Nilai Rapor 1-5 (Puluhan)'!G9 -> 92 | E9: =AVERAGE(D9:D9) -> 92 | F9: ='Nilai Rapor 1-5 (Puluhan)'!H9 -> 93 | G9: =AVERAGE(F9:F9) -> 93 | H9: ='Nilai Rapor 1-5 (Puluhan)'!I9 -> 91 | I9: =AVERAGE(H9:H9) -> 91 | J9: ='Nilai Rapor 1-5 (Puluhan)'!J9 -> 93 | K9: =AVERAGE(J9:J9) -> 93 | L9: ='Nilai Rapor 1-5 (Puluhan)'!K9 -> 94 | M9: =AVERAGE(L9:L9) -> 94 | N9: =E9+G9+I9+K9+M9 -> 463 | O9: =N9/5 -> 92.6 | P9: ='Nilai Rapor 1-5 (Puluhan)'!W9 -> 93 | Q9: =AVERAGE(P9:P9) -> 93 | R9: ='Nilai Rapor 1-5 (Puluhan)'!X9 -> 95 | S9: =AVERAGE(R9:R9) -> 95 | T9: ='Nilai Rapor 1-5 (Puluhan)'!Y9 -> 93 | U9: =AVERAGE(T9:T9) -> 93 | V9: ='Nilai Rapor 1-5 (Puluhan)'!Z9 -> 92 | W9: =AVERAGE(V9:V9) -> 92 | X9: ='Nilai Rapor 1-5 (Puluhan)'!AA9 -> 93 | Y9: =AVERAGE(X9:X9) -> 93 | Z9: =Q9+S9+U9+W9+Y9 -> 466 | AA9: =Z9/5 -> 93.2 | AB9: ='Nilai Rapor 1-5 (Puluhan)'!AE9 -> 88 | AC9: =AVERAGE(AB9:AB9) -> 88 | AD9: ='Nilai Rapor 1-5 (Puluhan)'!AF9 -> 90 | AE9: =AVERAGE(AD9:AD9) -> 90 | AF9: ='Nilai Rapor 1-5 (Puluhan)'!AG9 -> 81 | AG9: =AVERAGE(AF9:AF9) -> 81 | AH9: ='Nilai Rapor 1-5 (Puluhan)'!AH9 -> 81 | AI9: =AVERAGE(AH9:AH9) -> 81 | AJ9: ='Nilai Rapor 1-5 (Puluhan)'!AI9 -> 86 | AK9: =AVERAGE(AJ9:AJ9) -> 86 | AL9: =AC9+AE9+AG9+AI9+AK9 -> 426 | AM9: =AL9/5 -> 85.2 | AN9: ='Nilai Rapor 1-5 (Puluhan)'!AM9 -> 82 | AO9: =AVERAGE(AN9:AN9) -> 82 | AP9: ='Nilai Rapor 1-5 (Puluhan)'!AN9 -> 84 | AQ9: =AVERAGE(AP9:AP9) -> 84 | AR9: ='Nilai Rapor 1-5 (Puluhan)'!AO9 -> 83 | AS9: =AVERAGE(AR9:AR9) -> 83 | AT9: ='Nilai Rapor 1-5 (Puluhan)'!AP9 -> 84 | AU9: =AVERAGE(AT9:AT9) -> 84 | AV9: ='Nilai Rapor 1-5 (Puluhan)'!AQ9 -> 79 | AW9: =AVERAGE(AV9:AV9) -> 79 | AX9: =AO9+AQ9+AS9+AU9+AW9 -> 412 | AY9: =AX9/5 -> 82.4 | AZ9: ='Nilai Rapor 1-5 (Puluhan)'!AU9 -> 84 | BA9: =AVERAGE(AZ9:AZ9) -> 84 | BB9: ='Nilai Rapor 1-5 (Puluhan)'!AV9 -> 85 | BC9: =AVERAGE(BB9:BB9) -> 85 | BD9: ='Nilai Rapor 1-5 (Puluhan)'!AW9 -> 84 | BE9: =AVERAGE(BD9:BD9) -> 84 | BF9: ='Nilai Rapor 1-5 (Puluhan)'!AX9 -> 89 | BG9: =AVERAGE(BF9:BF9) -> 89 | BH9: ='Nilai Rapor 1-5 (Puluhan)'!AY9 -> 83 | BI9: =AVERAGE(BH9:BH9) -> 83 | BJ9: =BA9+BC9+BE9+BG9+BI9 -> 425 | BK9: =BJ9/5 -> 85 | BL9: ='Nilai Rapor 1-5 (Puluhan)'!BC9 -> 85 | BM9: =AVERAGE(BL9:BL9) -> 85 | BN9: ='Nilai Rapor 1-5 (Puluhan)'!BD9 -> 87 | BO9: =AVERAGE(BN9:BN9) -> 87 | BP9: ='Nilai Rapor 1-5 (Puluhan)'!BE9 -> 90 | BQ9: =AVERAGE(BP9:BP9) -> 90 | BR9: ='Nilai Rapor 1-5 (Puluhan)'!BF9 -> 88 | BS9: =AVERAGE(BR9:BR9) -> 88 | BT9: ='Nilai Rapor 1-5 (Puluhan)'!BG9 -> 87 | BU9: =AVERAGE(BT9:BT9) -> 87 | BV9: =BM9+BO9+BQ9+BS9+BU9 -> 437 | BW9: =BV9/5 -> 87.4 | BX9: ='Nilai Rapor 1-5 (Puluhan)'!BK9 -> 84 | BY9: =AVERAGE(BX9:BX9) -> 84 | BZ9: ='Nilai Rapor 1-5 (Puluhan)'!BL9 -> 85 | CA9: =AVERAGE(BZ9:BZ9) -> 85 | CB9: ='Nilai Rapor 1-5 (Puluhan)'!BM9 -> 86 | CC9: =AVERAGE(CB9:CB9) -> 86 | CD9: ='Nilai Rapor 1-5 (Puluhan)'!BN9 -> 85 | CE9: =AVERAGE(CD9:CD9) -> 85 | CF9: ='Nilai Rapor 1-5 (Puluhan)'!BO9 -> 86 | CG9: =AVERAGE(CF9:CF9) -> 86 | CH9: =BY9+CA9+CC9+CE9+CG9 -> 426 | CI9: =CH9/5 -> 85.2 | CK9: ='Nilai Rapor 1-5 (Puluhan)'!EG9 -> 91.5 | CL9: =AVERAGE(CK9:CK9) -> 91.5 | CM9: ='Nilai Rapor 1-5 (Puluhan)'!EH9 -> 91.75 | CN9: =AVERAGE(CM9:CM9) -> 91.75 | CO9: ='Nilai Rapor 1-5 (Puluhan)'!EI9 -> 91.75 | CP9: =AVERAGE(CO9:CO9) -> 91.75 | CQ9: ='Nilai Rapor 1-5 (Puluhan)'!EJ9 -> 92.25 | CR9: =AVERAGE(CQ9:CQ9) -> 92.25 | CS9: ='Nilai Rapor 1-5 (Puluhan)'!EK9 -> 92.75 | CT9: =AVERAGE(CS9:CS9) -> 92.75 | CU9: =CL9+CN9+CP9+CR9+CT9 -> 460 | CV9: =CU9/5 -> 92 | CX9: =AVERAGE(CK9,P9,AB9,AN9,AZ9,BL9,BX9) -> 86.785714 | CY9: =AVERAGE(CX9,CX9) -> 86.785714 | CZ9: =AVERAGE(CM9,R9,AD9,AP9,BB9,BN9,BZ9) -> 88.25 | DA9: =AVERAGE(CZ9,CZ9) -> 88.25 | DB9: =AVERAGE(CO9,T9,AF9,AR9,BD9,BP9,CB9) -> 86.964286 | DC9: =AVERAGE(DB9,DB9) -> 86.964286 | DD9: =AVERAGE(CQ9,V9,AH9,AT9,BF9,BR9,CD9) -> 87.321429 | DE9: =AVERAGE(DD9,DD9) -> 87.321429 | DF9: =AVERAGE(CS9,X9,AJ9,AV9,BH9,BT9,CF9) -> 86.678571 | DG9: =AVERAGE(DF9,DF9) -> 86.678571 | DH9: =AVERAGE(CV9,AA9,AM9,AY9,BK9,BW9,CI9) -> 87.2 | DI9: =RANK(DH9,$DH$7:$DH$51,0) -> 4
A10: 4 | B10: Dina Rahmadhadi | C10: 0097792496 | D10: ='Nilai Rapor 1-5 (Puluhan)'!G10 -> 95 | E10: =AVERAGE(D10:D10) -> 95 | F10: ='Nilai Rapor 1-5 (Puluhan)'!H10 -> 90 | G10: =AVERAGE(F10:F10) -> 90 | H10: ='Nilai Rapor 1-5 (Puluhan)'!I10 -> 93 | I10: =AVERAGE(H10:H10) -> 93 | J10: ='Nilai Rapor 1-5 (Puluhan)'!J10 -> 95 | K10: =AVERAGE(J10:J10) -> 95 | L10: ='Nilai Rapor 1-5 (Puluhan)'!K10 -> 93 | M10: =AVERAGE(L10:L10) -> 93 | N10: =E10+G10+I10+K10+M10 -> 466 | O10: =N10/5 -> 93.2 | P10: ='Nilai Rapor 1-5 (Puluhan)'!W10 -> 92 | Q10: =AVERAGE(P10:P10) -> 92 | R10: ='Nilai Rapor 1-5 (Puluhan)'!X10 -> 94 | S10: =AVERAGE(R10:R10) -> 94 | T10: ='Nilai Rapor 1-5 (Puluhan)'!Y10 -> 91 | U10: =AVERAGE(T10:T10) -> 91 | V10: ='Nilai Rapor 1-5 (Puluhan)'!Z10 -> 93 | W10: =AVERAGE(V10:V10) -> 93 | X10: ='Nilai Rapor 1-5 (Puluhan)'!AA10 -> 92 | Y10: =AVERAGE(X10:X10) -> 92 | Z10: =Q10+S10+U10+W10+Y10 -> 462 | AA10: =Z10/5 -> 92.4 | AB10: ='Nilai Rapor 1-5 (Puluhan)'!AE10 -> 87 | AC10: =AVERAGE(AB10:AB10) -> 87 | AD10: ='Nilai Rapor 1-5 (Puluhan)'!AF10 -> 89 | AE10: =AVERAGE(AD10:AD10) -> 89 | AF10: ='Nilai Rapor 1-5 (Puluhan)'!AG10 -> 82 | AG10: =AVERAGE(AF10:AF10) -> 82 | AH10: ='Nilai Rapor 1-5 (Puluhan)'!AH10 -> 78 | AI10: =AVERAGE(AH10:AH10) -> 78 | AJ10: ='Nilai Rapor 1-5 (Puluhan)'!AI10 -> 82 | AK10: =AVERAGE(AJ10:AJ10) -> 82 | AL10: =AC10+AE10+AG10+AI10+AK10 -> 418 | AM10: =AL10/5 -> 83.6 | AN10: ='Nilai Rapor 1-5 (Puluhan)'!AM10 -> 84 | AO10: =AVERAGE(AN10:AN10) -> 84 | AP10: ='Nilai Rapor 1-5 (Puluhan)'!AN10 -> 83 | AQ10: =AVERAGE(AP10:AP10) -> 83 | AR10: ='Nilai Rapor 1-5 (Puluhan)'!AO10 -> 82 | AS10: =AVERAGE(AR10:AR10) -> 82 | AT10: ='Nilai Rapor 1-5 (Puluhan)'!AP10 -> 82 | AU10: =AVERAGE(AT10:AT10) -> 82 | AV10: ='Nilai Rapor 1-5 (Puluhan)'!AQ10 -> 78 | AW10: =AVERAGE(AV10:AV10) -> 78 | AX10: =AO10+AQ10+AS10+AU10+AW10 -> 409 | AY10: =AX10/5 -> 81.8 | AZ10: ='Nilai Rapor 1-5 (Puluhan)'!AU10 -> 88 | BA10: =AVERAGE(AZ10:AZ10) -> 88 | BB10: ='Nilai Rapor 1-5 (Puluhan)'!AV10 -> 87 | BC10: =AVERAGE(BB10:BB10) -> 87 | BD10: ='Nilai Rapor 1-5 (Puluhan)'!AW10 -> 83 | BE10: =AVERAGE(BD10:BD10) -> 83 | BF10: ='Nilai Rapor 1-5 (Puluhan)'!AX10 -> 88 | BG10: =AVERAGE(BF10:BF10) -> 88 | BH10: ='Nilai Rapor 1-5 (Puluhan)'!AY10 -> 81 | BI10: =AVERAGE(BH10:BH10) -> 81 | BJ10: =BA10+BC10+BE10+BG10+BI10 -> 427 | BK10: =BJ10/5 -> 85.4 | BL10: ='Nilai Rapor 1-5 (Puluhan)'!BC10 -> 89 | BM10: =AVERAGE(BL10:BL10) -> 89 | BN10: ='Nilai Rapor 1-5 (Puluhan)'!BD10 -> 90 | BO10: =AVERAGE(BN10:BN10) -> 90 | BP10: ='Nilai Rapor 1-5 (Puluhan)'!BE10 -> 88 | BQ10: =AVERAGE(BP10:BP10) -> 88 | BR10: ='Nilai Rapor 1-5 (Puluhan)'!BF10 -> 83 | BS10: =AVERAGE(BR10:BR10) -> 83 | BT10: ='Nilai Rapor 1-5 (Puluhan)'!BG10 -> 85 | BU10: =AVERAGE(BT10:BT10) -> 85 | BV10: =BM10+BO10+BQ10+BS10+BU10 -> 435 | BW10: =BV10/5 -> 87 | BX10: ='Nilai Rapor 1-5 (Puluhan)'!BK10 -> 88 | BY10: =AVERAGE(BX10:BX10) -> 88 | BZ10: ='Nilai Rapor 1-5 (Puluhan)'!BL10 -> 89 | CA10: =AVERAGE(BZ10:BZ10) -> 89 | CB10: ='Nilai Rapor 1-5 (Puluhan)'!BM10 -> 88 | CC10: =AVERAGE(CB10:CB10) -> 88 | CD10: ='Nilai Rapor 1-5 (Puluhan)'!BN10 -> 85 | CE10: =AVERAGE(CD10:CD10) -> 85 | CF10: ='Nilai Rapor 1-5 (Puluhan)'!BO10 -> 83 | CG10: =AVERAGE(CF10:CF10) -> 83 | CH10: =BY10+CA10+CC10+CE10+CG10 -> 433 | CI10: =CH10/5 -> 86.6 | CK10: ='Nilai Rapor 1-5 (Puluhan)'!EG10 -> 91.5 | CL10: =AVERAGE(CK10:CK10) -> 91.5 | CM10: ='Nilai Rapor 1-5 (Puluhan)'!EH10 -> 92 | CN10: =AVERAGE(CM10:CM10) -> 92 | CO10: ='Nilai Rapor 1-5 (Puluhan)'!EI10 -> 93.25 | CP10: =AVERAGE(CO10:CO10) -> 93.25 | CQ10: ='Nilai Rapor 1-5 (Puluhan)'!EJ10 -> 92.75 | CR10: =AVERAGE(CQ10:CQ10) -> 92.75 | CS10: ='Nilai Rapor 1-5 (Puluhan)'!EK10 -> 91.5 | CT10: =AVERAGE(CS10:CS10) -> 91.5 | CU10: =CL10+CN10+CP10+CR10+CT10 -> 461 | CV10: =CU10/5 -> 92.2 | CX10: =AVERAGE(CK10,P10,AB10,AN10,AZ10,BL10,BX10) -> 88.5 | CY10: =AVERAGE(CX10,CX10) -> 88.5 | CZ10: =AVERAGE(CM10,R10,AD10,AP10,BB10,BN10,BZ10) -> 89.142857 | DA10: =AVERAGE(CZ10,CZ10) -> 89.142857 | DB10: =AVERAGE(CO10,T10,AF10,AR10,BD10,BP10,CB10) -> 86.75 | DC10: =AVERAGE(DB10,DB10) -> 86.75 | DD10: =AVERAGE(CQ10,V10,AH10,AT10,BF10,BR10,CD10) -> 85.964286 | DE10: =AVERAGE(DD10,DD10) -> 85.964286 | DF10: =AVERAGE(CS10,X10,AJ10,AV10,BH10,BT10,CF10) -> 84.642857 | DG10: =AVERAGE(DF10,DF10) -> 84.642857 | DH10: =AVERAGE(CV10,AA10,AM10,AY10,BK10,BW10,CI10) -> 87 | DI10: =RANK(DH10,$DH$7:$DH$51,0) -> 7
A11: 5 | B11: Diva Ayuning Tiyas | C11: 3097506272 | D11: ='Nilai Rapor 1-5 (Puluhan)'!G11 -> 86 | E11: =AVERAGE(D11:D11) -> 86 | F11: ='Nilai Rapor 1-5 (Puluhan)'!H11 -> 83 | G11: =AVERAGE(F11:F11) -> 83 | H11: ='Nilai Rapor 1-5 (Puluhan)'!I11 -> 81 | I11: =AVERAGE(H11:H11) -> 81 | J11: ='Nilai Rapor 1-5 (Puluhan)'!J11 -> 81 | K11: =AVERAGE(J11:J11) -> 81 | L11: ='Nilai Rapor 1-5 (Puluhan)'!K11 -> 80 | M11: =AVERAGE(L11:L11) -> 80 | N11: =E11+G11+I11+K11+M11 -> 411 | O11: =N11/5 -> 82.2 | P11: ='Nilai Rapor 1-5 (Puluhan)'!W11 -> 76 | Q11: =AVERAGE(P11:P11) -> 76 | R11: ='Nilai Rapor 1-5 (Puluhan)'!X11 -> 75 | S11: =AVERAGE(R11:R11) -> 75 | T11: ='Nilai Rapor 1-5 (Puluhan)'!Y11 -> 82 | U11: =AVERAGE(T11:T11) -> 82 | V11: ='Nilai Rapor 1-5 (Puluhan)'!Z11 -> 82 | W11: =AVERAGE(V11:V11) -> 82 | X11: ='Nilai Rapor 1-5 (Puluhan)'!AA11 -> 84 | Y11: =AVERAGE(X11:X11) -> 84 | Z11: =Q11+S11+U11+W11+Y11 -> 399 | AA11: =Z11/5 -> 79.8 | AB11: ='Nilai Rapor 1-5 (Puluhan)'!AE11 -> 79 | AC11: =AVERAGE(AB11:AB11) -> 79 | AD11: ='Nilai Rapor 1-5 (Puluhan)'!AF11 -> 85 | AE11: =AVERAGE(AD11:AD11) -> 85 | AF11: ='Nilai Rapor 1-5 (Puluhan)'!AG11 -> 77 | AG11: =AVERAGE(AF11:AF11) -> 77 | AH11: ='Nilai Rapor 1-5 (Puluhan)'!AH11 -> 76 | AI11: =AVERAGE(AH11:AH11) -> 76 | AJ11: ='Nilai Rapor 1-5 (Puluhan)'!AI11 -> 76 | AK11: =AVERAGE(AJ11:AJ11) -> 76 | AL11: =AC11+AE11+AG11+AI11+AK11 -> 393 | AM11: =AL11/5 -> 78.6 | AN11: ='Nilai Rapor 1-5 (Puluhan)'!AM11 -> 74 | AO11: =AVERAGE(AN11:AN11) -> 74 | AP11: ='Nilai Rapor 1-5 (Puluhan)'!AN11 -> 74 | AQ11: =AVERAGE(AP11:AP11) -> 74 | AR11: ='Nilai Rapor 1-5 (Puluhan)'!AO11 -> 80 | AS11: =AVERAGE(AR11:AR11) -> 80 | AT11: ='Nilai Rapor 1-5 (Puluhan)'!AP11 -> 84 | AU11: =AVERAGE(AT11:AT11) -> 84 | AV11: ='Nilai Rapor 1-5 (Puluhan)'!AQ11 -> 76 | AW11: =AVERAGE(AV11:AV11) -> 76 | AX11: =AO11+AQ11+AS11+AU11+AW11 -> 388 | AY11: =AX11/5 -> 77.6 | AZ11: ='Nilai Rapor 1-5 (Puluhan)'!AU11 -> 74 | BA11: =AVERAGE(AZ11:AZ11) -> 74 | BB11: ='Nilai Rapor 1-5 (Puluhan)'!AV11 -> 81 | BC11: =AVERAGE(BB11:BB11) -> 81 | BD11: ='Nilai Rapor 1-5 (Puluhan)'!AW11 -> 79 | BE11: =AVERAGE(BD11:BD11) -> 79 | BF11: ='Nilai Rapor 1-5 (Puluhan)'!AX11 -> 83 | BG11: =AVERAGE(BF11:BF11) -> 83 | BH11: ='Nilai Rapor 1-5 (Puluhan)'!AY11 -> 78 | BI11: =AVERAGE(BH11:BH11) -> 78 | BJ11: =BA11+BC11+BE11+BG11+BI11 -> 395 | BK11: =BJ11/5 -> 79 | BL11: ='Nilai Rapor 1-5 (Puluhan)'!BC11 -> 77 | BM11: =AVERAGE(BL11:BL11) -> 77 | BN11: ='Nilai Rapor 1-5 (Puluhan)'!BD11 -> 81 | BO11: =AVERAGE(BN11:BN11) -> 81 | BP11: ='Nilai Rapor 1-5 (Puluhan)'!BE11 -> 84 | BQ11: =AVERAGE(BP11:BP11) -> 84 | BR11: ='Nilai Rapor 1-5 (Puluhan)'!BF11 -> 81 | BS11: =AVERAGE(BR11:BR11) -> 81 | BT11: ='Nilai Rapor 1-5 (Puluhan)'!BG11 -> 80 | BU11: =AVERAGE(BT11:BT11) -> 80 | BV11: =BM11+BO11+BQ11+BS11+BU11 -> 403 | BW11: =BV11/5 -> 80.6 | BX11: ='Nilai Rapor 1-5 (Puluhan)'!BK11 -> 76 | BY11: =AVERAGE(BX11:BX11) -> 76 | BZ11: ='Nilai Rapor 1-5 (Puluhan)'!BL11 -> 77 | CA11: =AVERAGE(BZ11:BZ11) -> 77 | CB11: ='Nilai Rapor 1-5 (Puluhan)'!BM11 -> 85 | CC11: =AVERAGE(CB11:CB11) -> 85 | CD11: ='Nilai Rapor 1-5 (Puluhan)'!BN11 -> 80 | CE11: =AVERAGE(CD11:CD11) -> 80 | CF11: ='Nilai Rapor 1-5 (Puluhan)'!BO11 -> 78 | CG11: =AVERAGE(CF11:CF11) -> 78 | CH11: =BY11+CA11+CC11+CE11+CG11 -> 396 | CI11: =CH11/5 -> 79.2 | CK11: ='Nilai Rapor 1-5 (Puluhan)'!EG11 -> 83.5 | CL11: =AVERAGE(CK11:CK11) -> 83.5 | CM11: ='Nilai Rapor 1-5 (Puluhan)'!EH11 -> 80.5 | CN11: =AVERAGE(CM11:CM11) -> 80.5 | CO11: ='Nilai Rapor 1-5 (Puluhan)'!EI11 -> 82.75 | CP11: =AVERAGE(CO11:CO11) -> 82.75 | CQ11: ='Nilai Rapor 1-5 (Puluhan)'!EJ11 -> 81 | CR11: =AVERAGE(CQ11:CQ11) -> 81 | CS11: ='Nilai Rapor 1-5 (Puluhan)'!EK11 -> 81 | CT11: =AVERAGE(CS11:CS11) -> 81 | CU11: =CL11+CN11+CP11+CR11+CT11 -> 408.75 | CV11: =CU11/5 -> 81.75 | CX11: =AVERAGE(CK11,P11,AB11,AN11,AZ11,BL11,BX11) -> 77.071429 | CY11: =AVERAGE(CX11,CX11) -> 77.071429 | CZ11: =AVERAGE(CM11,R11,AD11,AP11,BB11,BN11,BZ11) -> 79.071429 | DA11: =AVERAGE(CZ11,CZ11) -> 79.071429 | DB11: =AVERAGE(CO11,T11,AF11,AR11,BD11,BP11,CB11) -> 81.392857 | DC11: =AVERAGE(DB11,DB11) -> 81.392857 | DD11: =AVERAGE(CQ11,V11,AH11,AT11,BF11,BR11,CD11) -> 81 | DE11: =AVERAGE(DD11,DD11) -> 81 | DF11: =AVERAGE(CS11,X11,AJ11,AV11,BH11,BT11,CF11) -> 79 | DG11: =AVERAGE(DF11,DF11) -> 79 | DH11: =AVERAGE(CV11,AA11,AM11,AY11,BK11,BW11,CI11) -> 79.507143 | DI11: =RANK(DH11,$DH$7:$DH$51,0) -> 36
A12: 6 | B12: Heri Prasetyo | C12: 0104942364 | D12: ='Nilai Rapor 1-5 (Puluhan)'!G12 -> 97 | E12: =AVERAGE(D12:D12) -> 97 | F12: ='Nilai Rapor 1-5 (Puluhan)'!H12 -> 95 | G12: =AVERAGE(F12:F12) -> 95 | H12: ='Nilai Rapor 1-5 (Puluhan)'!I12 -> 92 | I12: =AVERAGE(H12:H12) -> 92 | J12: ='Nilai Rapor 1-5 (Puluhan)'!J12 -> 94 | K12: =AVERAGE(J12:J12) -> 94 | L12: ='Nilai Rapor 1-5 (Puluhan)'!K12 -> 95 | M12: =AVERAGE(L12:L12) -> 95 | N12: =E12+G12+I12+K12+M12 -> 473 | O12: =N12/5 -> 94.6 | P12: ='Nilai Rapor 1-5 (Puluhan)'!W12 -> 94 | Q12: =AVERAGE(P12:P12) -> 94 | R12: ='Nilai Rapor 1-5 (Puluhan)'!X12 -> 93 | S12: =AVERAGE(R12:R12) -> 93 | T12: ='Nilai Rapor 1-5 (Puluhan)'!Y12 -> 95 | U12: =AVERAGE(T12:T12) -> 95 | V12: ='Nilai Rapor 1-5 (Puluhan)'!Z12 -> 96 | W12: =AVERAGE(V12:V12) -> 96 | X12: ='Nilai Rapor 1-5 (Puluhan)'!AA12 -> 94 | Y12: =AVERAGE(X12:X12) -> 94 | Z12: =Q12+S12+U12+W12+Y12 -> 472 | AA12: =Z12/5 -> 94.4 | AB12: ='Nilai Rapor 1-5 (Puluhan)'!AE12 -> 91 | AC12: =AVERAGE(AB12:AB12) -> 91 | AD12: ='Nilai Rapor 1-5 (Puluhan)'!AF12 -> 93 | AE12: =AVERAGE(AD12:AD12) -> 93 | AF12: ='Nilai Rapor 1-5 (Puluhan)'!AG12 -> 87 | AG12: =AVERAGE(AF12:AF12) -> 87 | AH12: ='Nilai Rapor 1-5 (Puluhan)'!AH12 -> 84 | AI12: =AVERAGE(AH12:AH12) -> 84 | AJ12: ='Nilai Rapor 1-5 (Puluhan)'!AI12 -> 86 | AK12: =AVERAGE(AJ12:AJ12) -> 86 | AL12: =AC12+AE12+AG12+AI12+AK12 -> 441 | AM12: =AL12/5 -> 88.2 | AN12: ='Nilai Rapor 1-5 (Puluhan)'!AM12 -> 85 | AO12: =AVERAGE(AN12:AN12) -> 85 | AP12: ='Nilai Rapor 1-5 (Puluhan)'!AN12 -> 83 | AQ12: =AVERAGE(AP12:AP12) -> 83 | AR12: ='Nilai Rapor 1-5 (Puluhan)'!AO12 -> 83 | AS12: =AVERAGE(AR12:AR12) -> 83 | AT12: ='Nilai Rapor 1-5 (Puluhan)'!AP12 -> 84 | AU12: =AVERAGE(AT12:AT12) -> 84 | AV12: ='Nilai Rapor 1-5 (Puluhan)'!AQ12 -> 83 | AW12: =AVERAGE(AV12:AV12) -> 83 | AX12: =AO12+AQ12+AS12+AU12+AW12 -> 418 | AY12: =AX12/5 -> 83.6 | AZ12: ='Nilai Rapor 1-5 (Puluhan)'!AU12 -> 94 | BA12: =AVERAGE(AZ12:AZ12) -> 94 | BB12: ='Nilai Rapor 1-5 (Puluhan)'!AV12 -> 90 | BC12: =AVERAGE(BB12:BB12) -> 90 | BD12: ='Nilai Rapor 1-5 (Puluhan)'!AW12 -> 86 | BE12: =AVERAGE(BD12:BD12) -> 86 | BF12: ='Nilai Rapor 1-5 (Puluhan)'!AX12 -> 91 | BG12: =AVERAGE(BF12:BF12) -> 91 | BH12: ='Nilai Rapor 1-5 (Puluhan)'!AY12 -> 84 | BI12: =AVERAGE(BH12:BH12) -> 84 | BJ12: =BA12+BC12+BE12+BG12+BI12 -> 445 | BK12: =BJ12/5 -> 89 | BL12: ='Nilai Rapor 1-5 (Puluhan)'!BC12 -> 91 | BM12: =AVERAGE(BL12:BL12) -> 91 | BN12: ='Nilai Rapor 1-5 (Puluhan)'!BD12 -> 93 | BO12: =AVERAGE(BN12:BN12) -> 93 | BP12: ='Nilai Rapor 1-5 (Puluhan)'!BE12 -> 96 | BQ12: =AVERAGE(BP12:BP12) -> 96 | BR12: ='Nilai Rapor 1-5 (Puluhan)'!BF12 -> 95 | BS12: =AVERAGE(BR12:BR12) -> 95 | BT12: ='Nilai Rapor 1-5 (Puluhan)'!BG12 -> 88 | BU12: =AVERAGE(BT12:BT12) -> 88 | BV12: =BM12+BO12+BQ12+BS12+BU12 -> 463 | BW12: =BV12/5 -> 92.6 | BX12: ='Nilai Rapor 1-5 (Puluhan)'!BK12 -> 88 | BY12: =AVERAGE(BX12:BX12) -> 88 | BZ12: ='Nilai Rapor 1-5 (Puluhan)'!BL12 -> 90 | CA12: =AVERAGE(BZ12:BZ12) -> 90 | CB12: ='Nilai Rapor 1-5 (Puluhan)'!BM12 -> 90 | CC12: =AVERAGE(CB12:CB12) -> 90 | CD12: ='Nilai Rapor 1-5 (Puluhan)'!BN12 -> 86 | CE12: =AVERAGE(CD12:CD12) -> 86 | CF12: ='Nilai Rapor 1-5 (Puluhan)'!BO12 -> 84 | CG12: =AVERAGE(CF12:CF12) -> 84 | CH12: =BY12+CA12+CC12+CE12+CG12 -> 438 | CI12: =CH12/5 -> 87.6 | CK12: ='Nilai Rapor 1-5 (Puluhan)'!EG12 -> 95 | CL12: =AVERAGE(CK12:CK12) -> 95 | CM12: ='Nilai Rapor 1-5 (Puluhan)'!EH12 -> 94 | CN12: =AVERAGE(CM12:CM12) -> 94 | CO12: ='Nilai Rapor 1-5 (Puluhan)'!EI12 -> 94 | CP12: =AVERAGE(CO12:CO12) -> 94 | CQ12: ='Nilai Rapor 1-5 (Puluhan)'!EJ12 -> 94.75 | CR12: =AVERAGE(CQ12:CQ12) -> 94.75 | CS12: ='Nilai Rapor 1-5 (Puluhan)'!EK12 -> 94.25 | CT12: =AVERAGE(CS12:CS12) -> 94.25 | CU12: =CL12+CN12+CP12+CR12+CT12 -> 472 | CV12: =CU12/5 -> 94.4 | CX12: =AVERAGE(CK12,P12,AB12,AN12,AZ12,BL12,BX12) -> 91.142857 | CY12: =AVERAGE(CX12,CX12) -> 91.142857 | CZ12: =AVERAGE(CM12,R12,AD12,AP12,BB12,BN12,BZ12) -> 90.857143 | DA12: =AVERAGE(CZ12,CZ12) -> 90.857143 | DB12: =AVERAGE(CO12,T12,AF12,AR12,BD12,BP12,CB12) -> 90.142857 | DC12: =AVERAGE(DB12,DB12) -> 90.142857 | DD12: =AVERAGE(CQ12,V12,AH12,AT12,BF12,BR12,CD12) -> 90.107143 | DE12: =AVERAGE(DD12,DD12) -> 90.107143 | DF12: =AVERAGE(CS12,X12,AJ12,AV12,BH12,BT12,CF12) -> 87.607143 | DG12: =AVERAGE(DF12,DF12) -> 87.607143 | DH12: =AVERAGE(CV12,AA12,AM12,AY12,BK12,BW12,CI12) -> 89.971429 | DI12: =RANK(DH12,$DH$7:$DH$51,0) -> 1
A13: 7 | B13: Kamila Ramadhani | C13: 3103325459 | D13: ='Nilai Rapor 1-5 (Puluhan)'!G13 -> 90 | E13: =AVERAGE(D13:D13) -> 90 | F13: ='Nilai Rapor 1-5 (Puluhan)'!H13 -> 83 | G13: =AVERAGE(F13:F13) -> 83 | H13: ='Nilai Rapor 1-5 (Puluhan)'!I13 -> 84 | I13: =AVERAGE(H13:H13) -> 84 | J13: ='Nilai Rapor 1-5 (Puluhan)'!J13 -> 85 | K13: =AVERAGE(J13:J13) -> 85 | L13: ='Nilai Rapor 1-5 (Puluhan)'!K13 -> 90 | M13: =AVERAGE(L13:L13) -> 90 | N13: =E13+G13+I13+K13+M13 -> 432 | O13: =N13/5 -> 86.4 | P13: ='Nilai Rapor 1-5 (Puluhan)'!W13 -> 74 | Q13: =AVERAGE(P13:P13) -> 74 | R13: ='Nilai Rapor 1-5 (Puluhan)'!X13 -> 78 | S13: =AVERAGE(R13:R13) -> 78 | T13: ='Nilai Rapor 1-5 (Puluhan)'!Y13 -> 84 | U13: =AVERAGE(T13:T13) -> 84 | V13: ='Nilai Rapor 1-5 (Puluhan)'!Z13 -> 83 | W13: =AVERAGE(V13:V13) -> 83 | X13: ='Nilai Rapor 1-5 (Puluhan)'!AA13 -> 90 | Y13: =AVERAGE(X13:X13) -> 90 | Z13: =Q13+S13+U13+W13+Y13 -> 409 | AA13: =Z13/5 -> 81.8 | AB13: ='Nilai Rapor 1-5 (Puluhan)'!AE13 -> 80 | AC13: =AVERAGE(AB13:AB13) -> 80 | AD13: ='Nilai Rapor 1-5 (Puluhan)'!AF13 -> 86 | AE13: =AVERAGE(AD13:AD13) -> 86 | AF13: ='Nilai Rapor 1-5 (Puluhan)'!AG13 -> 76 | AG13: =AVERAGE(AF13:AF13) -> 76 | AH13: ='Nilai Rapor 1-5 (Puluhan)'!AH13 -> 76 | AI13: =AVERAGE(AH13:AH13) -> 76 | AJ13: ='Nilai Rapor 1-5 (Puluhan)'!AI13 -> 78 | AK13: =AVERAGE(AJ13:AJ13) -> 78 | AL13: =AC13+AE13+AG13+AI13+AK13 -> 396 | AM13: =AL13/5 -> 79.2 | AN13: ='Nilai Rapor 1-5 (Puluhan)'!AM13 -> 77 | AO13: =AVERAGE(AN13:AN13) -> 77 | AP13: ='Nilai Rapor 1-5 (Puluhan)'!AN13 -> 74 | AQ13: =AVERAGE(AP13:AP13) -> 74 | AR13: ='Nilai Rapor 1-5 (Puluhan)'!AO13 -> 83 | AS13: =AVERAGE(AR13:AR13) -> 83 | AT13: ='Nilai Rapor 1-5 (Puluhan)'!AP13 -> 82 | AU13: =AVERAGE(AT13:AT13) -> 82 | AV13: ='Nilai Rapor 1-5 (Puluhan)'!AQ13 -> 79 | AW13: =AVERAGE(AV13:AV13) -> 79 | AX13: =AO13+AQ13+AS13+AU13+AW13 -> 395 | AY13: =AX13/5 -> 79 | AZ13: ='Nilai Rapor 1-5 (Puluhan)'!AU13 -> 77 | BA13: =AVERAGE(AZ13:AZ13) -> 77 | BB13: ='Nilai Rapor 1-5 (Puluhan)'!AV13 -> 81 | BC13: =AVERAGE(BB13:BB13) -> 81 | BD13: ='Nilai Rapor 1-5 (Puluhan)'!AW13 -> 81 | BE13: =AVERAGE(BD13:BD13) -> 81 | BF13: ='Nilai Rapor 1-5 (Puluhan)'!AX13 -> 82 | BG13: =AVERAGE(BF13:BF13) -> 82 | BH13: ='Nilai Rapor 1-5 (Puluhan)'!AY13 -> 78 | BI13: =AVERAGE(BH13:BH13) -> 78 | BJ13: =BA13+BC13+BE13+BG13+BI13 -> 399 | BK13: =BJ13/5 -> 79.8 | BL13: ='Nilai Rapor 1-5 (Puluhan)'!BC13 -> 75 | BM13: =AVERAGE(BL13:BL13) -> 75 | BN13: ='Nilai Rapor 1-5 (Puluhan)'!BD13 -> 81 | BO13: =AVERAGE(BN13:BN13) -> 81 | BP13: ='Nilai Rapor 1-5 (Puluhan)'!BE13 -> 87 | BQ13: =AVERAGE(BP13:BP13) -> 87 | BR13: ='Nilai Rapor 1-5 (Puluhan)'!BF13 -> 83 | BS13: =AVERAGE(BR13:BR13) -> 83 | BT13: ='Nilai Rapor 1-5 (Puluhan)'!BG13 -> 82 | BU13: =AVERAGE(BT13:BT13) -> 82 | BV13: =BM13+BO13+BQ13+BS13+BU13 -> 408 | BW13: =BV13/5 -> 81.6 | BX13: ='Nilai Rapor 1-5 (Puluhan)'!BK13 -> 78 | BY13: =AVERAGE(BX13:BX13) -> 78 | BZ13: ='Nilai Rapor 1-5 (Puluhan)'!BL13 -> 78 | CA13: =AVERAGE(BZ13:BZ13) -> 78 | CB13: ='Nilai Rapor 1-5 (Puluhan)'!BM13 -> 82 | CC13: =AVERAGE(CB13:CB13) -> 82 | CD13: ='Nilai Rapor 1-5 (Puluhan)'!BN13 -> 82 | CE13: =AVERAGE(CD13:CD13) -> 82 | CF13: ='Nilai Rapor 1-5 (Puluhan)'!BO13 -> 81 | CG13: =AVERAGE(CF13:CF13) -> 81 | CH13: =BY13+CA13+CC13+CE13+CG13 -> 401 | CI13: =CH13/5 -> 80.2 | CK13: ='Nilai Rapor 1-5 (Puluhan)'!EG13 -> 85 | CL13: =AVERAGE(CK13:CK13) -> 85 | CM13: ='Nilai Rapor 1-5 (Puluhan)'!EH13 -> 83.5 | CN13: =AVERAGE(CM13:CM13) -> 83.5 | CO13: ='Nilai Rapor 1-5 (Puluhan)'!EI13 -> 85.5 | CP13: =AVERAGE(CO13:CO13) -> 85.5 | CQ13: ='Nilai Rapor 1-5 (Puluhan)'!EJ13 -> 82.75 | CR13: =AVERAGE(CQ13:CQ13) -> 82.75 | CS13: ='Nilai Rapor 1-5 (Puluhan)'!EK13 -> 86.25 | CT13: =AVERAGE(CS13:CS13) -> 86.25 | CU13: =CL13+CN13+CP13+CR13+CT13 -> 423 | CV13: =CU13/5 -> 84.6 | CX13: =AVERAGE(CK13,P13,AB13,AN13,AZ13,BL13,BX13) -> 78 | CY13: =AVERAGE(CX13,CX13) -> 78 | CZ13: =AVERAGE(CM13,R13,AD13,AP13,BB13,BN13,BZ13) -> 80.214286 | DA13: =AVERAGE(CZ13,CZ13) -> 80.214286 | DB13: =AVERAGE(CO13,T13,AF13,AR13,BD13,BP13,CB13) -> 82.642857 | DC13: =AVERAGE(DB13,DB13) -> 82.642857 | DD13: =AVERAGE(CQ13,V13,AH13,AT13,BF13,BR13,CD13) -> 81.535714 | DE13: =AVERAGE(DD13,DD13) -> 81.535714 | DF13: =AVERAGE(CS13,X13,AJ13,AV13,BH13,BT13,CF13) -> 82.035714 | DG13: =AVERAGE(DF13,DF13) -> 82.035714 | DH13: =AVERAGE(CV13,AA13,AM13,AY13,BK13,BW13,CI13) -> 80.885714 | DI13: =RANK(DH13,$DH$7:$DH$51,0) -> 30
A14: 8 | B14: Lutfi Andani | C14: 3083701088 | D14: ='Nilai Rapor 1-5 (Puluhan)'!G14 -> 86 | E14: =AVERAGE(D14:D14) -> 86 | F14: ='Nilai Rapor 1-5 (Puluhan)'!H14 -> 77 | G14: =AVERAGE(F14:F14) -> 77 | H14: ='Nilai Rapor 1-5 (Puluhan)'!I14 -> 81 | I14: =AVERAGE(H14:H14) -> 81 | J14: ='Nilai Rapor 1-5 (Puluhan)'!J14 -> 82 | K14: =AVERAGE(J14:J14) -> 82 | L14: ='Nilai Rapor 1-5 (Puluhan)'!K14 -> 78 | M14: =AVERAGE(L14:L14) -> 78 | N14: =E14+G14+I14+K14+M14 -> 404 | O14: =N14/5 -> 80.8 | P14: ='Nilai Rapor 1-5 (Puluhan)'!W14 -> 79 | Q14: =AVERAGE(P14:P14) -> 79 | R14: ='Nilai Rapor 1-5 (Puluhan)'!X14 -> 79 | S14: =AVERAGE(R14:R14) -> 79 | T14: ='Nilai Rapor 1-5 (Puluhan)'!Y14 -> 80 | U14: =AVERAGE(T14:T14) -> 80 | V14: ='Nilai Rapor 1-5 (Puluhan)'!Z14 -> 81 | W14: =AVERAGE(V14:V14) -> 81 | X14: ='Nilai Rapor 1-5 (Puluhan)'!AA14 -> 80 | Y14: =AVERAGE(X14:X14) -> 80 | Z14: =Q14+S14+U14+W14+Y14 -> 399 | AA14: =Z14/5 -> 79.8 | AB14: ='Nilai Rapor 1-5 (Puluhan)'!AE14 -> 81 | AC14: =AVERAGE(AB14:AB14) -> 81 | AD14: ='Nilai Rapor 1-5 (Puluhan)'!AF14 -> 81 | AE14: =AVERAGE(AD14:AD14) -> 81 | AF14: ='Nilai Rapor 1-5 (Puluhan)'!AG14 -> 75 | AG14: =AVERAGE(AF14:AF14) -> 75 | AH14: ='Nilai Rapor 1-5 (Puluhan)'!AH14 -> 76 | AI14: =AVERAGE(AH14:AH14) -> 76 | AJ14: ='Nilai Rapor 1-5 (Puluhan)'!AI14 -> 76 | AK14: =AVERAGE(AJ14:AJ14) -> 76 | AL14: =AC14+AE14+AG14+AI14+AK14 -> 389 | AM14: =AL14/5 -> 77.8 | AN14: ='Nilai Rapor 1-5 (Puluhan)'!AM14 -> 74 | AO14: =AVERAGE(AN14:AN14) -> 74 | AP14: ='Nilai Rapor 1-5 (Puluhan)'!AN14 -> 77 | AQ14: =AVERAGE(AP14:AP14) -> 77 | AR14: ='Nilai Rapor 1-5 (Puluhan)'!AO14 -> 79 | AS14: =AVERAGE(AR14:AR14) -> 79 | AT14: ='Nilai Rapor 1-5 (Puluhan)'!AP14 -> 81 | AU14: =AVERAGE(AT14:AT14) -> 81 | AV14: ='Nilai Rapor 1-5 (Puluhan)'!AQ14 -> 76 | AW14: =AVERAGE(AV14:AV14) -> 76 | AX14: =AO14+AQ14+AS14+AU14+AW14 -> 387 | AY14: =AX14/5 -> 77.4 | AZ14: ='Nilai Rapor 1-5 (Puluhan)'!AU14 -> 75 | BA14: =AVERAGE(AZ14:AZ14) -> 75 | BB14: ='Nilai Rapor 1-5 (Puluhan)'!AV14 -> 78 | BC14: =AVERAGE(BB14:BB14) -> 78 | BD14: ='Nilai Rapor 1-5 (Puluhan)'!AW14 -> 79 | BE14: =AVERAGE(BD14:BD14) -> 79 | BF14: ='Nilai Rapor 1-5 (Puluhan)'!AX14 -> 79 | BG14: =AVERAGE(BF14:BF14) -> 79 | BH14: ='Nilai Rapor 1-5 (Puluhan)'!AY14 -> 76 | BI14: =AVERAGE(BH14:BH14) -> 76 | BJ14: =BA14+BC14+BE14+BG14+BI14 -> 387 | BK14: =BJ14/5 -> 77.4 | BL14: ='Nilai Rapor 1-5 (Puluhan)'!BC14 -> 74 | BM14: =AVERAGE(BL14:BL14) -> 74 | BN14: ='Nilai Rapor 1-5 (Puluhan)'!BD14 -> 81 | BO14: =AVERAGE(BN14:BN14) -> 81 | BP14: ='Nilai Rapor 1-5 (Puluhan)'!BE14 -> 85 | BQ14: =AVERAGE(BP14:BP14) -> 85 | BR14: ='Nilai Rapor 1-5 (Puluhan)'!BF14 -> 81 | BS14: =AVERAGE(BR14:BR14) -> 81 | BT14: ='Nilai Rapor 1-5 (Puluhan)'!BG14 -> 76 | BU14: =AVERAGE(BT14:BT14) -> 76 | BV14: =BM14+BO14+BQ14+BS14+BU14 -> 397 | BW14: =BV14/5 -> 79.4 | BX14: ='Nilai Rapor 1-5 (Puluhan)'!BK14 -> 75 | BY14: =AVERAGE(BX14:BX14) -> 75 | BZ14: ='Nilai Rapor 1-5 (Puluhan)'!BL14 -> 76 | CA14: =AVERAGE(BZ14:BZ14) -> 76 | CB14: ='Nilai Rapor 1-5 (Puluhan)'!BM14 -> 80 | CC14: =AVERAGE(CB14:CB14) -> 80 | CD14: ='Nilai Rapor 1-5 (Puluhan)'!BN14 -> 79 | CE14: =AVERAGE(CD14:CD14) -> 79 | CF14: ='Nilai Rapor 1-5 (Puluhan)'!BO14 -> 76 | CG14: =AVERAGE(CF14:CF14) -> 76 | CH14: =BY14+CA14+CC14+CE14+CG14 -> 386 | CI14: =CH14/5 -> 77.2 | CK14: ='Nilai Rapor 1-5 (Puluhan)'!EG14 -> 81.25 | CL14: =AVERAGE(CK14:CK14) -> 81.25 | CM14: ='Nilai Rapor 1-5 (Puluhan)'!EH14 -> 77.25 | CN14: =AVERAGE(CM14:CM14) -> 77.25 | CO14: ='Nilai Rapor 1-5 (Puluhan)'!EI14 -> 81.75 | CP14: =AVERAGE(CO14:CO14) -> 81.75 | CQ14: ='Nilai Rapor 1-5 (Puluhan)'!EJ14 -> 79 | CR14: =AVERAGE(CQ14:CQ14) -> 79 | CS14: ='Nilai Rapor 1-5 (Puluhan)'!EK14 -> 78.5 | CT14: =AVERAGE(CS14:CS14) -> 78.5 | CU14: =CL14+CN14+CP14+CR14+CT14 -> 397.75 | CV14: =CU14/5 -> 79.55 | CX14: =AVERAGE(CK14,P14,AB14,AN14,AZ14,BL14,BX14) -> 77.035714 | CY14: =AVERAGE(CX14,CX14) -> 77.035714 | CZ14: =AVERAGE(CM14,R14,AD14,AP14,BB14,BN14,BZ14) -> 78.464286 | DA14: =AVERAGE(CZ14,CZ14) -> 78.464286 | DB14: =AVERAGE(CO14,T14,AF14,AR14,BD14,BP14,CB14) -> 79.964286 | DC14: =AVERAGE(DB14,DB14) -> 79.964286 | DD14: =AVERAGE(CQ14,V14,AH14,AT14,BF14,BR14,CD14) -> 79.428571 | DE14: =AVERAGE(DD14,DD14) -> 79.428571 | DF14: =AVERAGE(CS14,X14,AJ14,AV14,BH14,BT14,CF14) -> 76.928571 | DG14: =AVERAGE(DF14,DF14) -> 76.928571 | DH14: =AVERAGE(CV14,AA14,AM14,AY14,BK14,BW14,CI14) -> 78.364286 | DI14: =RANK(DH14,$DH$7:$DH$51,0) -> 40
A15: 9 | B15: M. Ari Ilham | C15: 3105255525 | D15: ='Nilai Rapor 1-5 (Puluhan)'!G15 -> 93 | E15: =AVERAGE(D15:D15) -> 93 | F15: ='Nilai Rapor 1-5 (Puluhan)'!H15 -> 94 | G15: =AVERAGE(F15:F15) -> 94 | H15: ='Nilai Rapor 1-5 (Puluhan)'!I15 -> 91 | I15: =AVERAGE(H15:H15) -> 91 | J15: ='Nilai Rapor 1-5 (Puluhan)'!J15 -> 90 | K15: =AVERAGE(J15:J15) -> 90 | L15: ='Nilai Rapor 1-5 (Puluhan)'!K15 -> 90 | M15: =AVERAGE(L15:L15) -> 90 | N15: =E15+G15+I15+K15+M15 -> 458 | O15: =N15/5 -> 91.6 | P15: ='Nilai Rapor 1-5 (Puluhan)'!W15 -> 90 | Q15: =AVERAGE(P15:P15) -> 90 | R15: ='Nilai Rapor 1-5 (Puluhan)'!X15 -> 88 | S15: =AVERAGE(R15:R15) -> 88 | T15: ='Nilai Rapor 1-5 (Puluhan)'!Y15 -> 89 | U15: =AVERAGE(T15:T15) -> 89 | V15: ='Nilai Rapor 1-5 (Puluhan)'!Z15 -> 93 | W15: =AVERAGE(V15:V15) -> 93 | X15: ='Nilai Rapor 1-5 (Puluhan)'!AA15 -> 92 | Y15: =AVERAGE(X15:X15) -> 92 | Z15: =Q15+S15+U15+W15+Y15 -> 452 | AA15: =Z15/5 -> 90.4 | AB15: ='Nilai Rapor 1-5 (Puluhan)'!AE15 -> 85 | AC15: =AVERAGE(AB15:AB15) -> 85 | AD15: ='Nilai Rapor 1-5 (Puluhan)'!AF15 -> 82 | AE15: =AVERAGE(AD15:AD15) -> 82 | AF15: ='Nilai Rapor 1-5 (Puluhan)'!AG15 -> 75 | AG15: =AVERAGE(AF15:AF15) -> 75 | AH15: ='Nilai Rapor 1-5 (Puluhan)'!AH15 -> 76 | AI15: =AVERAGE(AH15:AH15) -> 76 | AJ15: ='Nilai Rapor 1-5 (Puluhan)'!AI15 -> 76 | AK15: =AVERAGE(AJ15:AJ15) -> 76 | AL15: =AC15+AE15+AG15+AI15+AK15 -> 394 | AM15: =AL15/5 -> 78.8 | AN15: ='Nilai Rapor 1-5 (Puluhan)'!AM15 -> 77 | AO15: =AVERAGE(AN15:AN15) -> 77 | AP15: ='Nilai Rapor 1-5 (Puluhan)'!AN15 -> 75 | AQ15: =AVERAGE(AP15:AP15) -> 75 | AR15: ='Nilai Rapor 1-5 (Puluhan)'!AO15 -> 81 | AS15: =AVERAGE(AR15:AR15) -> 81 | AT15: ='Nilai Rapor 1-5 (Puluhan)'!AP15 -> 80 | AU15: =AVERAGE(AT15:AT15) -> 80 | AV15: ='Nilai Rapor 1-5 (Puluhan)'!AQ15 -> 77 | AW15: =AVERAGE(AV15:AV15) -> 77 | AX15: =AO15+AQ15+AS15+AU15+AW15 -> 390 | AY15: =AX15/5 -> 78 | AZ15: ='Nilai Rapor 1-5 (Puluhan)'!AU15 -> 74 | BA15: =AVERAGE(AZ15:AZ15) -> 74 | BB15: ='Nilai Rapor 1-5 (Puluhan)'!AV15 -> 79 | BC15: =AVERAGE(BB15:BB15) -> 79 | BD15: ='Nilai Rapor 1-5 (Puluhan)'!AW15 -> 77 | BE15: =AVERAGE(BD15:BD15) -> 77 | BF15: ='Nilai Rapor 1-5 (Puluhan)'!AX15 -> 78 | BG15: =AVERAGE(BF15:BF15) -> 78 | BH15: ='Nilai Rapor 1-5 (Puluhan)'!AY15 -> 77 | BI15: =AVERAGE(BH15:BH15) -> 77 | BJ15: =BA15+BC15+BE15+BG15+BI15 -> 385 | BK15: =BJ15/5 -> 77 | BL15: ='Nilai Rapor 1-5 (Puluhan)'!BC15 -> 78 | BM15: =AVERAGE(BL15:BL15) -> 78 | BN15: ='Nilai Rapor 1-5 (Puluhan)'!BD15 -> 83 | BO15: =AVERAGE(BN15:BN15) -> 83 | BP15: ='Nilai Rapor 1-5 (Puluhan)'!BE15 -> 81 | BQ15: =AVERAGE(BP15:BP15) -> 81 | BR15: ='Nilai Rapor 1-5 (Puluhan)'!BF15 -> 82 | BS15: =AVERAGE(BR15:BR15) -> 82 | BT15: ='Nilai Rapor 1-5 (Puluhan)'!BG15 -> 77 | BU15: =AVERAGE(BT15:BT15) -> 77 | BV15: =BM15+BO15+BQ15+BS15+BU15 -> 401 | BW15: =BV15/5 -> 80.2 | BX15: ='Nilai Rapor 1-5 (Puluhan)'!BK15 -> 75 | BY15: =AVERAGE(BX15:BX15) -> 75 | BZ15: ='Nilai Rapor 1-5 (Puluhan)'!BL15 -> 77 | CA15: =AVERAGE(BZ15:BZ15) -> 77 | CB15: ='Nilai Rapor 1-5 (Puluhan)'!BM15 -> 79 | CC15: =AVERAGE(CB15:CB15) -> 79 | CD15: ='Nilai Rapor 1-5 (Puluhan)'!BN15 -> 79 | CE15: =AVERAGE(CD15:CD15) -> 79 | CF15: ='Nilai Rapor 1-5 (Puluhan)'!BO15 -> 79 | CG15: =AVERAGE(CF15:CF15) -> 79 | CH15: =BY15+CA15+CC15+CE15+CG15 -> 389 | CI15: =CH15/5 -> 77.8 | CK15: ='Nilai Rapor 1-5 (Puluhan)'!EG15 -> 90.5 | CL15: =AVERAGE(CK15:CK15) -> 90.5 | CM15: ='Nilai Rapor 1-5 (Puluhan)'!EH15 -> 90.5 | CN15: =AVERAGE(CM15:CM15) -> 90.5 | CO15: ='Nilai Rapor 1-5 (Puluhan)'!EI15 -> 90.5 | CP15: =AVERAGE(CO15:CO15) -> 90.5 | CQ15: ='Nilai Rapor 1-5 (Puluhan)'!EJ15 -> 89.25 | CR15: =AVERAGE(CQ15:CQ15) -> 89.25 | CS15: ='Nilai Rapor 1-5 (Puluhan)'!EK15 -> 91.25 | CT15: =AVERAGE(CS15:CS15) -> 91.25 | CU15: =CL15+CN15+CP15+CR15+CT15 -> 452 | CV15: =CU15/5 -> 90.4 | CX15: =AVERAGE(CK15,P15,AB15,AN15,AZ15,BL15,BX15) -> 81.357143 | CY15: =AVERAGE(CX15,CX15) -> 81.357143 | CZ15: =AVERAGE(CM15,R15,AD15,AP15,BB15,BN15,BZ15) -> 82.071429 | DA15: =AVERAGE(CZ15,CZ15) -> 82.071429 | DB15: =AVERAGE(CO15,T15,AF15,AR15,BD15,BP15,CB15) -> 81.785714 | DC15: =AVERAGE(DB15,DB15) -> 81.785714 | DD15: =AVERAGE(CQ15,V15,AH15,AT15,BF15,BR15,CD15) -> 82.464286 | DE15: =AVERAGE(DD15,DD15) -> 82.464286 | DF15: =AVERAGE(CS15,X15,AJ15,AV15,BH15,BT15,CF15) -> 81.321429 | DG15: =AVERAGE(DF15,DF15) -> 81.321429 | DH15: =AVERAGE(CV15,AA15,AM15,AY15,BK15,BW15,CI15) -> 81.8 | DI15: =RANK(DH15,$DH$7:$DH$51,0) -> 27
A16: 10 | B16: M. Zarirul Fikri | C16: 3105592285 | D16: ='Nilai Rapor 1-5 (Puluhan)'!G16 -> 85 | E16: =AVERAGE(D16:D16) -> 85 | F16: ='Nilai Rapor 1-5 (Puluhan)'!H16 -> 82 | G16: =AVERAGE(F16:F16) -> 82 | H16: ='Nilai Rapor 1-5 (Puluhan)'!I16 -> 83 | I16: =AVERAGE(H16:H16) -> 83 | J16: ='Nilai Rapor 1-5 (Puluhan)'!J16 -> 81 | K16: =AVERAGE(J16:J16) -> 81 | L16: ='Nilai Rapor 1-5 (Puluhan)'!K16 -> 82 | M16: =AVERAGE(L16:L16) -> 82 | N16: =E16+G16+I16+K16+M16 -> 413 | O16: =N16/5 -> 82.6 | P16: ='Nilai Rapor 1-5 (Puluhan)'!W16 -> 81 | Q16: =AVERAGE(P16:P16) -> 81 | R16: ='Nilai Rapor 1-5 (Puluhan)'!X16 -> 80 | S16: =AVERAGE(R16:R16) -> 80 | T16: ='Nilai Rapor 1-5 (Puluhan)'!Y16 -> 81 | U16: =AVERAGE(T16:T16) -> 81 | V16: ='Nilai Rapor 1-5 (Puluhan)'!Z16 -> 82 | W16: =AVERAGE(V16:V16) -> 82 | X16: ='Nilai Rapor 1-5 (Puluhan)'!AA16 -> 86 | Y16: =AVERAGE(X16:X16) -> 86 | Z16: =Q16+S16+U16+W16+Y16 -> 410 | AA16: =Z16/5 -> 82 | AB16: ='Nilai Rapor 1-5 (Puluhan)'!AE16 -> 83 | AC16: =AVERAGE(AB16:AB16) -> 83 | AD16: ='Nilai Rapor 1-5 (Puluhan)'!AF16 -> 81 | AE16: =AVERAGE(AD16:AD16) -> 81 | AF16: ='Nilai Rapor 1-5 (Puluhan)'!AG16 -> 77 | AG16: =AVERAGE(AF16:AF16) -> 77 | AH16: ='Nilai Rapor 1-5 (Puluhan)'!AH16 -> 78 | AI16: =AVERAGE(AH16:AH16) -> 78 | AJ16: ='Nilai Rapor 1-5 (Puluhan)'!AI16 -> 76 | AK16: =AVERAGE(AJ16:AJ16) -> 76 | AL16: =AC16+AE16+AG16+AI16+AK16 -> 395 | AM16: =AL16/5 -> 79 | AN16: ='Nilai Rapor 1-5 (Puluhan)'!AM16 -> 74 | AO16: =AVERAGE(AN16:AN16) -> 74 | AP16: ='Nilai Rapor 1-5 (Puluhan)'!AN16 -> 74 | AQ16: =AVERAGE(AP16:AP16) -> 74 | AR16: ='Nilai Rapor 1-5 (Puluhan)'!AO16 -> 82 | AS16: =AVERAGE(AR16:AR16) -> 82 | AT16: ='Nilai Rapor 1-5 (Puluhan)'!AP16 -> 81 | AU16: =AVERAGE(AT16:AT16) -> 81 | AV16: ='Nilai Rapor 1-5 (Puluhan)'!AQ16 -> 77 | AW16: =AVERAGE(AV16:AV16) -> 77 | AX16: =AO16+AQ16+AS16+AU16+AW16 -> 388 | AY16: =AX16/5 -> 77.6 | AZ16: ='Nilai Rapor 1-5 (Puluhan)'!AU16 -> 77 | BA16: =AVERAGE(AZ16:AZ16) -> 77 | BB16: ='Nilai Rapor 1-5 (Puluhan)'!AV16 -> 77 | BC16: =AVERAGE(BB16:BB16) -> 77 | BD16: ='Nilai Rapor 1-5 (Puluhan)'!AW16 -> 81 | BE16: =AVERAGE(BD16:BD16) -> 81 | BF16: ='Nilai Rapor 1-5 (Puluhan)'!AX16 -> 82 | BG16: =AVERAGE(BF16:BF16) -> 82 | BH16: ='Nilai Rapor 1-5 (Puluhan)'!AY16 -> 76 | BI16: =AVERAGE(BH16:BH16) -> 76 | BJ16: =BA16+BC16+BE16+BG16+BI16 -> 393 | BK16: =BJ16/5 -> 78.6 | BL16: ='Nilai Rapor 1-5 (Puluhan)'!BC16 -> 76 | BM16: =AVERAGE(BL16:BL16) -> 76 | BN16: ='Nilai Rapor 1-5 (Puluhan)'!BD16 -> 83 | BO16: =AVERAGE(BN16:BN16) -> 83 | BP16: ='Nilai Rapor 1-5 (Puluhan)'!BE16 -> 84 | BQ16: =AVERAGE(BP16:BP16) -> 84 | BR16: ='Nilai Rapor 1-5 (Puluhan)'!BF16 -> 82 | BS16: =AVERAGE(BR16:BR16) -> 82 | BT16: ='Nilai Rapor 1-5 (Puluhan)'!BG16 -> 76 | BU16: =AVERAGE(BT16:BT16) -> 76 | BV16: =BM16+BO16+BQ16+BS16+BU16 -> 401 | BW16: =BV16/5 -> 80.2 | BX16: ='Nilai Rapor 1-5 (Puluhan)'!BK16 -> 75 | BY16: =AVERAGE(BX16:BX16) -> 75 | BZ16: ='Nilai Rapor 1-5 (Puluhan)'!BL16 -> 77 | CA16: =AVERAGE(BZ16:BZ16) -> 77 | CB16: ='Nilai Rapor 1-5 (Puluhan)'!BM16 -> 82 | CC16: =AVERAGE(CB16:CB16) -> 82 | CD16: ='Nilai Rapor 1-5 (Puluhan)'!BN16 -> 84 | CE16: =AVERAGE(CD16:CD16) -> 84 | CF16: ='Nilai Rapor 1-5 (Puluhan)'!BO16 -> 76 | CG16: =AVERAGE(CF16:CF16) -> 76 | CH16: =BY16+CA16+CC16+CE16+CG16 -> 394 | CI16: =CH16/5 -> 78.8 | CK16: ='Nilai Rapor 1-5 (Puluhan)'!EG16 -> 79.5 | CL16: =AVERAGE(CK16:CK16) -> 79.5 | CM16: ='Nilai Rapor 1-5 (Puluhan)'!EH16 -> 80 | CN16: =AVERAGE(CM16:CM16) -> 80 | CO16: ='Nilai Rapor 1-5 (Puluhan)'!EI16 -> 83.5 | CP16: =AVERAGE(CO16:CO16) -> 83.5 | CQ16: ='Nilai Rapor 1-5 (Puluhan)'!EJ16 -> 77.75 | CR16: =AVERAGE(CQ16:CQ16) -> 77.75 | CS16: ='Nilai Rapor 1-5 (Puluhan)'!EK16 -> 82.25 | CT16: =AVERAGE(CS16:CS16) -> 82.25 | CU16: =CL16+CN16+CP16+CR16+CT16 -> 403 | CV16: =CU16/5 -> 80.6 | CX16: =AVERAGE(CK16,P16,AB16,AN16,AZ16,BL16,BX16) -> 77.928571 | CY16: =AVERAGE(CX16,CX16) -> 77.928571 | CZ16: =AVERAGE(CM16,R16,AD16,AP16,BB16,BN16,BZ16) -> 78.857143 | DA16: =AVERAGE(CZ16,CZ16) -> 78.857143 | DB16: =AVERAGE(CO16,T16,AF16,AR16,BD16,BP16,CB16) -> 81.5 | DC16: =AVERAGE(DB16,DB16) -> 81.5 | DD16: =AVERAGE(CQ16,V16,AH16,AT16,BF16,BR16,CD16) -> 80.964286 | DE16: =AVERAGE(DD16,DD16) -> 80.964286 | DF16: =AVERAGE(CS16,X16,AJ16,AV16,BH16,BT16,CF16) -> 78.464286 | DG16: =AVERAGE(DF16,DF16) -> 78.464286 | DH16: =AVERAGE(CV16,AA16,AM16,AY16,BK16,BW16,CI16) -> 79.542857 | DI16: =RANK(DH16,$DH$7:$DH$51,0) -> 35
A17: 11 | B17: Maghfirotul Karimah | C17: 3109162384 | D17: ='Nilai Rapor 1-5 (Puluhan)'!G17 -> 87 | E17: =AVERAGE(D17:D17) -> 87 | F17: ='Nilai Rapor 1-5 (Puluhan)'!H17 -> 79 | G17: =AVERAGE(F17:F17) -> 79 | H17: ='Nilai Rapor 1-5 (Puluhan)'!I17 -> 83 | I17: =AVERAGE(H17:H17) -> 83 | J17: ='Nilai Rapor 1-5 (Puluhan)'!J17 -> 84 | K17: =AVERAGE(J17:J17) -> 84 | L17: ='Nilai Rapor 1-5 (Puluhan)'!K17 -> 80 | M17: =AVERAGE(L17:L17) -> 80 | N17: =E17+G17+I17+K17+M17 -> 413 | O17: =N17/5 -> 82.6 | P17: ='Nilai Rapor 1-5 (Puluhan)'!W17 -> 74 | Q17: =AVERAGE(P17:P17) -> 74 | R17: ='Nilai Rapor 1-5 (Puluhan)'!X17 -> 77 | S17: =AVERAGE(R17:R17) -> 77 | T17: ='Nilai Rapor 1-5 (Puluhan)'!Y17 -> 82 | U17: =AVERAGE(T17:T17) -> 82 | V17: ='Nilai Rapor 1-5 (Puluhan)'!Z17 -> 84 | W17: =AVERAGE(V17:V17) -> 84 | X17: ='Nilai Rapor 1-5 (Puluhan)'!AA17 -> 88 | Y17: =AVERAGE(X17:X17) -> 88 | Z17: =Q17+S17+U17+W17+Y17 -> 405 | AA17: =Z17/5 -> 81 | AB17: ='Nilai Rapor 1-5 (Puluhan)'!AE17 -> 82 | AC17: =AVERAGE(AB17:AB17) -> 82 | AD17: ='Nilai Rapor 1-5 (Puluhan)'!AF17 -> 87 | AE17: =AVERAGE(AD17:AD17) -> 87 | AF17: ='Nilai Rapor 1-5 (Puluhan)'!AG17 -> 80 | AG17: =AVERAGE(AF17:AF17) -> 80 | AH17: ='Nilai Rapor 1-5 (Puluhan)'!AH17 -> 80 | AI17: =AVERAGE(AH17:AH17) -> 80 | AJ17: ='Nilai Rapor 1-5 (Puluhan)'!AI17 -> 77 | AK17: =AVERAGE(AJ17:AJ17) -> 77 | AL17: =AC17+AE17+AG17+AI17+AK17 -> 406 | AM17: =AL17/5 -> 81.2 | AN17: ='Nilai Rapor 1-5 (Puluhan)'!AM17 -> 74 | AO17: =AVERAGE(AN17:AN17) -> 74 | AP17: ='Nilai Rapor 1-5 (Puluhan)'!AN17 -> 74 | AQ17: =AVERAGE(AP17:AP17) -> 74 | AR17: ='Nilai Rapor 1-5 (Puluhan)'!AO17 -> 79 | AS17: =AVERAGE(AR17:AR17) -> 79 | AT17: ='Nilai Rapor 1-5 (Puluhan)'!AP17 -> 82 | AU17: =AVERAGE(AT17:AT17) -> 82 | AV17: ='Nilai Rapor 1-5 (Puluhan)'!AQ17 -> 77 | AW17: =AVERAGE(AV17:AV17) -> 77 | AX17: =AO17+AQ17+AS17+AU17+AW17 -> 386 | AY17: =AX17/5 -> 77.2 | AZ17: ='Nilai Rapor 1-5 (Puluhan)'!AU17 -> 76 | BA17: =AVERAGE(AZ17:AZ17) -> 76 | BB17: ='Nilai Rapor 1-5 (Puluhan)'!AV17 -> 82 | BC17: =AVERAGE(BB17:BB17) -> 82 | BD17: ='Nilai Rapor 1-5 (Puluhan)'!AW17 -> 81 | BE17: =AVERAGE(BD17:BD17) -> 81 | BF17: ='Nilai Rapor 1-5 (Puluhan)'!AX17 -> 85 | BG17: =AVERAGE(BF17:BF17) -> 85 | BH17: ='Nilai Rapor 1-5 (Puluhan)'!AY17 -> 80 | BI17: =AVERAGE(BH17:BH17) -> 80 | BJ17: =BA17+BC17+BE17+BG17+BI17 -> 404 | BK17: =BJ17/5 -> 80.8 | BL17: ='Nilai Rapor 1-5 (Puluhan)'!BC17 -> 80 | BM17: =AVERAGE(BL17:BL17) -> 80 | BN17: ='Nilai Rapor 1-5 (Puluhan)'!BD17 -> 86 | BO17: =AVERAGE(BN17:BN17) -> 86 | BP17: ='Nilai Rapor 1-5 (Puluhan)'!BE17 -> 86 | BQ17: =AVERAGE(BP17:BP17) -> 86 | BR17: ='Nilai Rapor 1-5 (Puluhan)'!BF17 -> 84 | BS17: =AVERAGE(BR17:BR17) -> 84 | BT17: ='Nilai Rapor 1-5 (Puluhan)'!BG17 -> 84 | BU17: =AVERAGE(BT17:BT17) -> 84 | BV17: =BM17+BO17+BQ17+BS17+BU17 -> 420 | BW17: =BV17/5 -> 84 | BX17: ='Nilai Rapor 1-5 (Puluhan)'!BK17 -> 87 | BY17: =AVERAGE(BX17:BX17) -> 87 | BZ17: ='Nilai Rapor 1-5 (Puluhan)'!BL17 -> 88 | CA17: =AVERAGE(BZ17:BZ17) -> 88 | CB17: ='Nilai Rapor 1-5 (Puluhan)'!BM17 -> 89 | CC17: =AVERAGE(CB17:CB17) -> 89 | CD17: ='Nilai Rapor 1-5 (Puluhan)'!BN17 -> 85 | CE17: =AVERAGE(CD17:CD17) -> 85 | CF17: ='Nilai Rapor 1-5 (Puluhan)'!BO17 -> 84 | CG17: =AVERAGE(CF17:CF17) -> 84 | CH17: =BY17+CA17+CC17+CE17+CG17 -> 433 | CI17: =CH17/5 -> 86.6 | CK17: ='Nilai Rapor 1-5 (Puluhan)'!EG17 -> 82 | CL17: =AVERAGE(CK17:CK17) -> 82 | CM17: ='Nilai Rapor 1-5 (Puluhan)'!EH17 -> 81.5 | CN17: =AVERAGE(CM17:CM17) -> 81.5 | CO17: ='Nilai Rapor 1-5 (Puluhan)'!EI17 -> 84.25 | CP17: =AVERAGE(CO17:CO17) -> 84.25 | CQ17: ='Nilai Rapor 1-5 (Puluhan)'!EJ17 -> 83.5 | CR17: =AVERAGE(CQ17:CQ17) -> 83.5 | CS17: ='Nilai Rapor 1-5 (Puluhan)'!EK17 -> 82.25 | CT17: =AVERAGE(CS17:CS17) -> 82.25 | CU17: =CL17+CN17+CP17+CR17+CT17 -> 413.5 | CV17: =CU17/5 -> 82.7 | CX17: =AVERAGE(CK17,P17,AB17,AN17,AZ17,BL17,BX17) -> 79.285714 | CY17: =AVERAGE(CX17,CX17) -> 79.285714 | CZ17: =AVERAGE(CM17,R17,AD17,AP17,BB17,BN17,BZ17) -> 82.214286 | DA17: =AVERAGE(CZ17,CZ17) -> 82.214286 | DB17: =AVERAGE(CO17,T17,AF17,AR17,BD17,BP17,CB17) -> 83.035714 | DC17: =AVERAGE(DB17,DB17) -> 83.035714 | DD17: =AVERAGE(CQ17,V17,AH17,AT17,BF17,BR17,CD17) -> 83.357143 | DE17: =AVERAGE(DD17,DD17) -> 83.357143 | DF17: =AVERAGE(CS17,X17,AJ17,AV17,BH17,BT17,CF17) -> 81.75 | DG17: =AVERAGE(DF17,DF17) -> 81.75 | DH17: =AVERAGE(CV17,AA17,AM17,AY17,BK17,BW17,CI17) -> 81.928571 | DI17: =RANK(DH17,$DH$7:$DH$51,0) -> 26
A18: 12 | B18: Muhammad Abdi Sasongko | C18: 3107608137 | D18: ='Nilai Rapor 1-5 (Puluhan)'!G18 -> 85 | E18: =AVERAGE(D18:D18) -> 85 | F18: ='Nilai Rapor 1-5 (Puluhan)'!H18 -> 75 | G18: =AVERAGE(F18:F18) -> 75 | H18: ='Nilai Rapor 1-5 (Puluhan)'!I18 -> 79 | I18: =AVERAGE(H18:H18) -> 79 | J18: ='Nilai Rapor 1-5 (Puluhan)'!J18 -> 82 | K18: =AVERAGE(J18:J18) -> 82 | L18: ='Nilai Rapor 1-5 (Puluhan)'!K18 -> 77 | M18: =AVERAGE(L18:L18) -> 77 | N18: =E18+G18+I18+K18+M18 -> 398 | O18: =N18/5 -> 79.6 | P18: ='Nilai Rapor 1-5 (Puluhan)'!W18 -> 75 | Q18: =AVERAGE(P18:P18) -> 75 | R18: ='Nilai Rapor 1-5 (Puluhan)'!X18 -> 74 | S18: =AVERAGE(R18:R18) -> 74 | T18: ='Nilai Rapor 1-5 (Puluhan)'!Y18 -> 78 | U18: =AVERAGE(T18:T18) -> 78 | V18: ='Nilai Rapor 1-5 (Puluhan)'!Z18 -> 82 | W18: =AVERAGE(V18:V18) -> 82 | X18: ='Nilai Rapor 1-5 (Puluhan)'!AA18 -> 82 | Y18: =AVERAGE(X18:X18) -> 82 | Z18: =Q18+S18+U18+W18+Y18 -> 391 | AA18: =Z18/5 -> 78.2 | AB18: ='Nilai Rapor 1-5 (Puluhan)'!AE18 -> 81 | AC18: =AVERAGE(AB18:AB18) -> 81 | AD18: ='Nilai Rapor 1-5 (Puluhan)'!AF18 -> 81 | AE18: =AVERAGE(AD18:AD18) -> 81 | AF18: ='Nilai Rapor 1-5 (Puluhan)'!AG18 -> 75 | AG18: =AVERAGE(AF18:AF18) -> 75 | AH18: ='Nilai Rapor 1-5 (Puluhan)'!AH18 -> 77 | AI18: =AVERAGE(AH18:AH18) -> 77 | AJ18: ='Nilai Rapor 1-5 (Puluhan)'!AI18 -> 76 | AK18: =AVERAGE(AJ18:AJ18) -> 76 | AL18: =AC18+AE18+AG18+AI18+AK18 -> 390 | AM18: =AL18/5 -> 78 | AN18: ='Nilai Rapor 1-5 (Puluhan)'!AM18 -> 75 | AO18: =AVERAGE(AN18:AN18) -> 75 | AP18: ='Nilai Rapor 1-5 (Puluhan)'!AN18 -> 73 | AQ18: =AVERAGE(AP18:AP18) -> 73 | AR18: ='Nilai Rapor 1-5 (Puluhan)'!AO18 -> 81 | AS18: =AVERAGE(AR18:AR18) -> 81 | AT18: ='Nilai Rapor 1-5 (Puluhan)'!AP18 -> 80 | AU18: =AVERAGE(AT18:AT18) -> 80 | AV18: ='Nilai Rapor 1-5 (Puluhan)'!AQ18 -> 76 | AW18: =AVERAGE(AV18:AV18) -> 76 | AX18: =AO18+AQ18+AS18+AU18+AW18 -> 385 | AY18: =AX18/5 -> 77 | AZ18: ='Nilai Rapor 1-5 (Puluhan)'!AU18 -> 74 | BA18: =AVERAGE(AZ18:AZ18) -> 74 | BB18: ='Nilai Rapor 1-5 (Puluhan)'!AV18 -> 77 | BC18: =AVERAGE(BB18:BB18) -> 77 | BD18: ='Nilai Rapor 1-5 (Puluhan)'!AW18 -> 79 | BE18: =AVERAGE(BD18:BD18) -> 79 | BF18: ='Nilai Rapor 1-5 (Puluhan)'!AX18 -> 80 | BG18: =AVERAGE(BF18:BF18) -> 80 | BH18: ='Nilai Rapor 1-5 (Puluhan)'!AY18 -> 76 | BI18: =AVERAGE(BH18:BH18) -> 76 | BJ18: =BA18+BC18+BE18+BG18+BI18 -> 386 | BK18: =BJ18/5 -> 77.2 | BL18: ='Nilai Rapor 1-5 (Puluhan)'!BC18 -> 75 | BM18: =AVERAGE(BL18:BL18) -> 75 | BN18: ='Nilai Rapor 1-5 (Puluhan)'!BD18 -> 78 | BO18: =AVERAGE(BN18:BN18) -> 78 | BP18: ='Nilai Rapor 1-5 (Puluhan)'!BE18 -> 80 | BQ18: =AVERAGE(BP18:BP18) -> 80 | BR18: ='Nilai Rapor 1-5 (Puluhan)'!BF18 -> 81 | BS18: =AVERAGE(BR18:BR18) -> 81 | BT18: ='Nilai Rapor 1-5 (Puluhan)'!BG18 -> 76 | BU18: =AVERAGE(BT18:BT18) -> 76 | BV18: =BM18+BO18+BQ18+BS18+BU18 -> 390 | BW18: =BV18/5 -> 78 | BX18: ='Nilai Rapor 1-5 (Puluhan)'!BK18 -> 75 | BY18: =AVERAGE(BX18:BX18) -> 75 | BZ18: ='Nilai Rapor 1-5 (Puluhan)'!BL18 -> 77 | CA18: =AVERAGE(BZ18:BZ18) -> 77 | CB18: ='Nilai Rapor 1-5 (Puluhan)'!BM18 -> 81 | CC18: =AVERAGE(CB18:CB18) -> 81 | CD18: ='Nilai Rapor 1-5 (Puluhan)'!BN18 -> 80 | CE18: =AVERAGE(CD18:CD18) -> 80 | CF18: ='Nilai Rapor 1-5 (Puluhan)'!BO18 -> 76 | CG18: =AVERAGE(CF18:CF18) -> 76 | CH18: =BY18+CA18+CC18+CE18+CG18 -> 389 | CI18: =CH18/5 -> 77.8 | CK18: ='Nilai Rapor 1-5 (Puluhan)'!EG18 -> 80.5 | CL18: =AVERAGE(CK18:CK18) -> 80.5 | CM18: ='Nilai Rapor 1-5 (Puluhan)'!EH18 -> 76.5 | CN18: =AVERAGE(CM18:CM18) -> 76.5 | CO18: ='Nilai Rapor 1-5 (Puluhan)'!EI18 -> 79.5 | CP18: =AVERAGE(CO18:CO18) -> 79.5 | CQ18: ='Nilai Rapor 1-5 (Puluhan)'!EJ18 -> 79.25 | CR18: =AVERAGE(CQ18:CQ18) -> 79.25 | CS18: ='Nilai Rapor 1-5 (Puluhan)'!EK18 -> 80.5 | CT18: =AVERAGE(CS18:CS18) -> 80.5 | CU18: =CL18+CN18+CP18+CR18+CT18 -> 396.25 | CV18: =CU18/5 -> 79.25 | CX18: =AVERAGE(CK18,P18,AB18,AN18,AZ18,BL18,BX18) -> 76.5 | CY18: =AVERAGE(CX18,CX18) -> 76.5 | CZ18: =AVERAGE(CM18,R18,AD18,AP18,BB18,BN18,BZ18) -> 76.642857 | DA18: =AVERAGE(CZ18,CZ18) -> 76.642857 | DB18: =AVERAGE(CO18,T18,AF18,AR18,BD18,BP18,CB18) -> 79.071429 | DC18: =AVERAGE(DB18,DB18) -> 79.071429 | DD18: =AVERAGE(CQ18,V18,AH18,AT18,BF18,BR18,CD18) -> 79.892857 | DE18: =AVERAGE(DD18,DD18) -> 79.892857 | DF18: =AVERAGE(CS18,X18,AJ18,AV18,BH18,BT18,CF18) -> 77.5 | DG18: =AVERAGE(DF18,DF18) -> 77.5 | DH18: =AVERAGE(CV18,AA18,AM18,AY18,BK18,BW18,CI18) -> 77.921429 | DI18: =RANK(DH18,$DH$7:$DH$51,0) -> 43
... A51: 45 | B51: Tri Mulia Saputra | C51: 0072355816 | D51: ='Nilai Rapor 1-5 (Puluhan)'!G51 -> 94 | E51: =AVERAGE(D51:D51) -> 94 | F51: ='Nilai Rapor 1-5 (Puluhan)'!H51 -> 93 | G51: =AVERAGE(F51:F51) -> 93 | H51: ='Nilai Rapor 1-5 (Puluhan)'!I51 -> 91 | I51: =AVERAGE(H51:H51) -> 91 | J51: ='Nilai Rapor 1-5 (Puluhan)'!J51 -> 90 | K51: =AVERAGE(J51:J51) -> 90 | L51: ='Nilai Rapor 1-5 (Puluhan)'!K51 -> 93 | M51: =AVERAGE(L51:L51) -> 93 | N51: =E51+G51+I51+K51+M51 -> 461 | O51: =N51/5 -> 92.2 | P51: ='Nilai Rapor 1-5 (Puluhan)'!W51 -> 90 | Q51: =AVERAGE(P51:P51) -> 90 | R51: ='Nilai Rapor 1-5 (Puluhan)'!X51 -> 91 | S51: =AVERAGE(R51:R51) -> 91 | T51: ='Nilai Rapor 1-5 (Puluhan)'!Y51 -> 93 | U51: =AVERAGE(T51:T51) -> 93 | V51: ='Nilai Rapor 1-5 (Puluhan)'!Z51 -> 92 | W51: =AVERAGE(V51:V51) -> 92 | X51: ='Nilai Rapor 1-5 (Puluhan)'!AA51 -> 92 | Y51: =AVERAGE(X51:X51) -> 92 | Z51: =Q51+S51+U51+W51+Y51 -> 458 | AA51: =Z51/5 -> 91.6 | AB51: ='Nilai Rapor 1-5 (Puluhan)'!AE51 -> 90 | AC51: =AVERAGE(AB51:AB51) -> 90 | AD51: ='Nilai Rapor 1-5 (Puluhan)'!AF51 -> 92 | AE51: =AVERAGE(AD51:AD51) -> 92 | AF51: ='Nilai Rapor 1-5 (Puluhan)'!AG51 -> 91 | AG51: =AVERAGE(AF51:AF51) -> 91 | AH51: ='Nilai Rapor 1-5 (Puluhan)'!AH51 -> 87 | AI51: =AVERAGE(AH51:AH51) -> 87 | AJ51: ='Nilai Rapor 1-5 (Puluhan)'!AI51 -> 81 | AK51: =AVERAGE(AJ51:AJ51) -> 81 | AL51: =AC51+AE51+AG51+AI51+AK51 -> 441 | AM51: =AL51/5 -> 88.2 | AN51: ='Nilai Rapor 1-5 (Puluhan)'!AM51 -> 85 | AO51: =AVERAGE(AN51:AN51) -> 85 | AP51: ='Nilai Rapor 1-5 (Puluhan)'!AN51 -> 91 | AQ51: =AVERAGE(AP51:AP51) -> 91 | AR51: ='Nilai Rapor 1-5 (Puluhan)'!AO51 -> 84 | AS51: =AVERAGE(AR51:AR51) -> 84 | AT51: ='Nilai Rapor 1-5 (Puluhan)'!AP51 -> 85 | AU51: =AVERAGE(AT51:AT51) -> 85 | AV51: ='Nilai Rapor 1-5 (Puluhan)'!AQ51 -> 84 | AW51: =AVERAGE(AV51:AV51) -> 84 | AX51: =AO51+AQ51+AS51+AU51+AW51 -> 429 | AY51: =AX51/5 -> 85.8 | AZ51: ='Nilai Rapor 1-5 (Puluhan)'!AU51 -> 92 | BA51: =AVERAGE(AZ51:AZ51) -> 92 | BB51: ='Nilai Rapor 1-5 (Puluhan)'!AV51 -> 90 | BC51: =AVERAGE(BB51:BB51) -> 90 | BD51: ='Nilai Rapor 1-5 (Puluhan)'!AW51 -> 85 | BE51: =AVERAGE(BD51:BD51) -> 85 | BF51: ='Nilai Rapor 1-5 (Puluhan)'!AX51 -> 90 | BG51: =AVERAGE(BF51:BF51) -> 90 | BH51: ='Nilai Rapor 1-5 (Puluhan)'!AY51 -> 82 | BI51: =AVERAGE(BH51:BH51) -> 82 | BJ51: =BA51+BC51+BE51+BG51+BI51 -> 439 | BK51: =BJ51/5 -> 87.8 | BL51: ='Nilai Rapor 1-5 (Puluhan)'!BC51 -> 88 | BM51: =AVERAGE(BL51:BL51) -> 88 | BN51: ='Nilai Rapor 1-5 (Puluhan)'!BD51 -> 90 | BO51: =AVERAGE(BN51:BN51) -> 90 | BP51: ='Nilai Rapor 1-5 (Puluhan)'!BE51 -> 89 | BQ51: =AVERAGE(BP51:BP51) -> 89 | BR51: ='Nilai Rapor 1-5 (Puluhan)'!BF51 -> 91 | BS51: =AVERAGE(BR51:BR51) -> 91 | BT51: ='Nilai Rapor 1-5 (Puluhan)'!BG51 -> 86 | BU51: =AVERAGE(BT51:BT51) -> 86 | BV51: =BM51+BO51+BQ51+BS51+BU51 -> 444 | BW51: =BV51/5 -> 88.8 | BX51: ='Nilai Rapor 1-5 (Puluhan)'!BK51 -> 88 | BY51: =AVERAGE(BX51:BX51) -> 88 | BZ51: ='Nilai Rapor 1-5 (Puluhan)'!BL51 -> 88 | CA51: =AVERAGE(BZ51:BZ51) -> 88 | CB51: ='Nilai Rapor 1-5 (Puluhan)'!BM51 -> 86 | CC51: =AVERAGE(CB51:CB51) -> 86 | CD51: ='Nilai Rapor 1-5 (Puluhan)'!BN51 -> 83 | CE51: =AVERAGE(CD51:CD51) -> 83 | CF51: ='Nilai Rapor 1-5 (Puluhan)'!BO51 -> 85 | CG51: =AVERAGE(CF51:CF51) -> 85 | CH51: =BY51+CA51+CC51+CE51+CG51 -> 430 | CI51: =CH51/5 -> 86 | CK51: ='Nilai Rapor 1-5 (Puluhan)'!EG51 -> 92 | CL51: =AVERAGE(CK51:CK51) -> 92 | CM51: ='Nilai Rapor 1-5 (Puluhan)'!EH51 -> 92.75 | CN51: =AVERAGE(CM51:CM51) -> 92.75 | CO51: ='Nilai Rapor 1-5 (Puluhan)'!EI51 -> 92.5 | CP51: =AVERAGE(CO51:CO51) -> 92.5 | CQ51: ='Nilai Rapor 1-5 (Puluhan)'!EJ51 -> 91.5 | CR51: =AVERAGE(CQ51:CQ51) -> 91.5 | CS51: ='Nilai Rapor 1-5 (Puluhan)'!EK51 -> 92.75 | CT51: =AVERAGE(CS51:CS51) -> 92.75 | CU51: =CL51+CN51+CP51+CR51+CT51 -> 461.5 | CV51: =CU51/5 -> 92.3 | CX51: =AVERAGE(CK51,P51,AB51,AN51,AZ51,BL51,BX51) -> 89.285714 | CY51: =AVERAGE(CX51,CX51) -> 89.285714 | CZ51: =AVERAGE(CM51,R51,AD51,AP51,BB51,BN51,BZ51) -> 90.678571 | DA51: =AVERAGE(CZ51,CZ51) -> 90.678571 | DB51: =AVERAGE(CO51,T51,AF51,AR51,BD51,BP51,CB51) -> 88.642857 | DC51: =AVERAGE(DB51,DB51) -> 88.642857 | DD51: =AVERAGE(CQ51,V51,AH51,AT51,BF51,BR51,CD51) -> 88.5 | DE51: =AVERAGE(DD51,DD51) -> 88.5 | DF51: =AVERAGE(CS51,X51,AJ51,AV51,BH51,BT51,CF51) -> 86.107143 | DG51: =AVERAGE(DF51,DF51) -> 86.107143 | DH51: =AVERAGE(CV51,AA51,AM51,AY51,BK51,BW51,CI51) -> 88.642857 | DI51: =RANK(DH51,$DH$7:$DH$51,0) -> 2

Sheet Surat Keterangan Nilai Raport
A11: SURAT KETERANGAN NILAI RAPOR
A12: Nomor : 001/SMP.I/S.Ket/V/2025 | K12: NO ABSEN
K13: 45
A14: Yang bertanda tangan di bawah ini,
A15: N a m a | C15: : | D15: Sofi Muntazanul Mina, S.Pd
A16: NIP | C16: : | D16: -
A17: Jabatan | C17: : | D17: Kepala SMP Islam Pegandon
A18: NPSN | C18: : | D18: 20323380
A20: Menerangkan Nilai Rapor
A21: N a m a | C21: : | D21: =IF($K$13,VLOOKUP($K$13,'NR 7 mapel (puluhan)'!$A$7:$DG$51,2)) -> Tri Mulia Saputra
A22: NISN | C22: : | D22: =IF($K$13,VLOOKUP($K$13,'NR 7 mapel (puluhan)'!$A$7:$DG$51,3)) -> 0072355816
A24: No | B24: Mata Pelajaran | D24: Nilai Rapor Semester | I24: Rata-rata
I25: Nilai
I26: Semester
I27: I - V
D28: I | E28: II | F28: III | G28: IV | H28: V | L28: 91 | M28: 92 | N28: 93 | O28: 95 | R28: =AVERAGE(L28:Q28) -> 92.75
A30: 1 | B30: 2 | D30: 3 | E30: 4 | F30: 5 | G30: 6 | H30: 7 | I30: 8
A31: 1 | B31: Pendidikan Agama & Budi Pekerti | D31: =IF($K$13,VLOOKUP($K$13,'NR 7 mapel (puluhan)'!$A$7:$DG$51,90)) -> 92 | E31: =IF($K$13,VLOOKUP($K$13,'NR 7 mapel (puluhan)'!$A$7:$DG$51,92)) -> 92.75 | F31: =IF($K$13,VLOOKUP($K$13,'NR 7 mapel (puluhan)'!$A$7:$DG$51,94)) -> 92.5 | G31: =IF($K$13,VLOOKUP($K$13,'NR 7 mapel (puluhan)'!$A$7:$DG$51,96)) -> 91.5 | H31: =IF($K$13,VLOOKUP($K$13,'NR 7 mapel (puluhan)'!$A$7:$DG$51,98)) -> 92.75 | I31: =IF($K$13,VLOOKUP($K$13,'NR 7 mapel (puluhan)'!$A$7:$DG$51,100)) -> 92.3 | K31: =(D31+E31+F31+G31+H31)/5 -> 92.3 | N31: 88 | O31: 89 | P31: 95 | Q31: 92.5 | R31: 90 | S31: =AVERAGE(N31:R31) -> 90.9
A32: 2 | B32: PPKn/Pendidikan Kewarganegaraan/ Pendidikan Pancasila | D32: =IF($K$13,VLOOKUP($K$13,'NR 7 mapel (puluhan)'!$A$7:$DG$51,17)) -> 90 | E32: =IF($K$13,VLOOKUP($K$13,'NR 7 mapel (puluhan)'!$A$7:$DG$51,19)) -> 91 | F32: =IF($K$13,VLOOKUP($K$13,'NR 7 mapel (puluhan)'!$A$7:$DG$51,21)) -> 93 | G32: =IF($K$13,VLOOKUP($K$13,'NR 7 mapel (puluhan)'!$A$7:$DG$51,23)) -> 92 | H32: =IF($K$13,VLOOKUP($K$13,'NR 7 mapel (puluhan)'!$A$7:$DG$51,25)) -> 92 | I32: =IF($K$13,VLOOKUP($K$13,'NR 7 mapel (puluhan)'!$A$7:$DG$51,27)) -> 91.6 | K32: =(D32+E32+F32+G32+H32)/5 -> 91.6 | N32: 86.5 | O32: 90.6 | P32: 91 | Q32: 92.5 | R32: 96.4 | S32: =AVERAGE(N32:R32) -> 91.4
A33: 3 | B33: Bahasa Indonesia | D33: =IF($K$13,VLOOKUP($K$13,'NR 7 mapel (puluhan)'!$A$7:$DG$51,29)) -> 90 | E33: =IF($K$13,VLOOKUP($K$13,'NR 7 mapel (puluhan)'!$A$7:$DG$51,31)) -> 92 | F33: =IF($K$13,VLOOKUP($K$13,'NR 7 mapel (puluhan)'!$A$7:$DG$51,33)) -> 91 | G33: =IF($K$13,VLOOKUP($K$13,'NR 7 mapel (puluhan)'!$A$7:$DG$51,35)) -> 87 | H33: =IF($K$13,VLOOKUP($K$13,'NR 7 mapel (puluhan)'!$A$7:$DG$51,37)) -> 81 | I33: =IF($K$13,VLOOKUP($K$13,'NR 7 mapel (puluhan)'!$A$7:$DG$51,39)) -> 88.2 | K33: =(D33+E33+F33+G33+H33)/5 -> 88.2 | N33: 85.2 | O33: 85.3 | P33: 89.6 | Q33: 97 | R33: 89.9 | S33: =AVERAGE(N33:R33) -> 89.4
A34: 4 | B34: Matematika | D34: =IF($K$13,VLOOKUP($K$13,'NR 7 mapel (puluhan)'!$A$7:$DG$51,41)) -> 85 | E34: =IF($K$13,VLOOKUP($K$13,'NR 7 mapel (puluhan)'!$A$7:$DG$51,43)) -> 91 | F34: =IF($K$13,VLOOKUP($K$13,'NR 7 mapel (puluhan)'!$A$7:$DG$51,45)) -> 84 | G34: =IF($K$13,VLOOKUP($K$13,'NR 7 mapel (puluhan)'!$A$7:$DG$51,47)) -> 85 | H34: =IF($K$13,VLOOKUP($K$13,'NR 7 mapel (puluhan)'!$A$7:$DG$51,49)) -> 84 | I34: =IF($K$13,VLOOKUP($K$13,'NR 7 mapel (puluhan)'!$A$7:$DG$51,51)) -> 85.8 | K34: =(D34+E34+F34+G34+H34)/5 -> 85.8 | N34: 88.4 | O34: 95.2 | P34: 96.2 | Q34: 98 | R34: 95 | S34: =AVERAGE(N34:R34) -> 94.56
A35: 5 | B35: Ilmu Pengetahuan Alam | D35: =IF($K$13,VLOOKUP($K$13,'NR 7 mapel (puluhan)'!$A$7:$DG$51,53)) -> 92 | E35: =IF($K$13,VLOOKUP($K$13,'NR 7 mapel (puluhan)'!$A$7:$DG$51,55)) -> 90 | F35: =IF($K$13,VLOOKUP($K$13,'NR 7 mapel (puluhan)'!$A$7:$DG$51,57)) -> 85 | G35: =IF($K$13,VLOOKUP($K$13,'NR 7 mapel (puluhan)'!$A$7:$DG$51,59)) -> 90 | H35: =IF($K$13,VLOOKUP($K$13,'NR 7 mapel (puluhan)'!$A$7:$DG$51,61)) -> 82 | I35: =IF($K$13,VLOOKUP($K$13,'NR 7 mapel (puluhan)'!$A$7:$DG$51,63)) -> 87.8 | K35: =(D35+E35+F35+G35+H35)/5 -> 87.8 | N35: 95 | O35: 86.3 | P35: 87 | Q35: 96.5 | R35: 93 | S35: =AVERAGE(N35:R35) -> 91.56
A36: 6 | B36: Ilmu Pengetahuan Sosial | D36: =IF($K$13,VLOOKUP($K$13,'NR 7 mapel (puluhan)'!$A$7:$DG$51,65)) -> 88 | E36: =IF($K$13,VLOOKUP($K$13,'NR 7 mapel (puluhan)'!$A$7:$DG$51,67)) -> 90 | F36: =IF($K$13,VLOOKUP($K$13,'NR 7 mapel (puluhan)'!$A$7:$DG$51,69)) -> 89 | G36: =IF($K$13,VLOOKUP($K$13,'NR 7 mapel (puluhan)'!$A$7:$DG$51,71)) -> 91 | H36: =IF($K$13,VLOOKUP($K$13,'NR 7 mapel (puluhan)'!$A$7:$DG$51,73)) -> 86 | I36: =IF($K$13,VLOOKUP($K$13,'NR 7 mapel (puluhan)'!$A$7:$DG$51,75)) -> 88.8 | K36: =(D36+E36+F36+G36+H36)/5 -> 88.8 | N36: 89.6 | O36: 88.5 | P36: 86 | Q36: 98 | R36: 96 | S36: =AVERAGE(N36:R36) -> 91.62
A37: 7 | B37: Bahasa Inggris | D37: =IF($K$13,VLOOKUP($K$13,'NR 7 mapel (puluhan)'!$A$7:$DG$51,77)) -> 88 | E37: =IF($K$13,VLOOKUP($K$13,'NR 7 mapel (puluhan)'!$A$7:$DG$51,79)) -> 88 | F37: =IF($K$13,VLOOKUP($K$13,'NR 7 mapel (puluhan)'!$A$7:$DG$51,81)) -> 86 | G37: =IF($K$13,VLOOKUP($K$13,'NR 7 mapel (puluhan)'!$A$7:$DG$51,83)) -> 83 | H37: =IF($K$13,VLOOKUP($K$13,'NR 7 mapel (puluhan)'!$A$7:$DG$51,85)) -> 85 | I37: =IF($K$13,VLOOKUP($K$13,'NR 7 mapel (puluhan)'!$A$7:$DG$51,87)) -> 86 | K37: =(D37+E37+F37+G37+H37)/5 -> 86 | N37: 89 | O37: 92 | P37: 94 | Q37: 90 | R37: 91 | S37: =AVERAGE(N37:R37) -> 91.2
B38: Rerata Total | D38: =IF($K$13,VLOOKUP($K$13,'NR 7 mapel (puluhan)'!$A$7:$DG$51,103)) -> 89.285714 | E38: =IF($K$13,VLOOKUP($K$13,'NR 7 mapel (puluhan)'!$A$7:$DG$51,105)) -> 90.678571 | F38: =IF($K$13,VLOOKUP($K$13,'NR 7 mapel (puluhan)'!$A$7:$DG$51,107)) -> 88.642857 | G38: =IF($K$13,VLOOKUP($K$13,'NR 7 mapel (puluhan)'!$A$7:$DG$51,109)) -> 88.5 | H38: =IF($K$13,VLOOKUP($K$13,'NR 7 mapel (puluhan)'!$A$7:$DG$51,111)) -> 86.107143 | I38: =IF($K$13,VLOOKUP($K$13,'NR 7 mapel (puluhan)'!$A$7:$DH$51,112)) -> 88.642857 | K38: =I38*0.9 -> 79.778571 | N38: =AVERAGE(N31:N37) -> 88.814286 | O38: =AVERAGE(O31:O37) -> 89.557143 | P38: =AVERAGE(P31:P37) -> 91.257143 | Q38: =AVERAGE(Q31:Q37) -> 94.928571 | R38: =AVERAGE(R31:R37) -> 93.042857 | S38: =AVERAGE(S31:S37) -> 91.52
A40: Demikian Surat Keterangan ini untuk dapat dipergunakan dengan semestinya, dan kepada yang
A41: berkepentingan untuk menjadikan maklum.
F43: Kajen, 17 Mei 2025
F45: Kepala Sekolah,
F49: Sofi Muntazanul Mina, S.Pd
F50: NIP. --
D54: =AVERAGE(D31:D37) -> 89.285714 | E54: =AVERAGE(E31:E37) -> 90.678571 | F54: =AVERAGE(F31:F37) -> 88.642857 | G54: =AVERAGE(G31:G37) -> 88.5 | H54: =AVERAGE(H31:H37) -> 86.107143 | I54: =AVERAGE(I31:I37) -> 88.642857
