Workbook
Name Nilai: '[1]Nilai Ujian+Raport Persentase'!$A$7:$W$51
Name Nilai: 'Nilai Ujian+Raport Persentase'!$A$7:$V$52

Sheet Sheet1
A1: No | B1: Nama | C1: Fiqih | D1: SKI | E1: PKn | F1: Indo | I1: Fiqih | J1: SKI | K1: PKn | L1: Indo
A2: 1 | B2: ABDUL KHAFIDZ ANSHORI | H2: ABDUL KHAFIDZ ANSHORI
A3: 2 | B3: AHMAD THORIK | H3: AHMAD THORIK
A4: 3 | B4: ANDISA NAILAL AUFA | H4: ANDISA NAILAL AUFA
A5: 4 | B5: DINA RAHMADHADI | H5: DINA RAHMADHADI
A6: 5 | B6: DIVA AYUNING TIYAS | H6: DIVA AYUNING TIYAS
A7: 6 | B7: HERI PRASETYO | H7: HERI PRASETYO
A8: 7 | B8: KAMILA RAMADHANI | H8: KAMILA RAMADHANI
A9: 8 | B9: LUTFI ANDANI | H9: LUTFI ANDANI
A10: 9 | B10: M. ARI ILHAM | H10: M. ARI ILHAM
A11: 10 | B11: M. ZARIRUL FIKRI | H11: M. ZARIRUL FIKRI
A12: 11 | B12: MAGHFIROTUL KARIMAH | H12: MAGHFIROTUL KARIMAH
A13: 12 | B13: MUHAMMAD ABDI SASONGKO | H13: MUHAMMAD ABDI SASONGKO
... A46: 45 | B46: TRI MULIA SAPUTRA | H46: TRI MULIA SAPUTRA

Sheet Nilai Rapor 1-5 (Puluhan)
A4: NO | B4: NAMA | C4: Tempat Tgl Lahir | D4: NISN | E4: NIS | F4: L/P | G4: PAI (Fiqih) | O4: SKI | W4: PKN | AE4: INDONESIA | AM4: MTK | AU4: IPA | BC4: IPS | BK4: INGGRIS | BS4: SBK | CA4: PJOK | CI4: PRAKARYA | CQ4: BAHASA JAWA | CY4: HADITS | DG4: AQIDAH | DO4: BAHASA ARAB | DW4: ASWAJA | EG4: Rata - Rata AGAMA (FIQIH, SKI, HADITS, AKIDAH
G5: Nilai Rapor S. 1 | H5: Nilai Rapor S. 2 | I5: Nilai Rapor S. 3 | J5: Nilai Rapor S. 4 | K5: Nilai Rapor S. 5 | L5: Nilai Rapor S. 6 | M5: Jumlah | N5: Rata-Rata | O5: Nilai Rapor S. 1 | P5: Nilai Rapor S. 2 | Q5: Nilai Rapor S. 3 | R5: Nilai Rapor S. 4 | S5: Nilai Rapor S. 5 | T5: Nilai Rapor S. 6 | U5: Jumlah | V5: Rata-Rata | W5: Nilai Rapor S. 1 | X5: Nilai Rapor S. 2 | Y5: Nilai Rapor S. 3 | Z5: Nilai Rapor S. 4 | AA5: Nilai Rapor S. 5 | AB5: Nilai Rapor S. 6 | AC5: Jumlah | AD5: Rata-Rata | AE5: Nilai Rapor S. 1 | AF5: Nilai Rapor S. 2 | AG5: Nilai Rapor S. 3 | AH5: Nilai Rapor S. 4 | AI5: Nilai Rapor S. 5 | AJ5: Nilai Rapor S. 6 | AK5: Jumlah | AL5: Rata-Rata | AM5: Nilai Rapor S. 1 | AN5: Nilai Rapor S. 2 | AO5: Nilai Rapor S. 3 | AP5: Nilai Rapor S. 4 | AQ5: Nilai Rapor S. 5 | AR5: Nilai Rapor S. 6 | AS5: Jumlah | AT5: Rata-Rata | AU5: Nilai Rapor S. 1 | AV5: Nilai Rapor S. 2 | AW5: Nilai Rapor S. 3 | AX5: Nilai Rapor S. 4 | AY5: Nilai Rapor S. 5 | AZ5: Nilai Rapor S. 6 | BA5: Jumlah | BB5: Rata-Rata | BC5: Nilai Rapor S. 1 | BD5: Nilai Rapor S. 2 | BE5: Nilai Rapor S. 3 | BF5: Nilai Rapor S. 4 | BG5: Nilai Rapor S. 5 | BH5: Nilai Rapor S. 6 | BI5: Jumlah | BJ5: Rata-Rata | BK5: Nilai Rapor S. 1 | BL5: Nilai Rapor S. 2 | BM5: Nilai Rapor S. 3 | BN5: Nilai Rapor S. 4 | BO5: Nilai Rapor S. 5 | BP5: Nilai Rapor S. 6 | BQ5: Jumlah | BR5: Rata-Rata | BS5: Nilai Rapor S. 1 | BT5: Nilai Rapor S. 2 | BU5: Nilai Rapor S. 3 | BV5: Nilai Rapor S. 4 | BW5: Nilai Rapor S. 5 | BX5: Nilai Rapor S. 6 | BY5: Jumlah | BZ5: Rata-Rata | CA5: Nilai Rapor S. 1 | CB5: Nilai Rapor S. 2 | CC5: Nilai Rapor S. 3 | CD5: Nilai Rapor S. 4 | CE5: Nilai Rapor S. 5 | CF5: Nilai Rapor S. 6 | CG5: Jumlah | CH5: Rata-Rata | CI5: Nilai Rapor S. 1 | CJ5: Nilai Rapor S. 2 | CK5: Nilai Rapor S. 3 | CL5: Nilai Rapor S. 4 | CM5: Nilai Rapor S. 5 | CN5: Nilai Rapor S. 6 | CO5: Jumlah | CP5: Rata-Rata | CQ5: Nilai Rapor S. 1 | CR5: Nilai Rapor S. 2 | CS5: Nilai Rapor S. 3 | CT5: Nilai Rapor S. 4 | CU5: Nilai Rapor S. 5 | CV5: Nilai Rapor S. 6 | CW5: Jumlah | CX5: Rata-Rata | CY5: Nilai Rapor S. 1 | CZ5: Nilai Rapor S. 2 | DA5: Nilai Rapor S. 3 | DB5: Nilai Rapor S. 4 | DC5: Nilai Rapor S. 5 | DD5: Nilai Rapor S. 6 | DE5: Jumlah | DF5: Rata-Rata | DG5: Nilai Rapor S. 1 | DH5: Nilai Rapor S. 2 | DI5: Nilai Rapor S. 3 | DJ5: Nilai Rapor S. 4 | DK5: Nilai Rapor S. 5 | DL5: Nilai Rapor S. 6 | DM5: Jumlah | DN5: Rata-Rata | DO5: Nilai Rapor S. 1 | DP5: Nilai Rapor S. 2 | DQ5: Nilai Rapor S. 3 | DR5: Nilai Rapor S. 4 | DS5: Nilai Rapor S. 5 | DT5: Nilai Rapor S. 6 | DU5: Jumlah | DV5: Rata-Rata | DW5: Nilai Rapor S. 1 | DX5: Nilai Rapor S. 2 | DY5: Nilai Rapor S. 3 | DZ5: Nilai Rapor S. 4 | EA5: Nilai Rapor S. 5 | EB5: Nilai Rapor S. 6 | EC5: Jumlah | ED5: Rata-Rata | EG5: Semester 1 | EH5: Semester 2 | EI5: Semester 3 | EJ5: Semester 4 | EK5: Semester 5 | EL5: Semester 6 | EM5: Jumlah | EN5: Rata-Rata
A7: 1 | B7: ABDUL KHAFIDZ ANSHORI | C7: Pekalongan, 15 Mei 2010 | D7: 0106247597 | E7: 2099 | F7: L | G7: 89 | H7: 90 | I7: 88 | J7: 92 | K7: 90 | M7: =SUM(G7:L7) -> 449 | N7: =AVERAGE(G7:L7) -> 89.8 | O7: 89 | P7: 90 | Q7: 90 | R7: 89 | S7: 91 | U7: =SUM(O7:T7) -> 449 | V7: =AVERAGE(O7:T7) -> 89.8 | W7: 89 | X7: 88 | Y7: 89 | Z7: 90 | AA7: 92 | AC7: =SUM(W7:AB7) -> 448 | AD7: =AVERAGE(W7:AB7) -> 89.6 | AE7: 82 | AF7: 81 | AG7: 75 | AH7: 75 | AI7: 76 | AK7: =SUM(AE7:AJ7) -> 389 | AL7: =AVERAGE(AE7:AJ7) -> 77.8 | AM7: 74 | AN7: 74 | AO7: 80 | AP7: 80 | AQ7: 76 | AS7: =SUM(AM7:AR7) -> 384 | AT7: =AVERAGE(AM7:AR7) -> 76.8 | AU7: 74 | AV7: 78 | AW7: 77 | AX7: 79 | AY7: 76 | BA7: =SUM(AU7:AZ7) -> 384 | BB7: =AVERAGE(AU7:AZ7) -> 76.8 | BC7: 75 | BD7: 81 | BE7: 81 | BF7: 81 | BG7: 82 | BI7: =SUM(BC7:BH7) -> 400 | BJ7: =AVERAGE(BC7:BH7) -> 80 | BK7: 78 | BL7: 77 | BM7: 79 | BN7: 80 | BO7: 78 | BQ7: =SUM(BK7:BP7) -> 392 | BR7: =AVERAGE(BK7:BP7) -> 78.4 | BY7: =SUM(BS7:BX7) -> 0 | BZ7: =AVERAGE(BS7:BX7) -> #DIV/0! | CA7: 85 | CB7: 87 | CC7: 86 | CD7: 85 | CE7: 76 | CG7: =SUM(CA7:CF7) -> 419 | CH7: =AVERAGE(CA7:CF7) -> 83.8 | CI7: 74 | CJ7: 81 | CK7: 84 | CL7: 82 | CM7: 80 | CO7: =SUM(CI7:CN7) -> 401 | CP7: =AVERAGE(CI7:CN7) -> 80.2 | CQ7: 74 | CR7: 76 | CS7: 75 | CT7: 83 | CU7: 79 | CW7: =SUM(CQ7:CV7) -> 387 | CX7: =AVERAGE(CQ7:CV7) -> 77.4 | CY7: 90 | CZ7: 88 | DA7: 91 | DB7: 90 | DC7: 88 | DE7: =SUM(CY7:DD7) -> 447 | DF7: =AVERAGE(CY7:DD7) -> 89.4 | DG7: 89 | DH7: 91 | DI7: 90 | DJ7: 88 | DK7: 90 | DM7: =SUM(DG7:DL7) -> 448 | DN7: =AVERAGE(DG7:DL7) -> 89.6 | DO7: 74 | DP7: 74 | DQ7: 75 | DR7: 75 | DS7: 76 | DU7: =SUM(DO7:DT7) -> 374 | DV7: =AVERAGE(DO7:DT7) -> 74.8 | DW7: 74 | DX7: 80 | DY7: 79 | DZ7: 83 | EA7: 76 | EC7: =SUM(DW7:EB7) -> 392 | ED7: =AVERAGE(DW7:EB7) -> 78.4 | EG7: =AVERAGE(G7,O7,CY7,DG7) -> 89.25 | EH7: =AVERAGE(H7,P7,CZ7,DH7) -> 89.75 | EI7: =AVERAGE(I7,Q7,DA7,DI7) -> 89.75 | EJ7: =AVERAGE(J7,R7,DB7,DJ7) -> 89.75 | EK7: =AVERAGE(K7,S7,DC7,DK7) -> 89.75 | EM7: =SUM(EG7:EL7) -> 448.25 | EN7: =AVERAGE(EG7:EL7) -> 89.65
A8: 2 | B8: AHMAD THORIK | C8: Pekalongan, 4 Agustus 2010 | D8: 0101525400 | E8: 2097 | F8: L | G8: 86 | H8: 89 | I8: 89 | J8: 91 | K8: 90 | M8: =SUM(G8:L8) -> 445 | N8: =AVERAGE(G8:L8) -> 89 | O8: 85 | P8: 88 | Q8: 92 | R8: 90 | S8: 91 | U8: =SUM(O8:T8) -> 446 | V8: =AVERAGE(O8:T8) -> 89.2 | W8: 85 | X8: 86 | Y8: 89 | Z8: 90 | AA8: 90 | AC8: =SUM(W8:AB8) -> 440 | AD8: =AVERAGE(W8:AB8) -> 88 | AE8: 84 | AF8: 82 | AG8: 75 | AH8: 76 | AI8: 76 | AK8: =SUM(AE8:AJ8) -> 393 | AL8: =AVERAGE(AE8:AJ8) -> 78.6 | AM8: 74 | AN8: 74 | AO8: 80 | AP8: 80 | AQ8: 76 | AS8: =SUM(AM8:AR8) -> 384 | AT8: =AVERAGE(AM8:AR8) -> 76.8 | AU8: 75 | AV8: 78 | AW8: 77 | AX8: 81 | AY8: 76 | BA8: =SUM(AU8:AZ8) -> 387 | BB8: =AVERAGE(AU8:AZ8) -> 77.4 | BC8: 77 | BD8: 81 | BE8: 81 | BF8: 82 | BG8: 76 | BI8: =SUM(BC8:BH8) -> 397 | BJ8: =AVERAGE(BC8:BH8) -> 79.4 | BK8: 76 | BL8: 77 | BM8: 82 | BN8: 79 | BO8: 76 | BQ8: =SUM(BK8:BP8) -> 390 | BR8: =AVERAGE(BK8:BP8) -> 78 | BY8: =SUM(BS8:BX8) -> 0 | BZ8: =AVERAGE(BS8:BX8) -> #DIV/0! | CA8: 85 | CB8: 88 | CC8: 86 | CD8: 85 | CE8: 86 | CG8: =SUM(CA8:CF8) -> 430 | CH8: =AVERAGE(CA8:CF8) -> 86 | CI8: 74 | CJ8: 80 | CK8: 84 | CL8: 82 | CM8: 81 | CO8: =SUM(CI8:CN8) -> 401 | CP8: =AVERAGE(CI8:CN8) -> 80.2 | CQ8: 74 | CR8: 74 | CS8: 77 | CT8: 78 | CU8: 77 | CW8: =SUM(CQ8:CV8) -> 380 | CX8: =AVERAGE(CQ8:CV8) -> 76 | CY8: 89 | CZ8: 86 | DA8: 90 | DB8: 87 | DC8: 87 | DE8: =SUM(CY8:DD8) -> 439 | DF8: =AVERAGE(CY8:DD8) -> 87.8 | DG8: 85 | DH8: 88 | DI8: 90 | DJ8: 89 | DK8: 87 | DM8: =SUM(DG8:DL8) -> 439 | DN8: =AVERAGE(DG8:DL8) -> 87.8 | DO8: 75 | DP8: 74 | DQ8: 75 | DR8: 77 | DS8: 76 | DU8: =SUM(DO8:DT8) -> 377 | DV8: =AVERAGE(DO8:DT8) -> 75.4 | DW8: 74 | DX8: 75 | DY8: 80 | DZ8: 83 | EA8: 78 | EC8: =SUM(DW8:EB8) -> 390 | ED8: =AVERAGE(DW8:EB8) -> 78 | EG8: =AVERAGE(G8,O8,CY8,DG8) -> 86.25 | EH8: =AVERAGE(H8,P8,CZ8,DH8) -> 87.75 | EI8: =AVERAGE(I8,Q8,DA8,DI8) -> 90.25 | EJ8: =AVERAGE(J8,R8,DB8,DJ8) -> 89.25 | EK8: =AVERAGE(K8,S8,DC8,DK8) -> 88.75 | EM8: =SUM(EG8:EL8) -> 442.25 | EN8: =AVERAGE(EG8:EL8) -> 88.45
A9: 3 | B9: ANDISA NAILAL AUFA | C9: Pekalongan, 7 April 2010 | D9: 0109561350 | E9: 2076 | F9: P | G9: 92 | H9: 93 | I9: 91 | J9: 93 | K9: 94 | M9: =SUM(G9:L9) -> 463 | N9: =AVERAGE(G9:L9) -> 92.6 | O9: 91 | P9: 91 | Q9: 94 | R9: 93 | S9: 93 | U9: =SUM(O9:T9) -> 462 | V9: =AVERAGE(O9:T9) -> 92.4 | W9: 93 | X9: 95 | Y9: 93 | Z9: 92 | AA9: 93 | AC9: =SUM(W9:AB9) -> 466 | AD9: =AVERAGE(W9:AB9) -> 93.2 | AE9: 88 | AF9: 90 | AG9: 81 | AH9: 81 | AI9: 86 | AK9: =SUM(AE9:AJ9) -> 426 | AL9: =AVERAGE(AE9:AJ9) -> 85.2 | AM9: 82 | AN9: 84 | AO9: 83 | AP9: 84 | AQ9: 79 | AS9: =SUM(AM9:AR9) -> 412 | AT9: =AVERAGE(AM9:AR9) -> 82.4 | AU9: 84 | AV9: 85 | AW9: 84 | AX9: 89 | AY9: 83 | BA9: =SUM(AU9:AZ9) -> 425 | BB9: =AVERAGE(AU9:AZ9) -> 85 | BC9: 85 | BD9: 87 | BE9: 90 | BF9: 88 | BG9: 87 | BI9: =SUM(BC9:BH9) -> 437 | BJ9: =AVERAGE(BC9:BH9) -> 87.4 | BK9: 84 | BL9: 85 | BM9: 86 | BN9: 85 | BO9: 86 | BQ9: =SUM(BK9:BP9) -> 426 | BR9: =AVERAGE(BK9:BP9) -> 85.2 | BY9: =SUM(BS9:BX9) -> 0 | BZ9: =AVERAGE(BS9:BX9) -> #DIV/0! | CA9: 86 | CB9: 88 | CC9: 88 | CD9: 96 | CE9: 93 | CG9: =SUM(CA9:CF9) -> 451 | CH9: =AVERAGE(CA9:CF9) -> 90.2 | CI9: 80 | CJ9: 87 | CK9: 85 | CL9: 88 | CM9: 92 | CO9: =SUM(CI9:CN9) -> 432 | CP9: =AVERAGE(CI9:CN9) -> 86.4 | CQ9: 78 | CR9: 89 | CS9: 84 | CT9: 90 | CU9: 95 | CW9: =SUM(CQ9:CV9) -> 436 | CX9: =AVERAGE(CQ9:CV9) -> 87.2 | CY9: 90 | CZ9: 91 | DA9: 93 | DB9: 93 | DC9: 92 | DE9: =SUM(CY9:DD9) -> 459 | DF9: =AVERAGE(CY9:DD9) -> 91.8 | DG9: 93 | DH9: 92 | DI9: 89 | DJ9: 90 | DK9: 92 | DM9: =SUM(DG9:DL9) -> 456 | DN9: =AVERAGE(DG9:DL9) -> 91.2 | DO9: 79 | DP9: 76 | DQ9: 76 | DR9: 76 | DS9: 76 | DU9: =SUM(DO9:DT9) -> 383 | DV9: =AVERAGE(DO9:DT9) -> 76.6 | DW9: 78 | DX9: 86 | DY9: 90 | DZ9: 93 | EA9: 88 | EC9: =SUM(DW9:EB9) -> 435 | ED9: =AVERAGE(DW9:EB9) -> 87 | EG9: =AVERAGE(G9,O9,CY9,DG9) -> 91.5 | EH9: =AVERAGE(H9,P9,CZ9,DH9) -> 91.75 | EI9: =AVERAGE(I9,Q9,DA9,DI9) -> 91.75 | EJ9: =AVERAGE(J9,R9,DB9,DJ9) -> 92.25 | EK9: =AVERAGE(K9,S9,DC9,DK9) -> 92.75 | EM9: =SUM(EG9:EL9) -> 460 | EN9: =AVERAGE(EG9:EL9) -> 92
A10: 4 | B10: DINA RAHMADHADI | C10: Kumu Deli, 25 Agustus 2009 | D10: 0097792496 | E10: 2081 | F10: P | G10: 95 | H10: 90 | I10: 93 | J10: 95 | K10: 93 | M10: =SUM(G10:L10) -> 466 | N10: =AVERAGE(G10:L10) -> 93.2 | O10: 91 | P10: 92 | Q10: 95 | R10: 93 | S10: 90 | U10: =SUM(O10:T10) -> 461 | V10: =AVERAGE(O10:T10) -> 92.2 | W10: 92 | X10: 94 | Y10: 91 | Z10: 93 | AA10: 92 | AC10: =SUM(W10:AB10) -> 462 | AD10: =AVERAGE(W10:AB10) -> 92.4 | AE10: 87 | AF10: 89 | AG10: 82 | AH10: 78 | AI10: 82 | AK10: =SUM(AE10:AJ10) -> 418 | AL10: =AVERAGE(AE10:AJ10) -> 83.6 | AM10: 84 | AN10: 83 | AO10: 82 | AP10: 82 | AQ10: 78 | AS10: =SUM(AM10:AR10) -> 409 | AT10: =AVERAGE(AM10:AR10) -> 81.8 | AU10: 88 | AV10: 87 | AW10: 83 | AX10: 88 | AY10: 81 | BA10: =SUM(AU10:AZ10) -> 427 | BB10: =AVERAGE(AU10:AZ10) -> 85.4 | BC10: 89 | BD10: 90 | BE10: 88 | BF10: 83 | BG10: 85 | BI10: =SUM(BC10:BH10) -> 435 | BJ10: =AVERAGE(BC10:BH10) -> 87 | BK10: 88 | BL10: 89 | BM10: 88 | BN10: 85 | BO10: 83 | BQ10: =SUM(BK10:BP10) -> 433 | BR10: =AVERAGE(BK10:BP10) -> 86.6 | BY10: =SUM(BS10:BX10) -> 0 | BZ10: =AVERAGE(BS10:BX10) -> #DIV/0! | CA10: 85 | CB10: 90 | CC10: 86 | CD10: 87 | CE10: 93 | CG10: =SUM(CA10:CF10) -> 441 | CH10: =AVERAGE(CA10:CF10) -> 88.2 | CI10: 76 | CJ10: 85 | CK10: 87 | CL10: 87 | CM10: 87 | CO10: =SUM(CI10:CN10) -> 422 | CP10: =AVERAGE(CI10:CN10) -> 84.4 | CQ10: 80 | CR10: 83 | CS10: 83 | CT10: 83 | CU10: 88 | CW10: =SUM(CQ10:CV10) -> 417 | CX10: =AVERAGE(CQ10:CV10) -> 83.4 | CY10: 91 | CZ10: 93 | DA10: 93 | DB10: 92 | DC10: 90 | DE10: =SUM(CY10:DD10) -> 459 | DF10: =AVERAGE(CY10:DD10) -> 91.8 | DG10: 89 | DH10: 93 | DI10: 92 | DJ10: 91 | DK10: 93 | DM10: =SUM(DG10:DL10) -> 458 | DN10: =AVERAGE(DG10:DL10) -> 91.6 | DO10: 74 | DP10: 75 | DQ10: 77 | DR10: 75 | DS10: 77 | DU10: =SUM(DO10:DT10) -> 378 | DV10: =AVERAGE(DO10:DT10) -> 75.6 | DW10: 78 | DX10: 81 | DY10: 87 | DZ10: 92 | EA10: 84 | EC10: =SUM(DW10:EB10) -> 422 | ED10: =AVERAGE(DW10:EB10) -> 84.4 | EG10: =AVERAGE(G10,O10,CY10,DG10) -> 91.5 | EH10: =AVERAGE(H10,P10,CZ10,DH10) -> 92 | EI10: =AVERAGE(I10,Q10,DA10,DI10) -> 93.25 | EJ10: =AVERAGE(J10,R10,DB10,DJ10) -> 92.75 | EK10: =AVERAGE(K10,S10,DC10,DK10) -> 91.5 | EM10: =SUM(EG10:EL10) -> 461 | EN10: =AVERAGE(EG10:EL10) -> 92.2
A11: 5 | B11: DIVA AYUNING TIYAS | C11: Pekalongan, 29 Januari 2009 | D11: 3097506272 | E11: 2113 | F11: P | G11: 86 | H11: 83 | I11: 81 | J11: 81 | K11: 80 | M11: =SUM(G11:L11) -> 411 | N11: =AVERAGE(G11:L11) -> 82.2 | O11: 84 | P11: 80 | Q11: 84 | R11: 80 | S11: 86 | U11: =SUM(O11:T11) -> 414 | V11: =AVERAGE(O11:T11) -> 82.8 | W11: 76 | X11: 75 | Y11: 82 | Z11: 82 | AA11: 84 | AC11: =SUM(W11:AB11) -> 399 | AD11: =AVERAGE(W11:AB11) -> 79.8 | AE11: 79 | AF11: 85 | AG11: 77 | AH11: 76 | AI11: 76 | AK11: =SUM(AE11:AJ11) -> 393 | AL11: =AVERAGE(AE11:AJ11) -> 78.6 | AM11: 74 | AN11: 74 | AO11: 80 | AP11: 84 | AQ11: 76 | AS11: =SUM(AM11:AR11) -> 388 | AT11: =AVERAGE(AM11:AR11) -> 77.6 | AU11: 74 | AV11: 81 | AW11: 79 | AX11: 83 | AY11: 78 | BA11: =SUM(AU11:AZ11) -> 395 | BB11: =AVERAGE(AU11:AZ11) -> 79 | BC11: 77 | BD11: 81 | BE11: 84 | BF11: 81 | BG11: 80 | BI11: =SUM(BC11:BH11) -> 403 | BJ11: =AVERAGE(BC11:BH11) -> 80.6 | BK11: 76 | BL11: 77 | BM11: 85 | BN11: 80 | BO11: 78 | BQ11: =SUM(BK11:BP11) -> 396 | BR11: =AVERAGE(BK11:BP11) -> 79.2 | BY11: =SUM(BS11:BX11) -> 0 | BZ11: =AVERAGE(BS11:BX11) -> #DIV/0! | CA11: 84 | CB11: 89 | CC11: 90 | CD11: 88 | CE11: 91 | CG11: =SUM(CA11:CF11) -> 442 | CH11: =AVERAGE(CA11:CF11) -> 88.4 | CI11: 75 | CJ11: 82 | CK11: 84 | CL11: 83 | CM11: 83 | CO11: =SUM(CI11:CN11) -> 407 | CP11: =AVERAGE(CI11:CN11) -> 81.4 | CQ11: 74 | CR11: 76 | CS11: 77 | CT11: 77 | CU11: 77 | CW11: =SUM(CQ11:CV11) -> 381 | CX11: =AVERAGE(CQ11:CV11) -> 76.2 | CY11: 85 | CZ11: 82 | DA11: 84 | DB11: 85 | DC11: 77 | DE11: =SUM(CY11:DD11) -> 413 | DF11: =AVERAGE(CY11:DD11) -> 82.6 | DG11: 79 | DH11: 77 | DI11: 82 | DJ11: 78 | DK11: 81 | DM11: =SUM(DG11:DL11) -> 397 | DN11: =AVERAGE(DG11:DL11) -> 79.4 | DO11: 78 | DP11: 75 | DQ11: 75 | DR11: 75 | DS11: 76 | DU11: =SUM(DO11:DT11) -> 379 | DV11: =AVERAGE(DO11:DT11) -> 75.8 | DW11: 80 | DX11: 86 | DY11: 84 | DZ11: 88 | EA11: 76 | EC11: =SUM(DW11:EB11) -> 414 | ED11: =AVERAGE(DW11:EB11) -> 82.8 | EG11: =AVERAGE(G11,O11,CY11,DG11) -> 83.5 | EH11: =AVERAGE(H11,P11,CZ11,DH11) -> 80.5 | EI11: =AVERAGE(I11,Q11,DA11,DI11) -> 82.75 | EJ11: =AVERAGE(J11,R11,DB11,DJ11) -> 81 | EK11: =AVERAGE(K11,S11,DC11,DK11) -> 81 | EM11: =SUM(EG11:EL11) -> 408.75 | EN11: =AVERAGE(EG11:EL11) -> 81.75
A12: 6 | B12: HERI PRASETYO | C12: Pekalongan, 16 Februari 2010 | D12: 0104942364 | E12: 2095 | F12: L | G12: 97 | H12: 95 | I12: 92 | J12: 94 | K12: 95 | M12: =SUM(G12:L12) -> 473 | N12: =AVERAGE(G12:L12) -> 94.6 | O12: 94 | P12: 93 | Q12: 95 | R12: 95 | S12: 94 | U12: =SUM(O12:T12) -> 471 | V12: =AVERAGE(O12:T12) -> 94.2 | W12: 94 | X12: 93 | Y12: 95 | Z12: 96 | AA12: 94 | AC12: =SUM(W12:AB12) -> 472 | AD12: =AVERAGE(W12:AB12) -> 94.4 | AE12: 91 | AF12: 93 | AG12: 87 | AH12: 84 | AI12: 86 | AK12: =SUM(AE12:AJ12) -> 441 | AL12: =AVERAGE(AE12:AJ12) -> 88.2 | AM12: 85 | AN12: 83 | AO12: 83 | AP12: 84 | AQ12: 83 | AS12: =SUM(AM12:AR12) -> 418 | AT12: =AVERAGE(AM12:AR12) -> 83.6 | AU12: 94 | AV12: 90 | AW12: 86 | AX12: 91 | AY12: 84 | BA12: =SUM(AU12:AZ12) -> 445 | BB12: =AVERAGE(AU12:AZ12) -> 89 | BC12: 91 | BD12: 93 | BE12: 96 | BF12: 95 | BG12: 88 | BI12: =SUM(BC12:BH12) -> 463 | BJ12: =AVERAGE(BC12:BH12) -> 92.6 | BK12: 88 | BL12: 90 | BM12: 90 | BN12: 86 | BO12: 84 | BQ12: =SUM(BK12:BP12) -> 438 | BR12: =AVERAGE(BK12:BP12) -> 87.6 | BY12: =SUM(BS12:BX12) -> 0 | BZ12: =AVERAGE(BS12:BX12) -> #DIV/0! | CA12: 90 | CB12: 94 | CC12: 93 | CD12: 93 | CE12: 96 | CG12: =SUM(CA12:CF12) -> 466 | CH12: =AVERAGE(CA12:CF12) -> 93.2 | CI12: 79 | CJ12: 85 | CK12: 85 | CL12: 86 | CM12: 87 | CO12: =SUM(CI12:CN12) -> 422 | CP12: =AVERAGE(CI12:CN12) -> 84.4 | CQ12: 86 | CR12: 87 | CS12: 83 | CT12: 89 | CU12: 94 | CW12: =SUM(CQ12:CV12) -> 439 | CX12: =AVERAGE(CQ12:CV12) -> 87.8 | CY12: 95 | CZ12: 94 | DA12: 96 | DB12: 95 | DC12: 94 | DE12: =SUM(CY12:DD12) -> 474 | DF12: =AVERAGE(CY12:DD12) -> 94.8 | DG12: 94 | DH12: 94 | DI12: 93 | DJ12: 95 | DK12: 94 | DM12: =SUM(DG12:DL12) -> 470 | DN12: =AVERAGE(DG12:DL12) -> 94 | DO12: 76 | DP12: 80 | DQ12: 81 | DR12: 79 | DS12: 78 | DU12: =SUM(DO12:DT12) -> 394 | DV12: =AVERAGE(DO12:DT12) -> 78.8 | DW12: 88 | DX12: 95 | DY12: 90 | DZ12: 93 | EA12: 92 | EC12: =SUM(DW12:EB12) -> 458 | ED12: =AVERAGE(DW12:EB12) -> 91.6 | EG12: =AVERAGE(G12,O12,CY12,DG12) -> 95 | EH12: =AVERAGE(H12,P12,CZ12,DH12) -> 94 | EI12: =AVERAGE(I12,Q12,DA12,DI12) -> 94 | EJ12: =AVERAGE(J12,R12,DB12,DJ12) -> 94.75 | EK12: =AVERAGE(K12,S12,DC12,DK12) -> 94.25 | EM12: =SUM(EG12:EL12) -> 472 | EN12: =AVERAGE(EG12:EL12) -> 94.4
A13: 7 | B13: KAMILA RAMADHANI | C13: Pekalongan, 9 Agustus 2010 | D13: 3103325459 | E13: 2091 | F13: P | G13: 90 | H13: 83 | I13: 84 | J13: 85 | K13: 90 | M13: =SUM(G13:L13) -> 432 | N13: =AVERAGE(G13:L13) -> 86.4 | O13: 82 | P13: 83 | Q13: 87 | R13: 81 | S13: 88 | U13: =SUM(O13:T13) -> 421 | V13: =AVERAGE(O13:T13) -> 84.2 | W13: 74 | X13: 78 | Y13: 84 | Z13: 83 | AA13: 90 | AC13: =SUM(W13:AB13) -> 409 | AD13: =AVERAGE(W13:AB13) -> 81.8 | AE13: 80 | AF13: 86 | AG13: 76 | AH13: 76 | AI13: 78 | AK13: =SUM(AE13:AJ13) -> 396 | AL13: =AVERAGE(AE13:AJ13) -> 79.2 | AM13: 77 | AN13: 74 | AO13: 83 | AP13: 82 | AQ13: 79 | AS13: =SUM(AM13:AR13) -> 395 | AT13: =AVERAGE(AM13:AR13) -> 79 | AU13: 77 | AV13: 81 | AW13: 81 | AX13: 82 | AY13: 78 | BA13: =SUM(AU13:AZ13) -> 399 | BB13: =AVERAGE(AU13:AZ13) -> 79.8 | BC13: 75 | BD13: 81 | BE13: 87 | BF13: 83 | BG13: 82 | BI13: =SUM(BC13:BH13) -> 408 | BJ13: =AVERAGE(BC13:BH13) -> 81.6 | BK13: 78 | BL13: 78 | BM13: 82 | BN13: 82 | BO13: 81 | BQ13: =SUM(BK13:BP13) -> 401 | BR13: =AVERAGE(BK13:BP13) -> 80.2 | BY13: =SUM(BS13:BX13) -> 0 | BZ13: =AVERAGE(BS13:BX13) -> #DIV/0! | CA13: 84 | CB13: 90 | CC13: 87 | CD13: 86 | CE13: 95 | CG13: =SUM(CA13:CF13) -> 442 | CH13: =AVERAGE(CA13:CF13) -> 88.4 | CI13: 76 | CJ13: 84 | CK13: 84 | CL13: 85 | CM13: 86 | CO13: =SUM(CI13:CN13) -> 415 | CP13: =AVERAGE(CI13:CN13) -> 83 | CQ13: 76 | CR13: 78 | CS13: 76 | CT13: 76 | CU13: 77 | CW13: =SUM(CQ13:CV13) -> 383 | CX13: =AVERAGE(CQ13:CV13) -> 76.6 | CY13: 86 | CZ13: 85 | DA13: 86 | DB13: 84 | DC13: 84 | DE13: =SUM(CY13:DD13) -> 425 | DF13: =AVERAGE(CY13:DD13) -> 85 | DG13: 82 | DH13: 83 | DI13: 85 | DJ13: 81 | DK13: 83 | DM13: =SUM(DG13:DL13) -> 414 | DN13: =AVERAGE(DG13:DL13) -> 82.8 | DO13: 74 | DP13: 76 | DQ13: 75 | DR13: 76 | DS13: 77 | DU13: =SUM(DO13:DT13) -> 378 | DV13: =AVERAGE(DO13:DT13) -> 75.6 | DW13: 78 | DX13: 87 | DY13: 87 | DZ13: 88 | EA13: 85 | EC13: =SUM(DW13:EB13) -> 425 | ED13: =AVERAGE(DW13:EB13) -> 85 | EG13: =AVERAGE(G13,O13,CY13,DG13) -> 85 | EH13: =AVERAGE(H13,P13,CZ13,DH13) -> 83.5 | EI13: =AVERAGE(I13,Q13,DA13,DI13) -> 85.5 | EJ13: =AVERAGE(J13,R13,DB13,DJ13) -> 82.75 | EK13: =AVERAGE(K13,S13,DC13,DK13) -> 86.25 | EM13: =SUM(EG13:EL13) -> 423 | EN13: =AVERAGE(EG13:EL13) -> 84.6
A14: 8 | B14: LUTFI ANDANI | C14: Pekalongan, 29 Agustus 2008 | D14: 3083701088 | E14: 2108 | F14: L | G14: 86 | H14: 77 | I14: 81 | J14: 82 | K14: 78 | M14: =SUM(G14:L14) -> 404 | N14: =AVERAGE(G14:L14) -> 80.8 | O14: 77 | P14: 78 | Q14: 83 | R14: 79 | S14: 81 | U14: =SUM(O14:T14) -> 398 | V14: =AVERAGE(O14:T14) -> 79.6 | W14: 79 | X14: 79 | Y14: 80 | Z14: 81 | AA14: 80 | AC14: =SUM(W14:AB14) -> 399 | AD14: =AVERAGE(W14:AB14) -> 79.8 | AE14: 81 | AF14: 81 | AG14: 75 | AH14: 76 | AI14: 76 | AK14: =SUM(AE14:AJ14) -> 389 | AL14: =AVERAGE(AE14:AJ14) -> 77.8 | AM14: 74 | AN14: 77 | AO14: 79 | AP14: 81 | AQ14: 76 | AS14: =SUM(AM14:AR14) -> 387 | AT14: =AVERAGE(AM14:AR14) -> 77.4 | AU14: 75 | AV14: 78 | AW14: 79 | AX14: 79 | AY14: 76 | BA14: =SUM(AU14:AZ14) -> 387 | BB14: =AVERAGE(AU14:AZ14) -> 77.4 | BC14: 74 | BD14: 81 | BE14: 85 | BF14: 81 | BG14: 76 | BI14: =SUM(BC14:BH14) -> 397 | BJ14: =AVERAGE(BC14:BH14) -> 79.4 | BK14: 75 | BL14: 76 | BM14: 80 | BN14: 79 | BO14: 76 | BQ14: =SUM(BK14:BP14) -> 386 | BR14: =AVERAGE(BK14:BP14) -> 77.2 | BY14: =SUM(BS14:BX14) -> 0 | BZ14: =AVERAGE(BS14:BX14) -> #DIV/0! | CA14: 84 | CB14: 89 | CC14: 88 | CD14: 87 | CE14: 80 | CG14: =SUM(CA14:CF14) -> 428 | CH14: =AVERAGE(CA14:CF14) -> 85.6 | CI14: 76 | CJ14: 80 | CK14: 84 | CL14: 80 | CM14: 80 | CO14: =SUM(CI14:CN14) -> 400 | CP14: =AVERAGE(CI14:CN14) -> 80 | CQ14: 76 | CR14: 75 | CS14: 75 | CT14: 75 | CU14: 77 | CW14: =SUM(CQ14:CV14) -> 378 | CX14: =AVERAGE(CQ14:CV14) -> 75.6 | CY14: 85 | CZ14: 78 | DA14: 82 | DB14: 78 | DC14: 78 | DE14: =SUM(CY14:DD14) -> 401 | DF14: =AVERAGE(CY14:DD14) -> 80.2 | DG14: 77 | DH14: 76 | DI14: 81 | DJ14: 77 | DK14: 77 | DM14: =SUM(DG14:DL14) -> 388 | DN14: =AVERAGE(DG14:DL14) -> 77.6 | DO14: 75 | DP14: 74 | DQ14: 75 | DR14: 75 | DS14: 76 | DU14: =SUM(DO14:DT14) -> 375 | DV14: =AVERAGE(DO14:DT14) -> 75 | DW14: 74 | DX14: 84 | DY14: 84 | DZ14: 80 | EA14: 76 | EC14: =SUM(DW14:EB14) -> 398 | ED14: =AVERAGE(DW14:EB14) -> 79.6 | EG14: =AVERAGE(G14,O14,CY14,DG14) -> 81.25 | EH14: =AVERAGE(H14,P14,CZ14,DH14) -> 77.25 | EI14: =AVERAGE(I14,Q14,DA14,DI14) -> 81.75 | EJ14: =AVERAGE(J14,R14,DB14,DJ14) -> 79 | EK14: =AVERAGE(K14,S14,DC14,DK14) -> 78.5 | EM14: =SUM(EG14:EL14) -> 397.75 | EN14: =AVERAGE(EG14:EL14) -> 79.55
A15: 9 | B15: M. ARI ILHAM | C15: Pekalongan, 7 Juni 2010 | D15: 3105255525 | E15: 2093 | F15: L | G15: 93 | H15: 94 | I15: 91 | J15: 90 | K15: 90 | M15: =SUM(G15:L15) -> 458 | N15: =AVERAGE(G15:L15) -> 91.6 | O15: 89 | P15: 90 | Q15: 91 | R15: 90 | S15: 93 | U15: =SUM(O15:T15) -> 453 | V15: =AVERAGE(O15:T15) -> 90.6 | W15: 90 | X15: 88 | Y15: 89 | Z15: 93 | AA15: 92 | AC15: =SUM(W15:AB15) -> 452 | AD15: =AVERAGE(W15:AB15) -> 90.4 | AE15: 85 | AF15: 82 | AG15: 75 | AH15: 76 | AI15: 76 | AK15: =SUM(AE15:AJ15) -> 394 | AL15: =AVERAGE(AE15:AJ15) -> 78.8 | AM15: 77 | AN15: 75 | AO15: 81 | AP15: 80 | AQ15: 77 | AS15: =SUM(AM15:AR15) -> 390 | AT15: =AVERAGE(AM15:AR15) -> 78 | AU15: 74 | AV15: 79 | AW15: 77 | AX15: 78 | AY15: 77 | BA15: =SUM(AU15:AZ15) -> 385 | BB15: =AVERAGE(AU15:AZ15) -> 77 | BC15: 78 | BD15: 83 | BE15: 81 | BF15: 82 | BG15: 77 | BI15: =SUM(BC15:BH15) -> 401 | BJ15: =AVERAGE(BC15:BH15) -> 80.2 | BK15: 75 | BL15: 77 | BM15: 79 | BN15: 79 | BO15: 79 | BQ15: =SUM(BK15:BP15) -> 389 | BR15: =AVERAGE(BK15:BP15) -> 77.8 | BY15: =SUM(BS15:BX15) -> 0 | BZ15: =AVERAGE(BS15:BX15) -> #DIV/0! | CA15: 85 | CB15: 88 | CC15: 85 | CD15: 88 | CE15: 88 | CG15: =SUM(CA15:CF15) -> 434 | CH15: =AVERAGE(CA15:CF15) -> 86.8 | CI15: 74 | CJ15: 81 | CK15: 84 | CL15: 83 | CM15: 82 | CO15: =SUM(CI15:CN15) -> 404 | CP15: =AVERAGE(CI15:CN15) -> 80.8 | CQ15: 74 | CR15: 75 | CS15: 75 | CT15: 75 | CU15: 77 | CW15: =SUM(CQ15:CV15) -> 376 | CX15: =AVERAGE(CQ15:CV15) -> 75.2 | CY15: 91 | CZ15: 90 | DA15: 90 | DB15: 88 | DC15: 90 | DE15: =SUM(CY15:DD15) -> 449 | DF15: =AVERAGE(CY15:DD15) -> 89.8 | DG15: 89 | DH15: 88 | DI15: 90 | DJ15: 89 | DK15: 92 | DM15: =SUM(DG15:DL15) -> 448 | DN15: =AVERAGE(DG15:DL15) -> 89.6 | DO15: 73 | DP15: 3 | DQ15: 75 | DR15: 75 | DS15: 76 | DU15: =SUM(DO15:DT15) -> 302 | DV15: =AVERAGE(DO15:DT15) -> 60.4 | DW15: 74 | DX15: 74 | DY15: 82 | DZ15: 87 | EA15: 78 | EC15: =SUM(DW15:EB15) -> 395 | ED15: =AVERAGE(DW15:EB15) -> 79 | EG15: =AVERAGE(G15,O15,CY15,DG15) -> 90.5 | EH15: =AVERAGE(H15,P15,CZ15,DH15) -> 90.5 | EI15: =AVERAGE(I15,Q15,DA15,DI15) -> 90.5 | EJ15: =AVERAGE(J15,R15,DB15,DJ15) -> 89.25 | EK15: =AVERAGE(K15,S15,DC15,DK15) -> 91.25 | EM15: =SUM(EG15:EL15) -> 452 | EN15: =AVERAGE(EG15:EL15) -> 90.4
A16: 10 | B16: M. ZARIRUL FIKRI | C16: Batang, 23 Juli 2010 | D16: 3105592285 | E16: 2107 | F16: L | G16: 85 | H16: 82 | I16: 83 | J16: 81 | K16: 82 | M16: =SUM(G16:L16) -> 413 | N16: =AVERAGE(G16:L16) -> 82.6 | O16: 77 | P16: 78 | Q16: 84 | R16: 77 | S16: 86 | U16: =SUM(O16:T16) -> 402 | V16: =AVERAGE(O16:T16) -> 80.4 | W16: 81 | X16: 80 | Y16: 81 | Z16: 82 | AA16: 86 | AC16: =SUM(W16:AB16) -> 410 | AD16: =AVERAGE(W16:AB16) -> 82 | AE16: 83 | AF16: 81 | AG16: 77 | AH16: 78 | AI16: 76 | AK16: =SUM(AE16:AJ16) -> 395 | AL16: =AVERAGE(AE16:AJ16) -> 79 | AM16: 74 | AN16: 74 | AO16: 82 | AP16: 81 | AQ16: 77 | AS16: =SUM(AM16:AR16) -> 388 | AT16: =AVERAGE(AM16:AR16) -> 77.6 | AU16: 77 | AV16: 77 | AW16: 81 | AX16: 82 | AY16: 76 | BA16: =SUM(AU16:AZ16) -> 393 | BB16: =AVERAGE(AU16:AZ16) -> 78.6 | BC16: 76 | BD16: 83 | BE16: 84 | BF16: 82 | BG16: 76 | BI16: =SUM(BC16:BH16) -> 401 | BJ16: =AVERAGE(BC16:BH16) -> 80.2 | BK16: 75 | BL16: 77 | BM16: 82 | BN16: 84 | BO16: 76 | BQ16: =SUM(BK16:BP16) -> 394 | BR16: =AVERAGE(BK16:BP16) -> 78.8 | BY16: =SUM(BS16:BX16) -> 0 | BZ16: =AVERAGE(BS16:BX16) -> #DIV/0! | CA16: 86 | CB16: 88 | CC16: 85 | CD16: 82 | CE16: 84 | CG16: =SUM(CA16:CF16) -> 425 | CH16: =AVERAGE(CA16:CF16) -> 85 | CI16: 75 | CJ16: 83 | CK16: 84 | CL16: 85 | CM16: 82 | CO16: =SUM(CI16:CN16) -> 409 | CP16: =AVERAGE(CI16:CN16) -> 81.8 | CQ16: 75 | CR16: 74 | CS16: 77 | CT16: 75 | CU16: 88 | CW16: =SUM(CQ16:CV16) -> 389 | CX16: =AVERAGE(CQ16:CV16) -> 77.8 | CY16: 80 | CZ16: 80 | DA16: 84 | DB16: 77 | DC16: 80 | DE16: =SUM(CY16:DD16) -> 401 | DF16: =AVERAGE(CY16:DD16) -> 80.2 | DG16: 76 | DH16: 80 | DI16: 83 | DJ16: 76 | DK16: 81 | DM16: =SUM(DG16:DL16) -> 396 | DN16: =AVERAGE(DG16:DL16) -> 79.2 | DO16: 65 | DP16: 74 | DQ16: 75 | DR16: 75 | DS16: 76 | DU16: =SUM(DO16:DT16) -> 365 | DV16: =AVERAGE(DO16:DT16) -> 73 | DW16: 74 | DX16: 82 | DY16: 85 | DZ16: 84 | EA16: 80 | EC16: =SUM(DW16:EB16) -> 405 | ED16: =AVERAGE(DW16:EB16) -> 81 | EG16: =AVERAGE(G16,O16,CY16,DG16) -> 79.5 | EH16: =AVERAGE(H16,P16,CZ16,DH16) -> 80 | EI16: =AVERAGE(I16,Q16,DA16,DI16) -> 83.5 | EJ16: =AVERAGE(J16,R16,DB16,DJ16) -> 77.75 | EK16: =AVERAGE(K16,S16,DC16,DK16) -> 82.25 | EM16: =SUM(EG16:EL16) -> 403 | EN16: =AVERAGE(EG16:EL16) -> 80.6
A17: 11 | B17: MAGHFIROTUL KARIMAH | C17: Pekalongan, 5 November 2010 | D17: 3109162384 | E17: 2104 | F17: P | G17: 87 | H17: 79 | I17: 83 | J17: 84 | K17: 80 | M17: =SUM(G17:L17) -> 413 | N17: =AVERAGE(G17:L17) -> 82.6 | O17: 75 | P17: 81 | Q17: 82 | R17: 83 | S17: 88 | U17: =SUM(O17:T17) -> 409 | V17: =AVERAGE(O17:T17) -> 81.8 | W17: 74 | X17: 77 | Y17: 82 | Z17: 84 | AA17: 88 | AC17: =SUM(W17:AB17) -> 405 | AD17: =AVERAGE(W17:AB17) -> 81 | AE17: 82 | AF17: 87 | AG17: 80 | AH17: 80 | AI17: 77 | AK17: =SUM(AE17:AJ17) -> 406 | AL17: =AVERAGE(AE17:AJ17) -> 81.2 | AM17: 74 | AN17: 74 | AO17: 79 | AP17: 82 | AQ17: 77 | AS17: =SUM(AM17:AR17) -> 386 | AT17: =AVERAGE(AM17:AR17) -> 77.2 | AU17: 76 | AV17: 82 | AW17: 81 | AX17: 85 | AY17: 80 | BA17: =SUM(AU17:AZ17) -> 404 | BB17: =AVERAGE(AU17:AZ17) -> 80.8 | BC17: 80 | BD17: 86 | BE17: 86 | BF17: 84 | BG17: 84 | BI17: =SUM(BC17:BH17) -> 420 | BJ17: =AVERAGE(BC17:BH17) -> 84 | BK17: 87 | BL17: 88 | BM17: 89 | BN17: 85 | BO17: 84 | BQ17: =SUM(BK17:BP17) -> 433 | BR17: =AVERAGE(BK17:BP17) -> 86.6 | BY17: =SUM(BS17:BX17) -> 0 | BZ17: =AVERAGE(BS17:BX17) -> #DIV/0! | CA17: 85 | CB17: 85 | CC17: 85 | CD17: 87 | CE17: 84 | CG17: =SUM(CA17:CF17) -> 426 | CH17: =AVERAGE(CA17:CF17) -> 85.2 | CI17: 74 | CJ17: 80 | CK17: 84 | CL17: 87 | CM17: 86 | CO17: =SUM(CI17:CN17) -> 411 | CP17: =AVERAGE(CI17:CN17) -> 82.2 | CQ17: 76 | CR17: 79 | CS17: 76 | CT17: 76 | CU17: 86 | CW17: =SUM(CQ17:CV17) -> 393 | CX17: =AVERAGE(CQ17:CV17) -> 78.6 | CY17: 85 | CZ17: 85 | DA17: 90 | DB17: 85 | DC17: 80 | DE17: =SUM(CY17:DD17) -> 425 | DF17: =AVERAGE(CY17:DD17) -> 85 | DG17: 81 | DH17: 81 | DI17: 82 | DJ17: 82 | DK17: 81 | DM17: =SUM(DG17:DL17) -> 407 | DN17: =AVERAGE(DG17:DL17) -> 81.4 | DO17: 77 | DP17: 74 | DQ17: 76 | DR17: 76 | DS17: 76 | DU17: =SUM(DO17:DT17) -> 379 | DV17: =AVERAGE(DO17:DT17) -> 75.8 | DW17: 76 | DX17: 77 | DY17: 81 | DZ17: 89 | EA17: 79 | EC17: =SUM(DW17:EB17) -> 402 | ED17: =AVERAGE(DW17:EB17) -> 80.4 | EG17: =AVERAGE(G17,O17,CY17,DG17) -> 82 | EH17: =AVERAGE(H17,P17,CZ17,DH17) -> 81.5 | EI17: =AVERAGE(I17,Q17,DA17,DI17) -> 84.25 | EJ17: =AVERAGE(J17,R17,DB17,DJ17) -> 83.5 | EK17: =AVERAGE(K17,S17,DC17,DK17) -> 82.25 | EM17: =SUM(EG17:EL17) -> 413.5 | EN17: =AVERAGE(EG17:EL17) -> 82.7
A18: 12 | B18: MUHAMMAD ABDI SASONGKO | C18: Pekalongan, 13 Oktober 2010 | D18: 3107608137 | E18: 2103 | F18: L | G18: 85 | H18: 75 | I18: 79 | J18: 82 | K18: 77 | M18: =SUM(G18:L18) -> 398 | N18: =AVERAGE(G18:L18) -> 79.6 | O18: 79 | P18: 78 | Q18: 83 | R18: 80 | S18: 83 | U18: =SUM(O18:T18) -> 403 | V18: =AVERAGE(O18:T18) -> 80.6 | W18: 75 | X18: 74 | Y18: 78 | Z18: 82 | AA18: 82 | AC18: =SUM(W18:AB18) -> 391 | AD18: =AVERAGE(W18:AB18) -> 78.2 | AE18: 81 | AF18: 81 | AG18: 75 | AH18: 77 | AI18: 76 | AK18: =SUM(AE18:AJ18) -> 390 | AL18: =AVERAGE(AE18:AJ18) -> 78 | AM18: 75 | AN18: 73 | AO18: 81 | AP18: 80 | AQ18: 76 | AS18: =SUM(AM18:AR18) -> 385 | AT18: =AVERAGE(AM18:AR18) -> 77 | AU18: 74 | AV18: 77 | AW18: 79 | AX18: 80 | AY18: 76 | BA18: =SUM(AU18:AZ18) -> 386 | BB18: =AVERAGE(AU18:AZ18) -> 77.2 | BC18: 75 | BD18: 78 | BE18: 80 | BF18: 81 | BG18: 76 | BI18: =SUM(BC18:BH18) -> 390 | BJ18: =AVERAGE(BC18:BH18) -> 78 | BK18: 75 | BL18: 77 | BM18: 81 | BN18: 80 | BO18: 76 | BQ18: =SUM(BK18:BP18) -> 389 | BR18: =AVERAGE(BK18:BP18) -> 77.8 | BY18: =SUM(BS18:BX18) -> 0 | BZ18: =AVERAGE(BS18:BX18) -> #DIV/0! | CA18: 85 | CB18: 89 | CC18: 85 | CD18: 86 | CE18: 83 | CG18: =SUM(CA18:CF18) -> 428 | CH18: =AVERAGE(CA18:CF18) -> 85.6 | CI18: 74 | CJ18: 81 | CK18: 84 | CL18: 82 | CM18: 79 | CO18: =SUM(CI18:CN18) -> 400 | CP18: =AVERAGE(CI18:CN18) -> 80 | CQ18: 74 | CR18: 74 | CS18: 75 | CT18: 80 | CU18: 78 | CW18: =SUM(CQ18:CV18) -> 381 | CX18: =AVERAGE(CQ18:CV18) -> 76.2 | CY18: 83 | CZ18: 77 | DA18: 77 | DB18: 77 | DC18: 81 | DE18: =SUM(CY18:DD18) -> 395 | DF18: =AVERAGE(CY18:DD18) -> 79 | DG18: 75 | DH18: 76 | DI18: 79 | DJ18: 78 | DK18: 81 | DM18: =SUM(DG18:DL18) -> 389 | DN18: =AVERAGE(DG18:DL18) -> 77.8 | DO18: 74 | DP18: 74 | DQ18: 75 | DR18: 77 | DS18: 76 | DU18: =SUM(DO18:DT18) -> 376 | DV18: =AVERAGE(DO18:DT18) -> 75.2 | DW18: 74 | DX18: 76 | DY18: 84 | DZ18: 86 | EA18: 76 | EC18: =SUM(DW18:EB18) -> 396 | ED18: =AVERAGE(DW18:EB18) -> 79.2 | EG18: =AVERAGE(G18,O18,CY18,DG18) -> 80.5 | EH18: =AVERAGE(H18,P18,CZ18,DH18) -> 76.5 | EI18: =AVERAGE(I18,Q18,DA18,DI18) -> 79.5 | EJ18: =AVERAGE(J18,R18,DB18,DJ18) -> 79.25 | EK18: =AVERAGE(K18,S18,DC18,DK18) -> 80.5 | EM18: =SUM(EG18:EL18) -> 396.25 | EN18: =AVERAGE(EG18:EL18) -> 79.25
... A51: 45 | B51: TRI MULIA SAPUTRA | C51: Pekalongan, 10 Juni 2007 | D51: 0072355816 | E51: 2101 | F51: L | G51: 94 | H51: 93 | I51: 91 | J51: 90 | K51: 93 | M51: =SUM(G51:L51) -> 461 | N51: =AVERAGE(G51:L51) -> 92.2 | O51: 90 | P51: 93 | Q51: 90 | R51: 93 | S51: 95 | U51: =SUM(O51:T51) -> 461 | V51: =AVERAGE(O51:T51) -> 92.2 | W51: 90 | X51: 91 | Y51: 93 | Z51: 92 | AA51: 92 | AC51: =SUM(W51:AB51) -> 458 | AD51: =AVERAGE(W51:AB51) -> 91.6 | AE51: 90 | AF51: 92 | AG51: 91 | AH51: 87 | AI51: 81 | AK51: =SUM(AE51:AJ51) -> 441 | AL51: =AVERAGE(AE51:AJ51) -> 88.2 | AM51: 85 | AN51: 91 | AO51: 84 | AP51: 85 | AQ51: 84 | AS51: =SUM(AM51:AR51) -> 429 | AT51: =AVERAGE(AM51:AR51) -> 85.8 | AU51: 92 | AV51: 90 | AW51: 85 | AX51: 90 | AY51: 82 | BA51: =SUM(AU51:AZ51) -> 439 | BB51: =AVERAGE(AU51:AZ51) -> 87.8 | BC51: 88 | BD51: 90 | BE51: 89 | BF51: 91 | BG51: 86 | BI51: =SUM(BC51:BH51) -> 444 | BJ51: =AVERAGE(BC51:BH51) -> 88.8 | BK51: 88 | BL51: 88 | BM51: 86 | BN51: 83 | BO51: 85 | BQ51: =SUM(BK51:BP51) -> 430 | BR51: =AVERAGE(BK51:BP51) -> 86 | BY51: =SUM(BS51:BX51) -> 0 | BZ51: =AVERAGE(BS51:BX51) -> #DIV/0! | CA51: 90 | CB51: 93 | CC51: 89 | CD51: 88 | CE51: 86 | CG51: =SUM(CA51:CF51) -> 446 | CH51: =AVERAGE(CA51:CF51) -> 89.2 | CI51: 80 | CJ51: 89 | CK51: 85 | CL51: 90 | CM51: 82 | CO51: =SUM(CI51:CN51) -> 426 | CP51: =AVERAGE(CI51:CN51) -> 85.2 | CQ51: 83 | CR51: 86 | CS51: 88 | CT51: 91 | CU51: 86 | CW51: =SUM(CQ51:CV51) -> 434 | CX51: =AVERAGE(CQ51:CV51) -> 86.8 | CY51: 91 | CZ51: 93 | DA51: 95 | DB51: 90 | DC51: 92 | DE51: =SUM(CY51:DD51) -> 461 | DF51: =AVERAGE(CY51:DD51) -> 92.2 | DG51: 93 | DH51: 92 | DI51: 94 | DJ51: 93 | DK51: 91 | DM51: =SUM(DG51:DL51) -> 463 | DN51: =AVERAGE(DG51:DL51) -> 92.6 | DO51: 73 | DP51: 75 | DQ51: 75 | DR51: 76 | DS51: 76 | DU51: =SUM(DO51:DT51) -> 375 | DV51: =AVERAGE(DO51:DT51) -> 75 | DW51: 85 | DX51: 94 | DY51: 89 | DZ51: 95 | EA51: 90 | EC51: =SUM(DW51:EB51) -> 453 | ED51: =AVERAGE(DW51:EB51) -> 90.6 | EG51: =AVERAGE(G51,O51,CY51,DG51) -> 92 | EH51: =AVERAGE(H51,P51,CZ51,DH51) -> 92.75 | EI51: =AVERAGE(I51,Q51,DA51,DI51) -> 92.5 | EJ51: =AVERAGE(J51,R51,DB51,DJ51) -> 91.5 | EK51: =AVERAGE(K51,S51,DC51,DK51) -> 92.75 | EM51: =SUM(EG51:EL51) -> 461.5 | EN51: =AVERAGE(EG51:EL51) -> 92.3
B55: Nilai Tertinggi | G55: =MAX(G7:G51) -> 98 | H55: =MAX(H7:H51) -> 95 | I55: =MAX(I7:I51) -> 94 | J55: =MAX(J7:J51) -> 95 | K55: =MAX(K7:K51) -> 95 | L55: =MAX(L7:L51) -> 0 | M55: =MAX(M7:M51) -> 473 | N55: =MAX(N7:N51) -> 94.6 | ... ED55: =MAX(ED7:ED51) -> 91.6
B56: Nilai Terendah | G56: =MIN(G7:G51) -> 82 | H56: =MIN(H7:H51) -> 75 | I56: =MIN(I7:I51) -> 77 | J56: =MIN(J7:J51) -> 75 | K56: =MIN(K7:K51) -> 76 | L56: =MIN(L7:L51) -> 0 | M56: =MIN(M7:M51) -> 390 | N56: =MIN(N7:N51) -> 78 | ... ED56: =MIN(ED7:ED51) -> 76.6
B57: Rata-rata | G57: =AVERAGE(G7:G51) -> 89.822222 | H57: =AVERAGE(H7:H51) -> 89.111111 | I57: =AVERAGE(I7:I51) -> 87.577778 | J57: =AVERAGE(J7:J51) -> 87.6 | K57: =AVERAGE(K7:K51) -> 87 | L57: =AVERAGE(L7:L51) -> #DIV/0! | M57: =AVERAGE(M7:M51) -> 441.11111 | N57: =AVERAGE(N7:N51) -> 88.222222 | ... ED57: =AVERAGE(ED7:ED51) -> 81.697778

Sheet Gabungan Nilai Ujian
G2: Nilai Ujian Praktek + Tertulis
A4: NO | B4: NAMA | C4: PAI (Fiqih | F4: SKI | I4: PKN | L4: INDONESIA | O4: MTK | R4: IPA | U4: IPS | X4: INGGRIS | AA4: PJOK | AD4: PRAKARYA | AG4: JAWA | AJ4: HADITS | AM4: AQIDAH | AP4: ARAB | AS4: ASWAJA | AV4: Informatika
C6: Tertulis | D6: Praktek | E6: Rata-Rata | F6: Tertulis | G6: Praktek | H6: Rata-Rata | I6: Tertulis | J6: Praktek | K6: Rata-Rata | L6: Tertulis | M6: Praktek | N6: Rata-Rata | O6: Tertulis | P6: Praktek | Q6: Rata-Rata | R6: Tertulis | S6: Praktek | T6: Rata-Rata | U6: Tertulis | V6: Praktek | W6: Rata-Rata | X6: Tertulis | Y6: Praktek | Z6: Rata-Rata | AA6: Tertulis | AB6: Praktek | AC6: Rata-Rata | AD6: Tertulis | AE6: Praktek | AF6: Rata-Rata | AG6: Tertulis | AH6: Praktek | AI6: Rata-Rata | AJ6: Tertulis | AK6: Praktek | AL6: Rata-Rata | AM6: Tertulis | AN6: Praktek | AO6: Rata-Rata | AP6: Tertulis | AQ6: Praktek | AR6: Rata-Rata | AS6: Tertulis | AT6: Praktek | AU6: Rata-Rata | AV6: Tertulis | AW6: Praktek | AX6: Rata-Rata
A7: 1 | B7: ABDUL KHAFIDZ ANSHORI | D7: 87.5 | E7: =AVERAGE(C7:D7) -> 87.5 | H7: =AVERAGE(F7:G7) -> #DIV/0! | K7: =AVERAGE(I7:J7) -> #DIV/0! | M7: 79.5 | N7: =AVERAGE(L7:M7) -> 79.5 | Q7: =AVERAGE(O7:P7) -> #DIV/0! | S7: 80 | T7: =AVERAGE(R7:S7) -> 80 | W7: =AVERAGE(U7:V7) -> #DIV/0! | Y7: 78.5 | Z7: =AVERAGE(X7:Y7) -> 78.5 | AB7: 80 | AC7: =AVERAGE(AA7:AB7) -> 80 | AE7: 90 | AF7: =AVERAGE(AD7:AE7) -> 90 | AH7: 79 | AI7: =AVERAGE(AG7:AH7) -> 79 | AK7: 84.5 | AL7: =AVERAGE(AJ7:AK7) -> 84.5 | AO7: =AVERAGE(AM7:AN7) -> #DIV/0! | AQ7: 85.25 | AR7: =AVERAGE(AP7:AQ7) -> 85.25 | AU7: =AVERAGE(AS7:AT7) -> #DIV/0! | AW7: 82 | AX7: =AVERAGE(AV7:AW7) -> 82
A8: 2 | B8: AHMAD THORIK | D8: 86 | E8: =AVERAGE(C8:D8) -> 86 | H8: =AVERAGE(F8:G8) -> #DIV/0! | K8: =AVERAGE(I8:J8) -> #DIV/0! | M8: 79.5 | N8: =AVERAGE(L8:M8) -> 79.5 | Q8: =AVERAGE(O8:P8) -> #DIV/0! | S8: 81 | T8: =AVERAGE(R8:S8) -> 81 | W8: =AVERAGE(U8:V8) -> #DIV/0! | Y8: 77.5 | Z8: =AVERAGE(X8:Y8) -> 77.5 | AB8: 81 | AC8: =AVERAGE(AA8:AB8) -> 81 | AE8: 88.75 | AF8: =AVERAGE(AD8:AE8) -> 88.75 | AH8: 79 | AI8: =AVERAGE(AG8:AH8) -> 79 | AK8: 76 | AL8: =AVERAGE(AJ8:AK8) -> 76 | AO8: =AVERAGE(AM8:AN8) -> #DIV/0! | AQ8: 85.75 | AR8: =AVERAGE(AP8:AQ8) -> 85.75 | AU8: =AVERAGE(AS8:AT8) -> #DIV/0! | AW8: 76.5 | AX8: =AVERAGE(AV8:AW8) -> 76.5
A9: 3 | B9: ANDISA NAILAL AUFA | D9: 92.25 | E9: =AVERAGE(C9:D9) -> 92.25 | H9: =AVERAGE(F9:G9) -> #DIV/0! | K9: =AVERAGE(I9:J9) -> #DIV/0! | M9: 92.5 | N9: =AVERAGE(L9:M9) -> 92.5 | Q9: =AVERAGE(O9:P9) -> #DIV/0! | S9: 86 | T9: =AVERAGE(R9:S9) -> 86 | W9: =AVERAGE(U9:V9) -> #DIV/0! | Y9: 83.25 | Z9: =AVERAGE(X9:Y9) -> 83.25 | AB9: 86 | AC9: =AVERAGE(AA9:AB9) -> 86 | AE9: 90 | AF9: =AVERAGE(AD9:AE9) -> 90 | AH9: 87 | AI9: =AVERAGE(AG9:AH9) -> 87 | AK9: 91.25 | AL9: =AVERAGE(AJ9:AK9) -> 91.25 | AO9: =AVERAGE(AM9:AN9) -> #DIV/0! | AQ9: 93 | AR9: =AVERAGE(AP9:AQ9) -> 93 | AU9: =AVERAGE(AS9:AT9) -> #DIV/0! | AW9: 87.5 | AX9: =AVERAGE(AV9:AW9) -> 87.5
A10: 4 | B10: DINA RAHMADHADI | D10: 90.5 | E10: =AVERAGE(C10:D10) -> 90.5 | H10: =AVERAGE(F10:G10) -> #DIV/0! | K10: =AVERAGE(I10:J10) -> #DIV/0! | M10: 91.25 | N10: =AVERAGE(L10:M10) -> 91.25 | Q10: =AVERAGE(O10:P10) -> #DIV/0! | S10: 90 | T10: =AVERAGE(R10:S10) -> 90 | W10: =AVERAGE(U10:V10) -> #DIV/0! | Y10: 81.5 | Z10: =AVERAGE(X10:Y10) -> 81.5 | AB10: 90 | AC10: =AVERAGE(AA10:AB10) -> 90 | AE10: 88.75 | AF10: =AVERAGE(AD10:AE10) -> 88.75 | AH10: 83 | AI10: =AVERAGE(AG10:AH10) -> 83 | AK10: 91.25 | AL10: =AVERAGE(AJ10:AK10) -> 91.25 | AO10: =AVERAGE(AM10:AN10) -> #DIV/0! | AQ10: 92.25 | AR10: =AVERAGE(AP10:AQ10) -> 92.25 | AU10: =AVERAGE(AS10:AT10) -> #DIV/0! | AW10: 87 | AX10: =AVERAGE(AV10:AW10) -> 87
A11: 5 | B11: DIVA AYUNING TIYAS | D11: 87 | E11: =AVERAGE(C11:D11) -> 87 | H11: =AVERAGE(F11:G11) -> #DIV/0! | K11: =AVERAGE(I11:J11) -> #DIV/0! | M11: 83.75 | N11: =AVERAGE(L11:M11) -> 83.75 | Q11: =AVERAGE(O11:P11) -> #DIV/0! | S11: 84 | T11: =AVERAGE(R11:S11) -> 84 | W11: =AVERAGE(U11:V11) -> #DIV/0! | Y11: 78 | Z11: =AVERAGE(X11:Y11) -> 78 | AB11: 84 | AC11: =AVERAGE(AA11:AB11) -> 84 | AE11: 88.75 | AF11: =AVERAGE(AD11:AE11) -> 88.75 | AH11: 81 | AI11: =AVERAGE(AG11:AH11) -> 81 | AK11: 85.5 | AL11: =AVERAGE(AJ11:AK11) -> 85.5 | AO11: =AVERAGE(AM11:AN11) -> #DIV/0! | AQ11: 86.5 | AR11: =AVERAGE(AP11:AQ11) -> 86.5 | AU11: =AVERAGE(AS11:AT11) -> #DIV/0! | AW11: 86.75 | AX11: =AVERAGE(AV11:AW11) -> 86.75
A12: 6 | B12: HERI PRASETYO | D12: 95.25 | E12: =AVERAGE(C12:D12) -> 95.25 | H12: =AVERAGE(F12:G12) -> #DIV/0! | K12: =AVERAGE(I12:J12) -> #DIV/0! | M12: 88.75 | N12: =AVERAGE(L12:M12) -> 88.75 | Q12: =AVERAGE(O12:P12) -> #DIV/0! | S12: 91 | T12: =AVERAGE(R12:S12) -> 91 | W12: =AVERAGE(U12:V12) -> #DIV/0! | Y12: 93.75 | Z12: =AVERAGE(X12:Y12) -> 93.75 | AB12: 91 | AC12: =AVERAGE(AA12:AB12) -> 91 | AE12: 88.75 | AF12: =AVERAGE(AD12:AE12) -> 88.75 | AH12: 86 | AI12: =AVERAGE(AG12:AH12) -> 86 | AK12: 93.5 | AL12: =AVERAGE(AJ12:AK12) -> 93.5 | AO12: =AVERAGE(AM12:AN12) -> #DIV/0! | AQ12: 94.5 | AR12: =AVERAGE(AP12:AQ12) -> 94.5 | AU12: =AVERAGE(AS12:AT12) -> #DIV/0! | AW12: 89.25 | AX12: =AVERAGE(AV12:AW12) -> 89.25
A13: 7 | B13: KAMILA RAMADHANI | D13: 94 | E13: =AVERAGE(C13:D13) -> 94 | H13: =AVERAGE(F13:G13) -> #DIV/0! | K13: =AVERAGE(I13:J13) -> #DIV/0! | M13: 85 | N13: =AVERAGE(L13:M13) -> 85 | Q13: =AVERAGE(O13:P13) -> #DIV/0! | S13: 86 | T13: =AVERAGE(R13:S13) -> 86 | W13: =AVERAGE(U13:V13) -> #DIV/0! | Y13: 80 | Z13: =AVERAGE(X13:Y13) -> 80 | AB13: 86 | AC13: =AVERAGE(AA13:AB13) -> 86 | AE13: 88.75 | AF13: =AVERAGE(AD13:AE13) -> 88.75 | AH13: 81 | AI13: =AVERAGE(AG13:AH13) -> 81 | AK13: 88 | AL13: =AVERAGE(AJ13:AK13) -> 88 | AO13: =AVERAGE(AM13:AN13) -> #DIV/0! | AQ13: 93 | AR13: =AVERAGE(AP13:AQ13) -> 93 | AU13: =AVERAGE(AS13:AT13) -> #DIV/0! | AW13: 87.75 | AX13: =AVERAGE(AV13:AW13) -> 87.75
A14: 8 | B14: LUTFI ANDANI | D14: 85 | E14: =AVERAGE(C14:D14) -> 85 | H14: =AVERAGE(F14:G14) -> #DIV/0! | K14: =AVERAGE(I14:J14) -> #DIV/0! | M14: 81.5 | N14: =AVERAGE(L14:M14) -> 81.5 | Q14: =AVERAGE(O14:P14) -> #DIV/0! | S14: 78 | T14: =AVERAGE(R14:S14) -> 78 | W14: =AVERAGE(U14:V14) -> #DIV/0! | Y14: 79.75 | Z14: =AVERAGE(X14:Y14) -> 79.75 | AB14: 78 | AC14: =AVERAGE(AA14:AB14) -> 78 | AE14: 88.75 | AF14: =AVERAGE(AD14:AE14) -> 88.75 | AH14: 79 | AI14: =AVERAGE(AG14:AH14) -> 79 | AK14: 77.5 | AL14: =AVERAGE(AJ14:AK14) -> 77.5 | AO14: =AVERAGE(AM14:AN14) -> #DIV/0! | AQ14: 83 | AR14: =AVERAGE(AP14:AQ14) -> 83 | AU14: =AVERAGE(AS14:AT14) -> #DIV/0! | AW14: 80.75 | AX14: =AVERAGE(AV14:AW14) -> 80.75
A15: 9 | B15: M. ARI ILHAM | D15: 86 | E15: =AVERAGE(C15:D15) -> 86 | H15: =AVERAGE(F15:G15) -> #DIV/0! | K15: =AVERAGE(I15:J15) -> #DIV/0! | M15: 80 | N15: =AVERAGE(L15:M15) -> 80 | Q15: =AVERAGE(O15:P15) -> #DIV/0! | S15: 79 | T15: =AVERAGE(R15:S15) -> 79 | W15: =AVERAGE(U15:V15) -> #DIV/0! | Y15: 80.25 | Z15: =AVERAGE(X15:Y15) -> 80.25 | AB15: 79 | AC15: =AVERAGE(AA15:AB15) -> 79 | AE15: 90 | AF15: =AVERAGE(AD15:AE15) -> 90 | AH15: 81 | AI15: =AVERAGE(AG15:AH15) -> 81 | AK15: 80.5 | AL15: =AVERAGE(AJ15:AK15) -> 80.5 | AO15: =AVERAGE(AM15:AN15) -> #DIV/0! | AQ15: 90.25 | AR15: =AVERAGE(AP15:AQ15) -> 90.25 | AU15: =AVERAGE(AS15:AT15) -> #DIV/0! | AW15: 81 | AX15: =AVERAGE(AV15:AW15) -> 81
A16: 10 | B16: M. ZARIRUL FIKRI | D16: 91.25 | E16: =AVERAGE(C16:D16) -> 91.25 | H16: =AVERAGE(F16:G16) -> #DIV/0! | K16: =AVERAGE(I16:J16) -> #DIV/0! | M16: 81.5 | N16: =AVERAGE(L16:M16) -> 81.5 | Q16: =AVERAGE(O16:P16) -> #DIV/0! | S16: 82 | T16: =AVERAGE(R16:S16) -> 82 | W16: =AVERAGE(U16:V16) -> #DIV/0! | Y16: 81.75 | Z16: =AVERAGE(X16:Y16) -> 81.75 | AB16: 82 | AC16: =AVERAGE(AA16:AB16) -> 82 | AE16: 81.5 | AF16: =AVERAGE(AD16:AE16) -> 81.5 | AH16: 79 | AI16: =AVERAGE(AG16:AH16) -> 79 | AK16: 82 | AL16: =AVERAGE(AJ16:AK16) -> 82 | AO16: =AVERAGE(AM16:AN16) -> #DIV/0! | AQ16: 90.75 | AR16: =AVERAGE(AP16:AQ16) -> 90.75 | AU16: =AVERAGE(AS16:AT16) -> #DIV/0! | AW16: 79.75 | AX16: =AVERAGE(AV16:AW16) -> 79.75
A17: 11 | B17: MAGHFIROTUL KARIMAH | D17: 86.25 | E17: =AVERAGE(C17:D17) -> 86.25 | H17: =AVERAGE(F17:G17) -> #DIV/0! | K17: =AVERAGE(I17:J17) -> #DIV/0! | M17: 87 | N17: =AVERAGE(L17:M17) -> 87 | Q17: =AVERAGE(O17:P17) -> #DIV/0! | S17: 84 | T17: =AVERAGE(R17:S17) -> 84 | W17: =AVERAGE(U17:V17) -> #DIV/0! | Y17: 92 | Z17: =AVERAGE(X17:Y17) -> 92 | AB17: 84 | AC17: =AVERAGE(AA17:AB17) -> 84 | AE17: 90 | AF17: =AVERAGE(AD17:AE17) -> 90 | AH17: 81 | AI17: =AVERAGE(AG17:AH17) -> 81 | AK17: 87.5 | AL17: =AVERAGE(AJ17:AK17) -> 87.5 | AO17: =AVERAGE(AM17:AN17) -> #DIV/0! | AQ17: 88.5 | AR17: =AVERAGE(AP17:AQ17) -> 88.5 | AU17: =AVERAGE(AS17:AT17) -> #DIV/0! | AW17: 83 | AX17: =AVERAGE(AV17:AW17) -> 83
A18: 12 | B18: MUHAMMAD ABDI SASONGKO | D18: 84.25 | E18: =AVERAGE(C18:D18) -> 84.25 | H18: =AVERAGE(F18:G18) -> #DIV/0! | K18: =AVERAGE(I18:J18) -> #DIV/0! | M18: 80.5 | N18: =AVERAGE(L18:M18) -> 80.5 | Q18: =AVERAGE(O18:P18) -> #DIV/0! | S18: 80 | T18: =AVERAGE(R18:S18) -> 80 | W18: =AVERAGE(U18:V18) -> #DIV/0! | Y18: 81.25 | Z18: =AVERAGE(X18:Y18) -> 81.25 | AB18: 80 | AC18: =AVERAGE(AA18:AB18) -> 80 | AE18: 90 | AF18: =AVERAGE(AD18:AE18) -> 90 | AH18: 78.5 | AI18: =AVERAGE(AG18:AH18) -> 78.5 | AK18: 80.5 | AL18: =AVERAGE(AJ18:AK18) -> 80.5 | AO18: =AVERAGE(AM18:AN18) -> #DIV/0! | AQ18: 83.5 | AR18: =AVERAGE(AP18:AQ18) -> 83.5 | AU18: =AVERAGE(AS18:AT18) -> #DIV/0! | AW18: 80.5 | AX18: =AVERAGE(AV18:AW18) -> 80.5
... A51: 45 | B51: TRI MULIA SAPUTRA | D51: 94.5 | E51: =AVERAGE(C51:D51) -> 94.5 | H51: =AVERAGE(F51:G51) -> #DIV/0! | K51: =AVERAGE(I51:J51) -> #DIV/0! | M51: 83.75 | N51: =AVERAGE(L51:M51) -> 83.75 | Q51: =AVERAGE(O51:P51) -> #DIV/0! | S51: 85 | T51: =AVERAGE(R51:S51) -> 85 | W51: =AVERAGE(U51:V51) -> #DIV/0! | Y51: 86.25 | Z51: =AVERAGE(X51:Y51) -> 86.25 | AB51: 76.5 | AC51: =AVERAGE(AA51:AB51) -> 76.5 | AE51: 88.75 | AF51: =AVERAGE(AD51:AE51) -> 88.75 | AH51: 83.75 | AI51: =AVERAGE(AG51:AH51) -> 83.75 | AK51: 80 | AL51: =AVERAGE(AJ51:AK51) -> 80 | AO51: =AVERAGE(AM51:AN51) -> #DIV/0! | AQ51: 89.75 | AR51: =AVERAGE(AP51:AQ51) -> 89.75 | AU51: =AVERAGE(AS51:AT51) -> #DIV/0! | AW51: 90 | AX51: =AVERAGE(AV51:AW51) -> 90

Sheet Nilai Rata rata
C2: Nilai Rata-Rata Raport | V2: Nilai Rata - Rata Ujian
A4: NO | B4: NAMA | C4: PAI (Fiqih) | D4: SKI | E4: PKN | F4: INDONESIA | G4: MTK | H4: IPA | I4: IPS | J4: INGGRIS | K4: SBK | L4: PJOK | M4: PRAKARYA | N4: JAWA | O4: HADITS | P4: AQIDAH | Q4: ARAB | R4: ASWAJA | T4: Rata-Rata Agama (Fiqih, Ski, Alqur'an, Aqidah) | V4: PAI (Fiqih) | W4: SKI | X4: PKN | Y4: INDONESIA | Z4: MTK | AA4: IPA | AB4: IPS | AC4: INGGRIS | AD4: SBK | AE4: PJOK | AF4: PRAKARYA | AG4: JAWA | AH4: HADITS | AI4: AQIDAH | AJ4: ARAB | AK4: ASWAJA | AM4: Rata-Rata Agama (Fiqih, Ski, Alqur'an, Aqidah)
R5: Rata-Rata | T5: Rata-Rata | AK5: Rata-Rata | AM5: Rata-Rata
D6: Rata-Rata | E6: Rata-Rata | F6: Rata-Rata | G6: Rata-Rata | H6: Rata-Rata | I6: Rata-Rata | J6: Rata-Rata | K6: Rata-Rata | L6: Rata-Rata | M6: Rata-Rata | N6: Rata-Rata | O6: Rata-Rata | P6: Rata-Rata | Q6: Rata-Rata | W6: Rata-Rata | X6: Rata-Rata | Y6: Rata-Rata | Z6: Rata-Rata | AA6: Rata-Rata | AB6: Rata-Rata | AC6: Rata-Rata | AD6: Rata-Rata | AE6: Rata-Rata | AF6: Rata-Rata | AG6: Rata-Rata | AH6: Rata-Rata | AI6: Rata-Rata | AJ6: Rata-Rata
A7: 1 | B7: ABDUL KHAFIDZ ANSHORI | C7: ='Nilai Rapor 1-5 (Puluhan)'!N7 -> 89.8 | D7: ='Nilai Rapor 1-5 (Puluhan)'!V7 -> 89.8 | E7: ='Nilai Rapor 1-5 (Puluhan)'!AD7 -> 89.6 | F7: ='Nilai Rapor 1-5 (Puluhan)'!AL7 -> 77.8 | G7: ='Nilai Rapor 1-5 (Puluhan)'!AT7 -> 76.8 | H7: ='Nilai Rapor 1-5 (Puluhan)'!BB7 -> 76.8 | I7: ='Nilai Rapor 1-5 (Puluhan)'!BJ7 -> 80 | J7: ='Nilai Rapor 1-5 (Puluhan)'!BR7 -> 78.4 | K7: ='Nilai Rapor 1-5 (Puluhan)'!BZ7 -> #DIV/0! | L7: ='Nilai Rapor 1-5 (Puluhan)'!CH7 -> 83.8 | M7: ='Nilai Rapor 1-5 (Puluhan)'!CP7 -> 80.2 | N7: ='Nilai Rapor 1-5 (Puluhan)'!CX7 -> 77.4 | O7: ='Nilai Rapor 1-5 (Puluhan)'!DF7 -> 89.4 | P7: ='Nilai Rapor 1-5 (Puluhan)'!DN7 -> 89.6 | Q7: ='Nilai Rapor 1-5 (Puluhan)'!DV7 -> 74.8 | R7: ='Nilai Rapor 1-5 (Puluhan)'!ED7 -> 78.4 | T7: =AVERAGE(C7,D7,O7,P7) -> 89.65 | V7: ='Gabungan Nilai Ujian'!E7 -> 87.5 | W7: ='Gabungan Nilai Ujian'!H7 -> #DIV/0! | X7: ='Gabungan Nilai Ujian'!K7 -> #DIV/0! | Y7: ='Gabungan Nilai Ujian'!N7 -> 79.5 | Z7: ='Gabungan Nilai Ujian'!Q7 -> #DIV/0! | AA7: ='Gabungan Nilai Ujian'!T7 -> 80 | AB7: ='Gabungan Nilai Ujian'!W7 -> #DIV/0! | AC7: ='Gabungan Nilai Ujian'!Z7 -> 78.5 | AD7: ='Gabungan Nilai Ujian'!#REF! -> #REF! | AE7: ='Gabungan Nilai Ujian'!AC7 -> 80 | AF7: ='Gabungan Nilai Ujian'!AF7 -> 90 | AG7: ='Gabungan Nilai Ujian'!AI7 -> 79 | AH7: ='Gabungan Nilai Ujian'!AL7 -> 84.5 | AI7: ='Gabungan Nilai Ujian'!AO7 -> #DIV/0! | AJ7: ='Gabungan Nilai Ujian'!AR7 -> 85.25 | AK7: ='Gabungan Nilai Ujian'!AU7 -> #DIV/0! | AM7: =AVERAGE(V7,W7,AH7,AI7) -> #DIV/0!
A8: 2 | B8: AHMAD THORIK | C8: ='Nilai Rapor 1-5 (Puluhan)'!N8 -> 89 | D8: ='Nilai Rapor 1-5 (Puluhan)'!V8 -> 89.2 | E8: ='Nilai Rapor 1-5 (Puluhan)'!AD8 -> 88 | F8: ='Nilai Rapor 1-5 (Puluhan)'!AL8 -> 78.6 | G8: ='Nilai Rapor 1-5 (Puluhan)'!AT8 -> 76.8 | H8: ='Nilai Rapor 1-5 (Puluhan)'!BB8 -> 77.4 | I8: ='Nilai Rapor 1-5 (Puluhan)'!BJ8 -> 79.4 | J8: ='Nilai Rapor 1-5 (Puluhan)'!BR8 -> 78 | K8: ='Nilai Rapor 1-5 (Puluhan)'!BZ8 -> #DIV/0! | L8: ='Nilai Rapor 1-5 (Puluhan)'!CH8 -> 86 | M8: ='Nilai Rapor 1-5 (Puluhan)'!CP8 -> 80.2 | N8: ='Nilai Rapor 1-5 (Puluhan)'!CX8 -> 76 | O8: ='Nilai Rapor 1-5 (Puluhan)'!DF8 -> 87.8 | P8: ='Nilai Rapor 1-5 (Puluhan)'!DN8 -> 87.8 | Q8: ='Nilai Rapor 1-5 (Puluhan)'!DV8 -> 75.4 | R8: ='Nilai Rapor 1-5 (Puluhan)'!ED8 -> 78 | T8: =AVERAGE(C8,D8,O8,P8) -> 88.45 | V8: ='Gabungan Nilai Ujian'!E8 -> 86 | W8: ='Gabungan Nilai Ujian'!H8 -> #DIV/0! | X8: ='Gabungan Nilai Ujian'!K8 -> #DIV/0! | Y8: ='Gabungan Nilai Ujian'!N8 -> 79.5 | Z8: ='Gabungan Nilai Ujian'!Q8 -> #DIV/0! | AA8: ='Gabungan Nilai Ujian'!T8 -> 81 | AB8: ='Gabungan Nilai Ujian'!W8 -> #DIV/0! | AC8: ='Gabungan Nilai Ujian'!Z8 -> 77.5 | AD8: ='Gabungan Nilai Ujian'!#REF! -> #REF! | AE8: ='Gabungan Nilai Ujian'!AC8 -> 81 | AF8: ='Gabungan Nilai Ujian'!AF8 -> 88.75 | AG8: ='Gabungan Nilai Ujian'!AI8 -> 79 | AH8: ='Gabungan Nilai Ujian'!AL8 -> 76 | AI8: ='Gabungan Nilai Ujian'!AO8 -> #DIV/0! | AJ8: ='Gabungan Nilai Ujian'!AR8 -> 85.75 | AK8: ='Gabungan Nilai Ujian'!AU8 -> #DIV/0! | AM8: =AVERAGE(V8,W8,AH8,AI8) -> #DIV/0!
A9: 3 | B9: ANDISA NAILAL AUFA | C9: ='Nilai Rapor 1-5 (Puluhan)'!N9 -> 92.6 | D9: ='Nilai Rapor 1-5 (Puluhan)'!V9 -> 92.4 | E9: ='Nilai Rapor 1-5 (Puluhan)'!AD9 -> 93.2 | F9: ='Nilai Rapor 1-5 (Puluhan)'!AL9 -> 85.2 | G9: ='Nilai Rapor 1-5 (Puluhan)'!AT9 -> 82.4 | H9: ='Nilai Rapor 1-5 (Puluhan)'!BB9 -> 85 | I9: ='Nilai Rapor 1-5 (Puluhan)'!BJ9 -> 87.4 | J9: ='Nilai Rapor 1-5 (Puluhan)'!BR9 -> 85.2 | K9: ='Nilai Rapor 1-5 (Puluhan)'!BZ9 -> #DIV/0! | L9: ='Nilai Rapor 1-5 (Puluhan)'!CH9 -> 90.2 | M9: ='Nilai Rapor 1-5 (Puluhan)'!CP9 -> 86.4 | N9: ='Nilai Rapor 1-5 (Puluhan)'!CX9 -> 87.2 | O9: ='Nilai Rapor 1-5 (Puluhan)'!DF9 -> 91.8 | P9: ='Nilai Rapor 1-5 (Puluhan)'!DN9 -> 91.2 | Q9: ='Nilai Rapor 1-5 (Puluhan)'!DV9 -> 76.6 | R9: ='Nilai Rapor 1-5 (Puluhan)'!ED9 -> 87 | T9: =AVERAGE(C9,D9,O9,P9) -> 92 | V9: ='Gabungan Nilai Ujian'!E9 -> 92.25 | W9: ='Gabungan Nilai Ujian'!H9 -> #DIV/0! | X9: ='Gabungan Nilai Ujian'!K9 -> #DIV/0! | Y9: ='Gabungan Nilai Ujian'!N9 -> 92.5 | Z9: ='Gabungan Nilai Ujian'!Q9 -> #DIV/0! | AA9: ='Gabungan Nilai Ujian'!T9 -> 86 | AB9: ='Gabungan Nilai Ujian'!W9 -> #DIV/0! | AC9: ='Gabungan Nilai Ujian'!Z9 -> 83.25 | AD9: ='Gabungan Nilai Ujian'!#REF! -> #REF! | AE9: ='Gabungan Nilai Ujian'!AC9 -> 86 | AF9: ='Gabungan Nilai Ujian'!AF9 -> 90 | AG9: ='Gabungan Nilai Ujian'!AI9 -> 87 | AH9: ='Gabungan Nilai Ujian'!AL9 -> 91.25 | AI9: ='Gabungan Nilai Ujian'!AO9 -> #DIV/0! | AJ9: ='Gabungan Nilai Ujian'!AR9 -> 93 | AK9: ='Gabungan Nilai Ujian'!AU9 -> #DIV/0! | AM9: =AVERAGE(V9,W9,AH9,AI9) -> #DIV/0!
A10: 4 | B10: DINA RAHMADHADI | C10: ='Nilai Rapor 1-5 (Puluhan)'!N10 -> 93.2 | D10: ='Nilai Rapor 1-5 (Puluhan)'!V10 -> 92.2 | E10: ='Nilai Rapor 1-5 (Puluhan)'!AD10 -> 92.4 | F10: ='Nilai Rapor 1-5 (Puluhan)'!AL10 -> 83.6 | G10: ='Nilai Rapor 1-5 (Puluhan)'!AT10 -> 81.8 | H10: ='Nilai Rapor 1-5 (Puluhan)'!BB10 -> 85.4 | I10: ='Nilai Rapor 1-5 (Puluhan)'!BJ10 -> 87 | J10: ='Nilai Rapor 1-5 (Puluhan)'!BR10 -> 86.6 | K10: ='Nilai Rapor 1-5 (Puluhan)'!BZ10 -> #DIV/0! | L10: ='Nilai Rapor 1-5 (Puluhan)'!CH10 -> 88.2 | M10: ='Nilai Rapor 1-5 (Puluhan)'!CP10 -> 84.4 | N10: ='Nilai Rapor 1-5 (Puluhan)'!CX10 -> 83.4 | O10: ='Nilai Rapor 1-5 (Puluhan)'!DF10 -> 91.8 | P10: ='Nilai Rapor 1-5 (Puluhan)'!DN10 -> 91.6 | Q10: ='Nilai Rapor 1-5 (Puluhan)'!DV10 -> 75.6 | R10: ='Nilai Rapor 1-5 (Puluhan)'!ED10 -> 84.4 | T10: =AVERAGE(C10,D10,O10,P10) -> 92.2 | V10: ='Gabungan Nilai Ujian'!E10 -> 90.5 | W10: ='Gabungan Nilai Ujian'!H10 -> #DIV/0! | X10: ='Gabungan Nilai Ujian'!K10 -> #DIV/0! | Y10: ='Gabungan Nilai Ujian'!N10 -> 91.25 | Z10: ='Gabungan Nilai Ujian'!Q10 -> #DIV/0! | AA10: ='Gabungan Nilai Ujian'!T10 -> 90 | AB10: ='Gabungan Nilai Ujian'!W10 -> #DIV/0! | AC10: ='Gabungan Nilai Ujian'!Z10 -> 81.5 | AD10: ='Gabungan Nilai Ujian'!#REF! -> #REF! | AE10: ='Gabungan Nilai Ujian'!AC10 -> 90 | AF10: ='Gabungan Nilai Ujian'!AF10 -> 88.75 | AG10: ='Gabungan Nilai Ujian'!AI10 -> 83 | AH10: ='Gabungan Nilai Ujian'!AL10 -> 91.25 | AI10: ='Gabungan Nilai Ujian'!AO10 -> #DIV/0! | AJ10: ='Gabungan Nilai Ujian'!AR10 -> 92.25 | AK10: ='Gabungan Nilai Ujian'!AU10 -> #DIV/0! | AM10: =AVERAGE(V10,W10,AH10,AI10) -> #DIV/0!
A11: 5 | B11: DIVA AYUNING TIYAS | C11: ='Nilai Rapor 1-5 (Puluhan)'!N11 -> 82.2 | D11: ='Nilai Rapor 1-5 (Puluhan)'!V11 -> 82.8 | E11: ='Nilai Rapor 1-5 (Puluhan)'!AD11 -> 79.8 | F11: ='Nilai Rapor 1-5 (Puluhan)'!AL11 -> 78.6 | G11: ='Nilai Rapor 1-5 (Puluhan)'!AT11 -> 77.6 | H11: ='Nilai Rapor 1-5 (Puluhan)'!BB11 -> 79 | I11: ='Nilai Rapor 1-5 (Puluhan)'!BJ11 -> 80.6 | J11: ='Nilai Rapor 1-5 (Puluhan)'!BR11 -> 79.2 | K11: ='Nilai Rapor 1-5 (Puluhan)'!BZ11 -> #DIV/0! | L11: ='Nilai Rapor 1-5 (Puluhan)'!CH11 -> 88.4 | M11: ='Nilai Rapor 1-5 (Puluhan)'!CP11 -> 81.4 | N11: ='Nilai Rapor 1-5 (Puluhan)'!CX11 -> 76.2 | O11: ='Nilai Rapor 1-5 (Puluhan)'!DF11 -> 82.6 | P11: ='Nilai Rapor 1-5 (Puluhan)'!DN11 -> 79.4 | Q11: ='Nilai Rapor 1-5 (Puluhan)'!DV11 -> 75.8 | R11: ='Nilai Rapor 1-5 (Puluhan)'!ED11 -> 82.8 | T11: =AVERAGE(C11,D11,O11,P11) -> 81.75 | V11: ='Gabungan Nilai Ujian'!E11 -> 87 | W11: ='Gabungan Nilai Ujian'!H11 -> #DIV/0! | X11: ='Gabungan Nilai Ujian'!K11 -> #DIV/0! | Y11: ='Gabungan Nilai Ujian'!N11 -> 83.75 | Z11: ='Gabungan Nilai Ujian'!Q11 -> #DIV/0! | AA11: ='Gabungan Nilai Ujian'!T11 -> 84 | AB11: ='Gabungan Nilai Ujian'!W11 -> #DIV/0! | AC11: ='Gabungan Nilai Ujian'!Z11 -> 78 | AD11: ='Gabungan Nilai Ujian'!#REF! -> #REF! | AE11: ='Gabungan Nilai Ujian'!AC11 -> 84 | AF11: ='Gabungan Nilai Ujian'!AF11 -> 88.75 | AG11: ='Gabungan Nilai Ujian'!AI11 -> 81 | AH11: ='Gabungan Nilai Ujian'!AL11 -> 85.5 | AI11: ='Gabungan Nilai Ujian'!AO11 -> #DIV/0! | AJ11: ='Gabungan Nilai Ujian'!AR11 -> 86.5 | AK11: ='Gabungan Nilai Ujian'!AU11 -> #DIV/0! | AM11: =AVERAGE(V11,W11,AH11,AI11) -> #DIV/0!
A12: 6 | B12: HERI PRASETYO | C12: ='Nilai Rapor 1-5 (Puluhan)'!N12 -> 94.6 | D12: ='Nilai Rapor 1-5 (Puluhan)'!V12 -> 94.2 | E12: ='Nilai Rapor 1-5 (Puluhan)'!AD12 -> 94.4 | F12: ='Nilai Rapor 1-5 (Puluhan)'!AL12 -> 88.2 | G12: ='Nilai Rapor 1-5 (Puluhan)'!AT12 -> 83.6 | H12: ='Nilai Rapor 1-5 (Puluhan)'!BB12 -> 89 | I12: ='Nilai Rapor 1-5 (Puluhan)'!BJ12 -> 92.6 | J12: ='Nilai Rapor 1-5 (Puluhan)'!BR12 -> 87.6 | K12: ='Nilai Rapor 1-5 (Puluhan)'!BZ12 -> #DIV/0! | L12: ='Nilai Rapor 1-5 (Puluhan)'!CH12 -> 93.2 | M12: ='Nilai Rapor 1-5 (Puluhan)'!CP12 -> 84.4 | N12: ='Nilai Rapor 1-5 (Puluhan)'!CX12 -> 87.8 | O12: ='Nilai Rapor 1-5 (Puluhan)'!DF12 -> 94.8 | P12: ='Nilai Rapor 1-5 (Puluhan)'!DN12 -> 94 | Q12: ='Nilai Rapor 1-5 (Puluhan)'!DV12 -> 78.8 | R12: ='Nilai Rapor 1-5 (Puluhan)'!ED12 -> 91.6 | T12: =AVERAGE(C12,D12,O12,P12) -> 94.4 | V12: ='Gabungan Nilai Ujian'!E12 -> 95.25 | W12: ='Gabungan Nilai Ujian'!H12 -> #DIV/0! | X12: ='Gabungan Nilai Ujian'!K12 -> #DIV/0! | Y12: ='Gabungan Nilai Ujian'!N12 -> 88.75 | Z12: ='Gabungan Nilai Ujian'!Q12 -> #DIV/0! | AA12: ='Gabungan Nilai Ujian'!T12 -> 91 | AB12: ='Gabungan Nilai Ujian'!W12 -> #DIV/0! | AC12: ='Gabungan Nilai Ujian'!Z12 -> 93.75 | AD12: ='Gabungan Nilai Ujian'!#REF! -> #REF! | AE12: ='Gabungan Nilai Ujian'!AC12 -> 91 | AF12: ='Gabungan Nilai Ujian'!AF12 -> 88.75 | AG12: ='Gabungan Nilai Ujian'!AI12 -> 86 | AH12: ='Gabungan Nilai Ujian'!AL12 -> 93.5 | AI12: ='Gabungan Nilai Ujian'!AO12 -> #DIV/0! | AJ12: ='Gabungan Nilai Ujian'!AR12 -> 94.5 | AK12: ='Gabungan Nilai Ujian'!AU12 -> #DIV/0! | AM12: =AVERAGE(V12,W12,AH12,AI12) -> #DIV/0!
A13: 7 | B13: KAMILA RAMADHANI | C13: ='Nilai Rapor 1-5 (Puluhan)'!N13 -> 86.4 | D13: ='Nilai Rapor 1-5 (Puluhan)'!V13 -> 84.2 | E13: ='Nilai Rapor 1-5 (Puluhan)'!AD13 -> 81.8 | F13: ='Nilai Rapor 1-5 (Puluhan)'!AL13 -> 79.2 | G13: ='Nilai Rapor 1-5 (Puluhan)'!AT13 -> 79 | H13: ='Nilai Rapor 1-5 (Puluhan)'!BB13 -> 79.8 | I13: ='Nilai Rapor 1-5 (Puluhan)'!BJ13 -> 81.6 | J13: ='Nilai Rapor 1-5 (Puluhan)'!BR13 -> 80.2 | K13: ='Nilai Rapor 1-5 (Puluhan)'!BZ13 -> #DIV/0! | L13: ='Nilai Rapor 1-5 (Puluhan)'!CH13 -> 88.4 | M13: ='Nilai Rapor 1-5 (Puluhan)'!CP13 -> 83 | N13: ='Nilai Rapor 1-5 (Puluhan)'!CX13 -> 76.6 | O13: ='Nilai Rapor 1-5 (Puluhan)'!DF13 -> 85 | P13: ='Nilai Rapor 1-5 (Puluhan)'!DN13 -> 82.8 | Q13: ='Nilai Rapor 1-5 (Puluhan)'!DV13 -> 75.6 | R13: ='Nilai Rapor 1-5 (Puluhan)'!ED13 -> 85 | T13: =AVERAGE(C13,D13,O13,P13) -> 84.6 | V13: ='Gabungan Nilai Ujian'!E13 -> 94 | W13: ='Gabungan Nilai Ujian'!H13 -> #DIV/0! | X13: ='Gabungan Nilai Ujian'!K13 -> #DIV/0! | Y13: ='Gabungan Nilai Ujian'!N13 -> 85 | Z13: ='Gabungan Nilai Ujian'!Q13 -> #DIV/0! | AA13: ='Gabungan Nilai Ujian'!T13 -> 86 | AB13: ='Gabungan Nilai Ujian'!W13 -> #DIV/0! | AC13: ='Gabungan Nilai Ujian'!Z13 -> 80 | AD13: ='Gabungan Nilai Ujian'!#REF! -> #REF! | AE13: ='Gabungan Nilai Ujian'!AC13 -> 86 | AF13: ='Gabungan Nilai Ujian'!AF13 -> 88.75 | AG13: ='Gabungan Nilai Ujian'!AI13 -> 81 | AH13: ='Gabungan Nilai Ujian'!AL13 -> 88 | AI13: ='Gabungan Nilai Ujian'!AO13 -> #DIV/0! | AJ13: ='Gabungan Nilai Ujian'!AR13 -> 93 | AK13: ='Gabungan Nilai Ujian'!AU13 -> #DIV/0! | AM13: =AVERAGE(V13,W13,AH13,AI13) -> #DIV/0!
A14: 8 | B14: LUTFI ANDANI | C14: ='Nilai Rapor 1-5 (Puluhan)'!N14 -> 80.8 | D14: ='Nilai Rapor 1-5 (Puluhan)'!V14 -> 79.6 | E14: ='Nilai Rapor 1-5 (Puluhan)'!AD14 -> 79.8 | F14: ='Nilai Rapor 1-5 (Puluhan)'!AL14 -> 77.8 | G14: ='Nilai Rapor 1-5 (Puluhan)'!AT14 -> 77.4 | H14: ='Nilai Rapor 1-5 (Puluhan)'!BB14 -> 77.4 | I14: ='Nilai Rapor 1-5 (Puluhan)'!BJ14 -> 79.4 | J14: ='Nilai Rapor 1-5 (Puluhan)'!BR14 -> 77.2 | K14: ='Nilai Rapor 1-5 (Puluhan)'!BZ14 -> #DIV/0! | L14: ='Nilai Rapor 1-5 (Puluhan)'!CH14 -> 85.6 | M14: ='Nilai Rapor 1-5 (Puluhan)'!CP14 -> 80 | N14: ='Nilai Rapor 1-5 (Puluhan)'!CX14 -> 75.6 | O14: ='Nilai Rapor 1-5 (Puluhan)'!DF14 -> 80.2 | P14: ='Nilai Rapor 1-5 (Puluhan)'!DN14 -> 77.6 | Q14: ='Nilai Rapor 1-5 (Puluhan)'!DV14 -> 75 | R14: ='Nilai Rapor 1-5 (Puluhan)'!ED14 -> 79.6 | T14: =AVERAGE(C14,D14,O14,P14) -> 79.55 | V14: ='Gabungan Nilai Ujian'!E14 -> 85 | W14: ='Gabungan Nilai Ujian'!H14 -> #DIV/0! | X14: ='Gabungan Nilai Ujian'!K14 -> #DIV/0! | Y14: ='Gabungan Nilai Ujian'!N14 -> 81.5 | Z14: ='Gabungan Nilai Ujian'!Q14 -> #DIV/0! | AA14: ='Gabungan Nilai Ujian'!T14 -> 78 | AB14: ='Gabungan Nilai Ujian'!W14 -> #DIV/0! | AC14: ='Gabungan Nilai Ujian'!Z14 -> 79.75 | AD14: ='Gabungan Nilai Ujian'!#REF! -> #REF! | AE14: ='Gabungan Nilai Ujian'!AC14 -> 78 | AF14: ='Gabungan Nilai Ujian'!AF14 -> 88.75 | AG14: ='Gabungan Nilai Ujian'!AI14 -> 79 | AH14: ='Gabungan Nilai Ujian'!AL14 -> 77.5 | AI14: ='Gabungan Nilai Ujian'!AO14 -> #DIV/0! | AJ14: ='Gabungan Nilai Ujian'!AR14 -> 83 | AK14: ='Gabungan Nilai Ujian'!AU14 -> #DIV/0! | AM14: =AVERAGE(V14,W14,AH14,AI14) -> #DIV/0!
A15: 9 | B15: M. ARI ILHAM | C15: ='Nilai Rapor 1-5 (Puluhan)'!N15 -> 91.6 | D15: ='Nilai Rapor 1-5 (Puluhan)'!V15 -> 90.6 | E15: ='Nilai Rapor 1-5 (Puluhan)'!AD15 -> 90.4 | F15: ='Nilai Rapor 1-5 (Puluhan)'!AL15 -> 78.8 | G15: ='Nilai Rapor 1-5 (Puluhan)'!AT15 -> 78 | H15: ='Nilai Rapor 1-5 (Puluhan)'!BB15 -> 77 | I15: ='Nilai Rapor 1-5 (Puluhan)'!BJ15 -> 80.2 | J15: ='Nilai Rapor 1-5 (Puluhan)'!BR15 -> 77.8 | K15: ='Nilai Rapor 1-5 (Puluhan)'!BZ15 -> #DIV/0! | L15: ='Nilai Rapor 1-5 (Puluhan)'!CH15 -> 86.8 | M15: ='Nilai Rapor 1-5 (Puluhan)'!CP15 -> 80.8 | N15: ='Nilai Rapor 1-5 (Puluhan)'!CX15 -> 75.2 | O15: ='Nilai Rapor 1-5 (Puluhan)'!DF15 -> 89.8 | P15: ='Nilai Rapor 1-5 (Puluhan)'!DN15 -> 89.6 | Q15: ='Nilai Rapor 1-5 (Puluhan)'!DV15 -> 60.4 | R15: ='Nilai Rapor 1-5 (Puluhan)'!ED15 -> 79 | T15: =AVERAGE(C15,D15,O15,P15) -> 90.4 | V15: ='Gabungan Nilai Ujian'!E15 -> 86 | W15: ='Gabungan Nilai Ujian'!H15 -> #DIV/0! | X15: ='Gabungan Nilai Ujian'!K15 -> #DIV/0! | Y15: ='Gabungan Nilai Ujian'!N15 -> 80 | Z15: ='Gabungan Nilai Ujian'!Q15 -> #DIV/0! | AA15: ='Gabungan Nilai Ujian'!T15 -> 79 | AB15: ='Gabungan Nilai Ujian'!W15 -> #DIV/0! | AC15: ='Gabungan Nilai Ujian'!Z15 -> 80.25 | AD15: ='Gabungan Nilai Ujian'!#REF! -> #REF! | AE15: ='Gabungan Nilai Ujian'!AC15 -> 79 | AF15: ='Gabungan Nilai Ujian'!AF15 -> 90 | AG15: ='Gabungan Nilai Ujian'!AI15 -> 81 | AH15: ='Gabungan Nilai Ujian'!AL15 -> 80.5 | AI15: ='Gabungan Nilai Ujian'!AO15 -> #DIV/0! | AJ15: ='Gabungan Nilai Ujian'!AR15 -> 90.25 | AK15: ='Gabungan Nilai Ujian'!AU15 -> #DIV/0! | AM15: =AVERAGE(V15,W15,AH15,AI15) -> #DIV/0!
