Workbook
Name ___kkm1: [1]PENGETAHUAN!$F$69
Name ___kkm2: [1]PENGETAHUAN!$L$69
Name ___kkm3: [1]PENGETAHUAN!$R$69
Name ___kkm4: [1]PENGETAHUAN!$X$69
Name ___kkm5: [2]PENGETAHUAN!#REF!
Name ___kkm5: [2]PENGETAHUAN!#REF!
Name ___kkm5: [2]PENGETAHUAN!#REF!
Name ___kkm5: [2]PENGETAHUAN!#REF!
Name ___kkm5: [2]PENGETAHUAN!#REF!
Name ___kkm5: [2]PENGETAHUAN!#REF!
Name ___kkm5: [2]PENGETAHUAN!#REF!
Name ___kkm5: [2]PENGETAHUAN!#REF!
Name ___kkm5: [2]PENGETAHUAN!#REF!
Name ___kkm5: [2]PENGETAHUAN!#REF!
Name ___kkm5: [2]PENGETAHUAN!#REF!
Name ___kkm5: [2]PENGETAHUAN!#REF!
Name ___kkm5: [2]PENGETAHUAN!#REF!
Name ___kkm5: [2]PENGETAHUAN!#REF!
Name ___kkm5: [2]PENGETAHUAN!#REF!
Name ___kkm5: [2]PENGETAHUAN!#REF!
Name ___kkm5: [2]PENGETAHUAN!#REF!
Name __kkm1: [1]PENGETAHUAN!$F$69
Name __kkm2: [1]PENGETAHUAN!$L$69
Name __kkm3: [1]PENGETAHUAN!$R$69
Name __kkm4: [1]PENGETAHUAN!$X$69
Name __kkm5: [3]PENGETAHUAN!#REF!
Name __kkm5: [3]PENGETAHUAN!#REF!
Name __kkm5: [3]PENGETAHUAN!#REF!
Name __kkm5: [3]PENGETAHUAN!#REF!
Name __kkm5: [3]PENGETAHUAN!#REF!
Name __kkm5: [3]PENGETAHUAN!#REF!
Name __kkm5: [3]PENGETAHUAN!#REF!
Name __kkm5: [3]PENGETAHUAN!#REF!
Name __kkm5: [3]PENGETAHUAN!#REF!
Name __kkm5: [3]PENGETAHUAN!#REF!
Name __kkm5: [3]PENGETAHUAN!#REF!
Name __kkm5: [3]PENGETAHUAN!#REF!
Name __kkm5: [3]PENGETAHUAN!#REF!
Name __kkm5: [3]PENGETAHUAN!#REF!
Name __kkm5: [3]PENGETAHUAN!#REF!
Name __kkm5: [3]PENGETAHUAN!#REF!
Name __kkm5: [3]PENGETAHUAN!#REF!
Name _7A: #REF!
Name _7A: #REF!
Name _7A: #REF!
Name _7A: #REF!
Name _7A: #REF!
Name _7A: #REF!
Name _7A: #REF!
Name _7A: #REF!
Name _7A: #REF!
Name _7A: #REF!
Name _7A: #REF!
Name _7A: #REF!
Name _7A: #REF!
Name _7A: #REF!
Name _7A: #REF!
Name _7A: #REF!
Name _7A: #REF!
Name _kkm1: [4]PENGETAHUAN!$F$69

Sheet Menu
B1: =Data!B2 -> APLIKASI RAPOR KURIKULUM MERDEKA FASE " D " | K1: =Data!C4 -> SMP ISLAM PEGANDON
B2: Sesuai Panduan Pembelajaran dan Asesmen Pusmenjar 2021
B3: MATA PELAJARAN | C3: KODE MAPEL
B4: Pendidikan Agama dan Budi Pekerti | C4: PA | U4: 1 | V4: 72 | W4: =V4 -> 72 | X4: =IFERROR(SMALL($W$4:$W$34,U4),"") -> 72
B5: Pendidikan Pancasila dan Kewarganegaraan | C5: PPKn | U5: 2 | V5: 72 | W5: =IF(V5=V4,"",V5) | X5: =IFERROR(SMALL($W$4:$W$34,U5),"")
B6: Bahasa Indonesia | C6: BIND | U6: 3 | V6: =IFERROR(SMALL(#REF!,U6),"") | W6: =IF(V6=V5,"",V6) | X6: =IFERROR(SMALL($W$4:$W$34,U6),"")
B7: Matematika | C7: MAT | U7: 4 | V7: =IFERROR(SMALL(#REF!,U7),"") | W7: =IF(V7=V6,"",V7) | X7: =IFERROR(SMALL($W$4:$W$34,U7),"")
B8: Ilmu Pengetahuan Alam | C8: IPA | U8: 5 | V8: =IFERROR(SMALL(#REF!,U8),"") | W8: =IF(V8=V7,"",V8) | X8: =IFERROR(SMALL($W$4:$W$34,U8),"")
B9: Ilmu Pengetahuan Sosial | C9: IPS | U9: 6 | V9: =IFERROR(SMALL(#REF!,U9),"") | W9: =IF(V9=V8,"",V9) | X9: =IFERROR(SMALL($W$4:$W$34,U9),"")
B10: Bahasa Inggris | C10: BING | U10: 7 | V10: =IFERROR(SMALL(#REF!,U10),"") | W10: =IF(V10=V9,"",V10) | X10: =IFERROR(SMALL($W$4:$W$34,U10),"")
B11: Pendidikan Jasmani Olahraga dan Kesehatan | C11: PJOK | U11: 8 | V11: =IFERROR(SMALL(#REF!,U11),"") | W11: =IF(V11=V10,"",V11) | X11: =IFERROR(SMALL($W$4:$W$34,U11),"")
B12: Informatika | C12: INFTK | U12: 9 | V12: =IFERROR(SMALL(#REF!,U12),"") | W12: =IF(V12=V11,"",V12) | X12: =IFERROR(SMALL($W$4:$W$34,U12),"")
B13: MAPEL PILIHAN (SENI atau Prakarya) | U13: 10 | V13: =IFERROR(SMALL(#REF!,U13),"") | W13: =IF(V13=V12,"",V13) | X13: =IFERROR(SMALL($W$4:$W$34,U13),"")
B14: Seni dan Prakarya | C14: =IFERROR(VLOOKUP(B14,Menu!$B$28:$C$35,Menu!C35),"") -> S Prakarya | U14: 11 | V14: =IFERROR(SMALL(#REF!,U14),"") | W14: =IF(V14=V13,"",V14)
B15: Muatan Lokal ( Bahasa Jawa ) | C15: BJW | U15: 12 | V15: =IFERROR(SMALL(#REF!,U15),"") | W15: =IF(V15=V14,"",V15)
B16: Aqidah - Akhlak | C16: AKA | U16: 13 | V16: =IFERROR(SMALL(#REF!,U16),"") | W16: =IF(V16=V15,"",V16)
B17: Qur'an - Hadits | C17: QH | U17: 14 | V17: =IFERROR(SMALL(#REF!,U17),"") | W17: =IF(V17=V16,"",V17)
B18: Fiqih | C18: FQH | U18: 15 | V18: =IFERROR(SMALL(#REF!,U18),"") | W18: =IF(V18=V17,"",V18)
B19: Sejarah Kebudayaan Islam | C19: SKI | U19: 16 | V19: =IFERROR(SMALL(#REF!,U19),"") | W19: =IF(V19=V18,"",V19)
B20: Bahasa Arab | C20: BA
B21: Ke NU an | C21: NU
B22: Aplikasi Rapor ini hanya dapat digunakan untuk SMP Islam Pegandon !
B23: Karena mapel yang diajarkan berbeda.
B24: By : ( Guru SMP Islam Pegandon )
B28: MAPEL PILIHAN SENI ATAU PRAKARYA | C28: KODE MAPEL
B29: Prakarya | C29: Prakarya
B30: Seni dan Prakarya | C30: S Prakarya
B31: Seni Musik | C31: S Musik
B32: Seni Rupa | C32: S Rupa
B33: Seni Tari | C33: S Tari
B34: Seni Teater | C34: S Teater | U34: 17 | V34: =IFERROR(SMALL(#REF!,U34),"") | W34: =IF(V34=V19,"",V34)
B35: 1 | C35: 2

Sheet AQIDAH - AKHLAK
E2: JANGAN LAKUKAN CUT/MOVE/COPY-PASTE | G2: =Data!C4 -> SMP ISLAM PEGANDON
G3: ="TAHUN PELAJARAN "&Data!$C$20 -> TAHUN PELAJARAN 2024 / 2025
E4: Boleh dengan langkah: copy >> paste special values | G4: =Menu!B16 -> Aqidah - Akhlak
G5: ="Perolehan Hasil Assesmen Peserta Didik "&Data!B17&" "&Data!C17&" Semester II ( Genap )" -> Perolehan Hasil Assesmen Peserta Didik Kelas IX B Semester II ( Genap )
G6: =IF(COUNT(G9:G56)>0,1,"") -> 1 | H6: =IF(COUNT(H9:H56)>0,1,"") -> 1 | I6: =IF(COUNT(I9:I56)>0,1,"") -> 1 | J6: =IF(COUNT(J9:J56)>0,1,"") -> 1 | K6: =IF(COUNT(K9:K56)>0,1,"") -> 1 | L6: =IF(COUNT(L9:L56)>0,1,"") -> 1 | M6: =IF(COUNT(M9:M56)>0,1,"") -> 1 | N6: =IF(COUNT(N9:N56)>0,1,"") -> 1 | ... V6: =IF(COUNT(V9:V56)>0,1,"") -> 1 | W6: =SUM(G6:N6) -> 8 | X6: =SUM(O6:V6) -> 8 | Y6: =SUM(W8:Y8) -> 3
B7: NO | C7: NIS | D7: NISN | E7: NAMA | F7: LP | G7: FORMATIF | O7: SUMATIF | W7: NA FORMATIF | X7: NA SUMATIF | Y7: SUMATIF AKHIR SEM | Z7: NILAI AKHIR | AE7: CAPAIAN KOMPETENSI TERTINGGI (OTOMATIS) | AF7: CAPAIAN KOMPETENSI TERENDAH (OTOMATIS)
G8: =H69 -> TP-1 | H8: =H70 -> TP-2 | I8: =H71 -> TP-3 | J8: =H72 -> TP-4 | K8: =H73 -> TP-5 | L8: =H74 -> TP-6 | M8: =H75 -> TP-7 | N8: =H76 -> TP-8 | O8: SUM-1 | P8: SUM-2 | Q8: SUM-3 | R8: SUM-4 | S8: SUM-5 | T8: SUM-6 | U8: SUM-7 | V8: SUM-8 | W8: 1 | X8: 1 | Y8: 1 | AA8: MAX | AB8: MIN | AC8: Alamat
B9: 1 | C9: =IF(Data!F5="","",Data!F5) -> 2111 | D9: =IF(Data!G5="","",Data!G5) -> 3109336136 | E9: =IF(Data!H5="","",Data!H5) -> AGA ALBANI ZAMIR | F9: =IF(Data!I5="","",Data!I5) -> L | G9: =IF([26]AKA!G9="","",[26]AKA!G9) -> 82 | H9: =IF([26]AKA!H9="","",[26]AKA!H9) -> 84 | I9: =IF([26]AKA!I9="","",[26]AKA!I9) -> 0 | J9: =IF([26]AKA!J9="","",[26]AKA!J9) -> 0 | K9: =IF([26]AKA!K9="","",[26]AKA!K9) -> 0 | L9: =IF([26]AKA!L9="","",[26]AKA!L9) -> 0 | M9: =IF([26]AKA!M9="","",[26]AKA!M9) -> 0 | N9: =IF([26]AKA!N9="","",[26]AKA!N9) -> 0 | ... Y9: =IF([26]AKA!Y9="","",[26]AKA!Y9) -> 77 | Z9: =IFERROR(IF(OR(X9="",Y9=""),"",ROUND(((W9*$W$8)+(X9*$X$8)+(Y9*$Y$8))/$Y$6,0)),"") -> 81 | AA9: =MAX(G9:N9) -> 84 | AB9: =MIN(G9:N9) -> 0 | AC9: =MATCH(AA9,G9:N9,0) -> 2 | AD9: =MATCH(AB9,G9:N9,0) -> 3 | AE9: =IFERROR("Menunjukkan penguasaan"& " dalam "&(VLOOKUP(AC9,$G$69:$I$76,3)),"") -> Menunjukkan penguasaan dalam Memahami pengertian , dalial, ciri-ciri dan dampak negatif sifat riya' dan nifaq serta Menyajikan contoh cara menghindari perilaku riya dan nifaq. | AF9: =IFERROR("Perlu bantuan dalam "&(VLOOKUP(AD9,$G$69:$I$76,3)),"") -> Perlu bantuan dalam Menerapkan adab membaca Al- Qur'an dan adab berdo'a serta mempraktekannya.
B10: =IF(E10="","",B9+1) -> 2 | C10: =IF(Data!F6="","",Data!F6) -> 2100 | D10: =IF(Data!G6="","",Data!G6) -> 0108954708 | E10: =IF(Data!H6="","",Data!H6) -> AKBAR FIRLY MAULANA | F10: =IF(Data!I6="","",Data!I6) -> L | G10: =IF([26]AKA!G10="","",[26]AKA!G10) -> 85 | H10: =IF([26]AKA!H10="","",[26]AKA!H10) -> 88 | I10: =IF([26]AKA!I10="","",[26]AKA!I10) -> 0 | J10: =IF([26]AKA!J10="","",[26]AKA!J10) -> 0 | K10: =IF([26]AKA!K10="","",[26]AKA!K10) -> 0 | L10: =IF([26]AKA!L10="","",[26]AKA!L10) -> 0 | M10: =IF([26]AKA!M10="","",[26]AKA!M10) -> 0 | N10: =IF([26]AKA!N10="","",[26]AKA!N10) -> 0 | ... Y10: =IF([26]AKA!Y10="","",[26]AKA!Y10) -> 77 | Z10: =IFERROR(IF(OR(X10="",Y10=""),"",ROUND(((W10*$W$8)+(X10*$X$8)+(Y10*$Y$8))/$Y$6,0)),"") -> 84 | AA10: =MAX(G10:N10) -> 88 | AB10: =MIN(G10:N10) -> 0 | AC10: =MATCH(AA10,G10:N10,0) -> 2 | AD10: =MATCH(AB10,G10:N10,0) -> 3 | AE10: =IFERROR("Menunjukkan penguasaan"& " dalam "&(VLOOKUP(AC10,$G$69:$I$76,3)),"") -> Menunjukkan penguasaan dalam Memahami pengertian , dalial, ciri-ciri dan dampak negatif sifat riya' dan nifaq serta Menyajikan contoh cara menghindari perilaku riya dan nifaq. | AF10: =IFERROR("Perlu bantuan dalam "&(VLOOKUP(AD10,$G$69:$I$76,3)),"") -> Perlu bantuan dalam Menerapkan adab membaca Al- Qur'an dan adab berdo'a serta mempraktekannya.
B11: =IF(E11="","",B10+1) -> 3 | C11: =IF(Data!F7="","",Data!F7) -> 2085 | D11: =IF(Data!G7="","",Data!G7) -> 0093911821 | E11: =IF(Data!H7="","",Data!H7) -> ALVINO EWALDO | F11: =IF(Data!I7="","",Data!I7) -> L | G11: =IF([26]AKA!G11="","",[26]AKA!G11) -> 85 | H11: =IF([26]AKA!H11="","",[26]AKA!H11) -> 84 | I11: =IF([26]AKA!I11="","",[26]AKA!I11) -> 0 | J11: =IF([26]AKA!J11="","",[26]AKA!J11) -> 0 | K11: =IF([26]AKA!K11="","",[26]AKA!K11) -> 0 | L11: =IF([26]AKA!L11="","",[26]AKA!L11) -> 0 | M11: =IF([26]AKA!M11="","",[26]AKA!M11) -> 0 | N11: =IF([26]AKA!N11="","",[26]AKA!N11) -> 0 | ... Y11: =IF([26]AKA!Y11="","",[26]AKA!Y11) -> 78 | Z11: =IFERROR(IF(OR(X11="",Y11=""),"",ROUND(((W11*$W$8)+(X11*$X$8)+(Y11*$Y$8))/$Y$6,0)),"") -> 84 | AA11: =MAX(G11:N11) -> 85 | AB11: =MIN(G11:N11) -> 0 | AC11: =MATCH(AA11,G11:N11,0) -> 1 | AD11: =MATCH(AB11,G11:N11,0) -> 3 | AE11: =IFERROR("Menunjukkan penguasaan"& " dalam "&(VLOOKUP(AC11,$G$69:$I$76,3)),"") -> Menunjukkan penguasaan dalam Menganalisis tugas dan sifat malaikat Allah serta makhluk gaib lainnya dan Menyajikan hasil analisis keterkaitan sifat malaikat dan syaitan dengan perilaku manusia. | AF11: =IFERROR("Perlu bantuan dalam "&(VLOOKUP(AD11,$G$69:$I$76,3)),"") -> Perlu bantuan dalam Menerapkan adab membaca Al- Qur'an dan adab berdo'a serta mempraktekannya.
B12: =IF(E12="","",B11+1) -> 4 | C12: =IF(Data!F8="","",Data!F8) -> 2075 | D12: =IF(Data!G8="","",Data!G8) -> 0098772064 | E12: =IF(Data!H8="","",Data!H8) -> AURA SUCI RAMADHANI | F12: =IF(Data!I8="","",Data!I8) -> P | G12: =IF([26]AKA!G12="","",[26]AKA!G12) -> 84 | H12: =IF([26]AKA!H12="","",[26]AKA!H12) -> 86 | I12: =IF([26]AKA!I12="","",[26]AKA!I12) -> 0 | J12: =IF([26]AKA!J12="","",[26]AKA!J12) -> 0 | K12: =IF([26]AKA!K12="","",[26]AKA!K12) -> 0 | L12: =IF([26]AKA!L12="","",[26]AKA!L12) -> 0 | M12: =IF([26]AKA!M12="","",[26]AKA!M12) -> 0 | N12: =IF([26]AKA!N12="","",[26]AKA!N12) -> 0 | ... Y12: =IF([26]AKA!Y12="","",[26]AKA!Y12) -> 80 | Z12: =IFERROR(IF(OR(X12="",Y12=""),"",ROUND(((W12*$W$8)+(X12*$X$8)+(Y12*$Y$8))/$Y$6,0)),"") -> 83 | AA12: =MAX(G12:N12) -> 86 | AB12: =MIN(G12:N12) -> 0 | AC12: =MATCH(AA12,G12:N12,0) -> 2 | AD12: =MATCH(AB12,G12:N12,0) -> 3 | AE12: =IFERROR("Menunjukkan penguasaan"& " dalam "&(VLOOKUP(AC12,$G$69:$I$76,3)),"") -> Menunjukkan penguasaan dalam Memahami pengertian , dalial, ciri-ciri dan dampak negatif sifat riya' dan nifaq serta Menyajikan contoh cara menghindari perilaku riya dan nifaq. | AF12: =IFERROR("Perlu bantuan dalam "&(VLOOKUP(AD12,$G$69:$I$76,3)),"") -> Perlu bantuan dalam Menerapkan adab membaca Al- Qur'an dan adab berdo'a serta mempraktekannya.
B13: =IF(E13="","",B12+1) -> 5 | C13: =IF(Data!F9="","",Data!F9) -> 2086 | D13: =IF(Data!G9="","",Data!G9) -> 0103867888 | E13: =IF(Data!H9="","",Data!H9) -> AYU SAFNA | F13: =IF(Data!I9="","",Data!I9) -> P | G13: =IF([26]AKA!G13="","",[26]AKA!G13) -> 84 | H13: =IF([26]AKA!H13="","",[26]AKA!H13) -> 87 | I13: =IF([26]AKA!I13="","",[26]AKA!I13) -> 0 | J13: =IF([26]AKA!J13="","",[26]AKA!J13) -> 0 | K13: =IF([26]AKA!K13="","",[26]AKA!K13) -> 0 | L13: =IF([26]AKA!L13="","",[26]AKA!L13) -> 0 | M13: =IF([26]AKA!M13="","",[26]AKA!M13) -> 0 | N13: =IF([26]AKA!N13="","",[26]AKA!N13) -> 0 | ... Y13: =IF([26]AKA!Y13="","",[26]AKA!Y13) -> 78 | Z13: =IFERROR(IF(OR(X13="",Y13=""),"",ROUND(((W13*$W$8)+(X13*$X$8)+(Y13*$Y$8))/$Y$6,0)),"") -> 83 | AA13: =MAX(G13:N13) -> 87 | AB13: =MIN(G13:N13) -> 0 | AC13: =MATCH(AA13,G13:N13,0) -> 2 | AD13: =MATCH(AB13,G13:N13,0) -> 3 | AE13: =IFERROR("Menunjukkan penguasaan"& " dalam "&(VLOOKUP(AC13,$G$69:$I$76,3)),"") -> Menunjukkan penguasaan dalam Memahami pengertian , dalial, ciri-ciri dan dampak negatif sifat riya' dan nifaq serta Menyajikan contoh cara menghindari perilaku riya dan nifaq. | AF13: =IFERROR("Perlu bantuan dalam "&(VLOOKUP(AD13,$G$69:$I$76,3)),"") -> Perlu bantuan dalam Menerapkan adab membaca Al- Qur'an dan adab berdo'a serta mempraktekannya.
B14: =IF(E14="","",B13+1) -> 6 | C14: =IF(Data!F10="","",Data!F10) -> 2089 | D14: =IF(Data!G10="","",Data!G10) -> 3098656100 | E14: =IF(Data!H10="","",Data!H10) -> DEWI AYU NURHALIZA | F14: =IF(Data!I10="","",Data!I10) -> P | G14: =IF([26]AKA!G14="","",[26]AKA!G14) -> 83 | H14: =IF([26]AKA!H14="","",[26]AKA!H14) -> 85 | I14: =IF([26]AKA!I14="","",[26]AKA!I14) -> 0 | J14: =IF([26]AKA!J14="","",[26]AKA!J14) -> 0 | K14: =IF([26]AKA!K14="","",[26]AKA!K14) -> 0 | L14: =IF([26]AKA!L14="","",[26]AKA!L14) -> 0 | M14: =IF([26]AKA!M14="","",[26]AKA!M14) -> 0 | N14: =IF([26]AKA!N14="","",[26]AKA!N14) -> 0 | ... Y14: =IF([26]AKA!Y14="","",[26]AKA!Y14) -> 77 | Z14: =IFERROR(IF(OR(X14="",Y14=""),"",ROUND(((W14*$W$8)+(X14*$X$8)+(Y14*$Y$8))/$Y$6,0)),"") -> 81 | AA14: =MAX(G14:N14) -> 85 | AB14: =MIN(G14:N14) -> 0 | AC14: =MATCH(AA14,G14:N14,0) -> 2 | AD14: =MATCH(AB14,G14:N14,0) -> 3 | AE14: =IFERROR("Menunjukkan penguasaan"& " dalam "&(VLOOKUP(AC14,$G$69:$I$76,3)),"") -> Menunjukkan penguasaan dalam Memahami pengertian , dalial, ciri-ciri dan dampak negatif sifat riya' dan nifaq serta Menyajikan contoh cara menghindari perilaku riya dan nifaq. | AF14: =IFERROR("Perlu bantuan dalam "&(VLOOKUP(AD14,$G$69:$I$76,3)),"") -> Perlu bantuan dalam Menerapkan adab membaca Al- Qur'an dan adab berdo'a serta mempraktekannya.
B15: =IF(E15="","",B14+1) -> 7 | C15: =IF(Data!F11="","",Data!F11) -> 2115 | D15: =IF(Data!G11="","",Data!G11) -> 0105966564 | E15: =IF(Data!H11="","",Data!H11) -> FADLY ARYA PUTRA | F15: =IF(Data!I11="","",Data!I11) -> L | G15: =IF([26]AKA!G15="","",[26]AKA!G15) -> 85 | H15: =IF([26]AKA!H15="","",[26]AKA!H15) -> 85 | I15: =IF([26]AKA!I15="","",[26]AKA!I15) -> 0 | J15: =IF([26]AKA!J15="","",[26]AKA!J15) -> 0 | K15: =IF([26]AKA!K15="","",[26]AKA!K15) -> 0 | L15: =IF([26]AKA!L15="","",[26]AKA!L15) -> 0 | M15: =IF([26]AKA!M15="","",[26]AKA!M15) -> 0 | N15: =IF([26]AKA!N15="","",[26]AKA!N15) -> 0 | ... Y15: =IF([26]AKA!Y15="","",[26]AKA!Y15) -> 76 | Z15: =IFERROR(IF(OR(X15="",Y15=""),"",ROUND(((W15*$W$8)+(X15*$X$8)+(Y15*$Y$8))/$Y$6,0)),"") -> 82 | AA15: =MAX(G15:N15) -> 85 | AB15: =MIN(G15:N15) -> 0 | AC15: =MATCH(AA15,G15:N15,0) -> 1 | AD15: =MATCH(AB15,G15:N15,0) -> 3 | AE15: =IFERROR("Menunjukkan penguasaan"& " dalam "&(VLOOKUP(AC15,$G$69:$I$76,3)),"") -> Menunjukkan penguasaan dalam Menganalisis tugas dan sifat malaikat Allah serta makhluk gaib lainnya dan Menyajikan hasil analisis keterkaitan sifat malaikat dan syaitan dengan perilaku manusia. | AF15: =IFERROR("Perlu bantuan dalam "&(VLOOKUP(AD15,$G$69:$I$76,3)),"") -> Perlu bantuan dalam Menerapkan adab membaca Al- Qur'an dan adab berdo'a serta mempraktekannya.
B16: =IF(E16="","",B15+1) -> 8 | C16: =IF(Data!F12="","",Data!F12) -> 2082 | D16: =IF(Data!G12="","",Data!G12) -> 3092203012 | E16: =IF(Data!H12="","",Data!H12) -> ILHAM MAULANA | F16: =IF(Data!I12="","",Data!I12) -> L | G16: =IF([26]AKA!G16="","",[26]AKA!G16) -> 78 | H16: =IF([26]AKA!H16="","",[26]AKA!H16) -> 79 | I16: =IF([26]AKA!I16="","",[26]AKA!I16) -> 0 | J16: =IF([26]AKA!J16="","",[26]AKA!J16) -> 0 | K16: =IF([26]AKA!K16="","",[26]AKA!K16) -> 0 | L16: =IF([26]AKA!L16="","",[26]AKA!L16) -> 0 | M16: =IF([26]AKA!M16="","",[26]AKA!M16) -> 0 | N16: =IF([26]AKA!N16="","",[26]AKA!N16) -> 0 | ... Y16: =IF([26]AKA!Y16="","",[26]AKA!Y16) -> 75 | Z16: =IFERROR(IF(OR(X16="",Y16=""),"",ROUND(((W16*$W$8)+(X16*$X$8)+(Y16*$Y$8))/$Y$6,0)),"") -> 77 | AA16: =MAX(G16:N16) -> 79 | AB16: =MIN(G16:N16) -> 0 | AC16: =MATCH(AA16,G16:N16,0) -> 2 | AD16: =MATCH(AB16,G16:N16,0) -> 3 | AE16: =IFERROR("Menunjukkan penguasaan"& " dalam "&(VLOOKUP(AC16,$G$69:$I$76,3)),"") -> Menunjukkan penguasaan dalam Memahami pengertian , dalial, ciri-ciri dan dampak negatif sifat riya' dan nifaq serta Menyajikan contoh cara menghindari perilaku riya dan nifaq. | AF16: =IFERROR("Perlu bantuan dalam "&(VLOOKUP(AD16,$G$69:$I$76,3)),"") -> Perlu bantuan dalam Menerapkan adab membaca Al- Qur'an dan adab berdo'a serta mempraktekannya.
B17: =IF(E17="","",B16+1) -> 9 | C17: =IF(Data!F13="","",Data!F13) -> 2088 | D17: =IF(Data!G13="","",Data!G13) -> 3106632526 | E17: =IF(Data!H13="","",Data!H13) -> INDAH VIOLAFITRA | F17: =IF(Data!I13="","",Data!I13) -> P | G17: =IF([26]AKA!G17="","",[26]AKA!G17) -> 85 | H17: =IF([26]AKA!H17="","",[26]AKA!H17) -> 88 | I17: =IF([26]AKA!I17="","",[26]AKA!I17) -> 0 | J17: =IF([26]AKA!J17="","",[26]AKA!J17) -> 0 | K17: =IF([26]AKA!K17="","",[26]AKA!K17) -> 0 | L17: =IF([26]AKA!L17="","",[26]AKA!L17) -> 0 | M17: =IF([26]AKA!M17="","",[26]AKA!M17) -> 0 | N17: =IF([26]AKA!N17="","",[26]AKA!N17) -> 0 | ... Y17: =IF([26]AKA!Y17="","",[26]AKA!Y17) -> 77 | Z17: =IFERROR(IF(OR(X17="",Y17=""),"",ROUND(((W17*$W$8)+(X17*$X$8)+(Y17*$Y$8))/$Y$6,0)),"") -> 83 | AA17: =MAX(G17:N17) -> 88 | AB17: =MIN(G17:N17) -> 0 | AC17: =MATCH(AA17,G17:N17,0) -> 2 | AD17: =MATCH(AB17,G17:N17,0) -> 3 | AE17: =IFERROR("Menunjukkan penguasaan"& " dalam "&(VLOOKUP(AC17,$G$69:$I$76,3)),"") -> Menunjukkan penguasaan dalam Memahami pengertian , dalial, ciri-ciri dan dampak negatif sifat riya' dan nifaq serta Menyajikan contoh cara menghindari perilaku riya dan nifaq. | AF17: =IFERROR("Perlu bantuan dalam "&(VLOOKUP(AD17,$G$69:$I$76,3)),"") -> Perlu bantuan dalam Menerapkan adab membaca Al- Qur'an dan adab berdo'a serta mempraktekannya.
B18: =IF(E18="","",B17+1) -> 10 | C18: =IF(Data!F14="","",Data!F14) -> 2109 | D18: =IF(Data!G14="","",Data!G14) -> 3092608052 | E18: =IF(Data!H14="","",Data!H14) -> KEVIN FAHREZI | F18: =IF(Data!I14="","",Data!I14) -> L | G18: =IF([26]AKA!G18="","",[26]AKA!G18) -> 74 | H18: =IF([26]AKA!H18="","",[26]AKA!H18) -> 74 | I18: =IF([26]AKA!I18="","",[26]AKA!I18) -> 0 | J18: =IF([26]AKA!J18="","",[26]AKA!J18) -> 0 | K18: =IF([26]AKA!K18="","",[26]AKA!K18) -> 0 | L18: =IF([26]AKA!L18="","",[26]AKA!L18) -> 0 | M18: =IF([26]AKA!M18="","",[26]AKA!M18) -> 0 | N18: =IF([26]AKA!N18="","",[26]AKA!N18) -> 0 | ... Y18: =IF([26]AKA!Y18="","",[26]AKA!Y18) -> 74 | Z18: =IFERROR(IF(OR(X18="",Y18=""),"",ROUND(((W18*$W$8)+(X18*$X$8)+(Y18*$Y$8))/$Y$6,0)),"") -> 74 | AA18: =MAX(G18:N18) -> 74 | AB18: =MIN(G18:N18) -> 0 | AC18: =MATCH(AA18,G18:N18,0) -> 1 | AD18: =MATCH(AB18,G18:N18,0) -> 3 | AE18: =IFERROR("Menunjukkan penguasaan"& " dalam "&(VLOOKUP(AC18,$G$69:$I$76,3)),"") -> Menunjukkan penguasaan dalam Menganalisis tugas dan sifat malaikat Allah serta makhluk gaib lainnya dan Menyajikan hasil analisis keterkaitan sifat malaikat dan syaitan dengan perilaku manusia. | AF18: =IFERROR("Perlu bantuan dalam "&(VLOOKUP(AD18,$G$69:$I$76,3)),"") -> Perlu bantuan dalam Menerapkan adab membaca Al- Qur'an dan adab berdo'a serta mempraktekannya.
B19: =IF(E19="","",B18+1) -> 11 | C19: =IF(Data!F15="","",Data!F15) -> 2096 | D19: =IF(Data!G15="","",Data!G15) -> 0107523037 | E19: =IF(Data!H15="","",Data!H15) -> M. IZAM AZMI | F19: =IF(Data!I15="","",Data!I15) -> L | G19: =IF([26]AKA!G19="","",[26]AKA!G19) -> 80 | H19: =IF([26]AKA!H19="","",[26]AKA!H19) -> 82 | I19: =IF([26]AKA!I19="","",[26]AKA!I19) -> 0 | J19: =IF([26]AKA!J19="","",[26]AKA!J19) -> 0 | K19: =IF([26]AKA!K19="","",[26]AKA!K19) -> 0 | L19: =IF([26]AKA!L19="","",[26]AKA!L19) -> 0 | M19: =IF([26]AKA!M19="","",[26]AKA!M19) -> 0 | N19: =IF([26]AKA!N19="","",[26]AKA!N19) -> 0 | ... Y19: =IF([26]AKA!Y19="","",[26]AKA!Y19) -> 79 | Z19: =IFERROR(IF(OR(X19="",Y19=""),"",ROUND(((W19*$W$8)+(X19*$X$8)+(Y19*$Y$8))/$Y$6,0)),"") -> 81 | AA19: =MAX(G19:N19) -> 82 | AB19: =MIN(G19:N19) -> 0 | AC19: =MATCH(AA19,G19:N19,0) -> 2 | AD19: =MATCH(AB19,G19:N19,0) -> 3 | AE19: =IFERROR("Menunjukkan penguasaan"& " dalam "&(VLOOKUP(AC19,$G$69:$I$76,3)),"") -> Menunjukkan penguasaan dalam Memahami pengertian , dalial, ciri-ciri dan dampak negatif sifat riya' dan nifaq serta Menyajikan contoh cara menghindari perilaku riya dan nifaq. | AF19: =IFERROR("Perlu bantuan dalam "&(VLOOKUP(AD19,$G$69:$I$76,3)),"") -> Perlu bantuan dalam Menerapkan adab membaca Al- Qur'an dan adab berdo'a serta mempraktekannya.
B20: =IF(E20="","",B19+1) -> 12 | C20: =IF(Data!F16="","",Data!F16) -> 2102 | D20: =IF(Data!G16="","",Data!G16) -> 0104675982 | E20: =IF(Data!H16="","",Data!H16) -> M. RAFFY MAULA DANNY | F20: =IF(Data!I16="","",Data!I16) -> L | G20: =IF([26]AKA!G20="","",[26]AKA!G20) -> 80 | H20: =IF([26]AKA!H20="","",[26]AKA!H20) -> 82 | I20: =IF([26]AKA!I20="","",[26]AKA!I20) -> 0 | J20: =IF([26]AKA!J20="","",[26]AKA!J20) -> 0 | K20: =IF([26]AKA!K20="","",[26]AKA!K20) -> 0 | L20: =IF([26]AKA!L20="","",[26]AKA!L20) -> 0 | M20: =IF([26]AKA!M20="","",[26]AKA!M20) -> 0 | N20: =IF([26]AKA!N20="","",[26]AKA!N20) -> 0 | ... Y20: =IF([26]AKA!Y20="","",[26]AKA!Y20) -> 78 | Z20: =IFERROR(IF(OR(X20="",Y20=""),"",ROUND(((W20*$W$8)+(X20*$X$8)+(Y20*$Y$8))/$Y$6,0)),"") -> 80 | AA20: =MAX(G20:N20) -> 82 | AB20: =MIN(G20:N20) -> 0 | AC20: =MATCH(AA20,G20:N20,0) -> 2 | AD20: =MATCH(AB20,G20:N20,0) -> 3 | AE20: =IFERROR("Menunjukkan penguasaan"& " dalam "&(VLOOKUP(AC20,$G$69:$I$76,3)),"") -> Menunjukkan penguasaan dalam Memahami pengertian , dalial, ciri-ciri dan dampak negatif sifat riya' dan nifaq serta Menyajikan contoh cara menghindari perilaku riya dan nifaq. | AF20: =IFERROR("Perlu bantuan dalam "&(VLOOKUP(AD20,$G$69:$I$76,3)),"") -> Perlu bantuan dalam Menerapkan adab membaca Al- Qur'an dan adab berdo'a serta mempraktekannya.
B21: =IF(E21="","",B20+1) -> 13 | C21: =IF(Data!F17="","",Data!F17) -> 2090 | D21: =IF(Data!G17="","",Data!G17) -> 3090477421 | E21: =IF(Data!H17="","",Data!H17) -> MARWAH RIANA | F21: =IF(Data!I17="","",Data!I17) -> P | G21: =IF([26]AKA!G21="","",[26]AKA!G21) -> 85 | H21: =IF([26]AKA!H21="","",[26]AKA!H21) -> 88 | I21: =IF([26]AKA!I21="","",[26]AKA!I21) -> 0 | J21: =IF([26]AKA!J21="","",[26]AKA!J21) -> 0 | K21: =IF([26]AKA!K21="","",[26]AKA!K21) -> 0 | L21: =IF([26]AKA!L21="","",[26]AKA!L21) -> 0 | M21: =IF([26]AKA!M21="","",[26]AKA!M21) -> 0 | N21: =IF([26]AKA!N21="","",[26]AKA!N21) -> 0 | ... Y21: =IF([26]AKA!Y21="","",[26]AKA!Y21) -> 79 | Z21: =IFERROR(IF(OR(X21="",Y21=""),"",ROUND(((W21*$W$8)+(X21*$X$8)+(Y21*$Y$8))/$Y$6,0)),"") -> 84 | AA21: =MAX(G21:N21) -> 88 | AB21: =MIN(G21:N21) -> 0 | AC21: =MATCH(AA21,G21:N21,0) -> 2 | AD21: =MATCH(AB21,G21:N21,0) -> 3 | AE21: =IFERROR("Menunjukkan penguasaan"& " dalam "&(VLOOKUP(AC21,$G$69:$I$76,3)),"") -> Menunjukkan penguasaan dalam Memahami pengertian , dalial, ciri-ciri dan dampak negatif sifat riya' dan nifaq serta Menyajikan contoh cara menghindari perilaku riya dan nifaq. | AF21: =IFERROR("Perlu bantuan dalam "&(VLOOKUP(AD21,$G$69:$I$76,3)),"") -> Perlu bantuan dalam Menerapkan adab membaca Al- Qur'an dan adab berdo'a serta mempraktekannya.
... B50: =IF(E50="","",B49+1) | C50: =IF(Data!F46="","",Data!F46) | D50: =IF(Data!G46="","",Data!G46) | E50: =IF(Data!H46="","",Data!H46) | F50: =IF(Data!I46="","",Data!I46) | G50: =IF([26]AKA!G50="","",[26]AKA!G50) -> 0 | H50: =IF([26]AKA!H50="","",[26]AKA!H50) -> 0 | I50: =IF([26]AKA!I50="","",[26]AKA!I50) -> 0 | J50: =IF([26]AKA!J50="","",[26]AKA!J50) -> 0 | K50: =IF([26]AKA!K50="","",[26]AKA!K50) -> 0 | L50: =IF([26]AKA!L50="","",[26]AKA!L50) -> 0 | M50: =IF([26]AKA!M50="","",[26]AKA!M50) -> 0 | N50: =IF([26]AKA!N50="","",[26]AKA!N50) -> 0 | ... Y50: =IF([26]AKA!Y50="","",[26]AKA!Y50) -> 0 | Z50: =IFERROR(IF(OR(X50="",Y50=""),"",ROUND(((W50*$W$8)+(X50*$X$8)+(Y50*$Y$8))/$Y$6,0)),"") | AA50: =MAX(G50:N50) -> 0 | AB50: =MIN(G50:N50) -> 0 | AC50: =MATCH(AA50,G50:N50,0) -> 1 | AD50: =MATCH(AB50,G50:N50,0) -> 1 | AE50: =IFERROR("Menunjukkan penguasaan"& " dalam "&(VLOOKUP(AC50,$G$69:$I$76,3)),"") -> Menunjukkan penguasaan dalam Menganalisis tugas dan sifat malaikat Allah serta makhluk gaib lainnya dan Menyajikan hasil analisis keterkaitan sifat malaikat dan syaitan dengan perilaku manusia. | AF50: =IFERROR("Perlu bantuan dalam "&(VLOOKUP(AD50,$G$69:$I$76,3)),"") -> Perlu bantuan dalam Menganalisis tugas dan sifat malaikat Allah serta makhluk gaib lainnya dan Menyajikan hasil analisis keterkaitan sifat malaikat dan syaitan dengan perilaku manusia.
B51: =IF(E51="","",B50+1) | C51: =IF(Data!F47="","",Data!F47) | D51: =IF(Data!G47="","",Data!G47) | E51: =IF(Data!H47="","",Data!H47) | F51: =IF(Data!I47="","",Data!I47) | G51: =IF([26]AKA!G51="","",[26]AKA!G51) -> 0 | H51: =IF([26]AKA!H51="","",[26]AKA!H51) -> 0 | I51: =IF([26]AKA!I51="","",[26]AKA!I51) -> 0 | J51: =IF([26]AKA!J51="","",[26]AKA!J51) -> 0 | K51: =IF([26]AKA!K51="","",[26]AKA!K51) -> 0 | L51: =IF([26]AKA!L51="","",[26]AKA!L51) -> 0 | M51: =IF([26]AKA!M51="","",[26]AKA!M51) -> 0 | N51: =IF([26]AKA!N51="","",[26]AKA!N51) -> 0 | ... V51: =IF([26]AKA!V51="","",[26]AKA!V51) -> 0 | W51: =IF(COUNT(G51:N51)<2,"",ROUND(SUM(G51:N51)/$W$6,0)) -> 0 | X51: =IF(COUNT(O51:V51)<2,"",ROUND(SUM(O51:V51)/$X$6,0)) -> 0 | Y51: =IF([26]AKA!Y51="","",[26]AKA!Y51) -> 0 | Z51: =IFERROR(IF(OR(X51="",Y51=""),"",ROUND(((W51*$W$8)+(X51*$X$8)+(Y51*$Y$8))/$Y$6,0)),"") -> 0 | AA51: =MAX(G51:N51) -> 0 | AB51: =MIN(G51:N51) -> 0 | AC51: =MATCH(AA51,G51:N51,0) -> 1 | AD51: =MATCH(AB51,G51:N51,0) -> 1 | AE51: =IFERROR("Menunjukkan penguasaan"& " dalam "&(VLOOKUP(AC51,$G$69:$I$76,3)),"") -> Menunjukkan penguasaan dalam Menganalisis tugas dan sifat malaikat Allah serta makhluk gaib lainnya dan Menyajikan hasil analisis keterkaitan sifat malaikat dan syaitan dengan perilaku manusia. | AF51: =IFERROR("Perlu bantuan dalam "&(VLOOKUP(AD51,$G$69:$I$76,3)),"") -> Perlu bantuan dalam Menganalisis tugas dan sifat malaikat Allah serta makhluk gaib lainnya dan Menyajikan hasil analisis keterkaitan sifat malaikat dan syaitan dengan perilaku manusia.
B52: =IF(E52="","",B51+1) | C52: =IF(Data!F48="","",Data!F48) | D52: =IF(Data!G48="","",Data!G48) | E52: =IF(Data!H48="","",Data!H48) | F52: =IF(Data!I48="","",Data!I48) | G52: =IF([26]AKA!G52="","",[26]AKA!G52) -> 0 | H52: =IF([26]AKA!H52="","",[26]AKA!H52) -> 0 | I52: =IF([26]AKA!I52="","",[26]AKA!I52) -> 0 | J52: =IF([26]AKA!J52="","",[26]AKA!J52) -> 0 | K52: =IF([26]AKA!K52="","",[26]AKA!K52) -> 0 | L52: =IF([26]AKA!L52="","",[26]AKA!L52) -> 0 | M52: =IF([26]AKA!M52="","",[26]AKA!M52) -> 0 | N52: =IF([26]AKA!N52="","",[26]AKA!N52) -> 0 | ... V52: =IF([26]AKA!V52="","",[26]AKA!V52) -> 0 | W52: =IF(COUNT(G52:N52)<2,"",ROUND(SUM(G52:N52)/$W$6,0)) -> 0 | X52: =IF(COUNT(O52:V52)<2,"",ROUND(SUM(O52:V52)/$X$6,0)) -> 0 | Y52: =IF([26]AKA!Y52="","",[26]AKA!Y52) -> 0 | Z52: =IFERROR(IF(OR(X52="",Y52=""),"",ROUND(((W52*$W$8)+(X52*$X$8)+(Y52*$Y$8))/$Y$6,0)),"") -> 0 | AA52: =MAX(G52:N52) -> 0 | AB52: =MIN(G52:N52) -> 0 | AC52: =MATCH(AA52,G52:N52,0) -> 1 | AD52: =MATCH(AB52,G52:N52,0) -> 1 | AE52: =IFERROR("Menunjukkan penguasaan"& " dalam "&(VLOOKUP(AC52,$G$69:$I$76,3)),"") -> Menunjukkan penguasaan dalam Menganalisis tugas dan sifat malaikat Allah serta makhluk gaib lainnya dan Menyajikan hasil analisis keterkaitan sifat malaikat dan syaitan dengan perilaku manusia. | AF52: =IFERROR("Perlu bantuan dalam "&(VLOOKUP(AD52,$G$69:$I$76,3)),"") -> Perlu bantuan dalam Menganalisis tugas dan sifat malaikat Allah serta makhluk gaib lainnya dan Menyajikan hasil analisis keterkaitan sifat malaikat dan syaitan dengan perilaku manusia.
B53: =IF(E53="","",B52+1) | C53: =IF(Data!F49="","",Data!F49) | D53: =IF(Data!G49="","",Data!G49) | E53: =IF(Data!H49="","",Data!H49) | F53: =IF(Data!I49="","",Data!I49) | G53: =IF([26]AKA!G53="","",[26]AKA!G53) -> 0 | H53: =IF([26]AKA!H53="","",[26]AKA!H53) -> 0 | I53: =IF([26]AKA!I53="","",[26]AKA!I53) -> 0 | J53: =IF([26]AKA!J53="","",[26]AKA!J53) -> 0 | K53: =IF([26]AKA!K53="","",[26]AKA!K53) -> 0 | L53: =IF([26]AKA!L53="","",[26]AKA!L53) -> 0 | M53: =IF([26]AKA!M53="","",[26]AKA!M53) -> 0 | N53: =IF([26]AKA!N53="","",[26]AKA!N53) -> 0 | ... V53: =IF([26]AKA!V53="","",[26]AKA!V53) -> 0 | W53: =IF(COUNT(G53:N53)<2,"",ROUND(SUM(G53:N53)/$W$6,0)) -> 0 | X53: =IF(COUNT(O53:V53)<2,"",ROUND(SUM(O53:V53)/$X$6,0)) -> 0 | Y53: =IF([26]AKA!Y53="","",[26]AKA!Y53) -> 0 | Z53: =IFERROR(IF(OR(X53="",Y53=""),"",ROUND(((W53*$W$8)+(X53*$X$8)+(Y53*$Y$8))/$Y$6,0)),"") -> 0 | AA53: =MAX(G53:N53) -> 0 | AB53: =MIN(G53:N53) -> 0 | AC53: =MATCH(AA53,G53:N53,0) -> 1 | AD53: =MATCH(AB53,G53:N53,0) -> 1 | AE53: =IFERROR("Menunjukkan penguasaan"& " dalam "&(VLOOKUP(AC53,$G$69:$I$76,3)),"") -> Menunjukkan penguasaan dalam Menganalisis tugas dan sifat malaikat Allah serta makhluk gaib lainnya dan Menyajikan hasil analisis keterkaitan sifat malaikat dan syaitan dengan perilaku manusia. | AF53: =IFERROR("Perlu bantuan dalam "&(VLOOKUP(AD53,$G$69:$I$76,3)),"") -> Perlu bantuan dalam Menganalisis tugas dan sifat malaikat Allah serta makhluk gaib lainnya dan Menyajikan hasil analisis keterkaitan sifat malaikat dan syaitan dengan perilaku manusia.
B54: =IF(E54="","",B53+1) -> #VALUE! | C54: =IF(Data!F50="","",Data!F50) -> 2 | D54: =IF(Data!G50="","",Data!G50) -> 3 | E54: =IF(Data!H50="","",Data!H50) -> 4 | F54: =IF(Data!I50="","",Data!I50) -> 5 | G54: =IF([26]AKA!G54="","",[26]AKA!G54) -> 0 | H54: =IF([26]AKA!H54="","",[26]AKA!H54) -> 0 | I54: =IF([26]AKA!I54="","",[26]AKA!I54) -> 0 | J54: =IF([26]AKA!J54="","",[26]AKA!J54) -> 0 | K54: =IF([26]AKA!K54="","",[26]AKA!K54) -> 0 | L54: =IF([26]AKA!L54="","",[26]AKA!L54) -> 0 | M54: =IF([26]AKA!M54="","",[26]AKA!M54) -> 0 | N54: =IF([26]AKA!N54="","",[26]AKA!N54) -> 0 | ... V54: =IF([26]AKA!V54="","",[26]AKA!V54) -> 0 | W54: =IF(COUNT(G54:N54)<2,"",ROUND(SUM(G54:N54)/$W$6,0)) -> 0 | X54: =IF(COUNT(O54:V54)<2,"",ROUND(SUM(O54:V54)/$X$6,0)) -> 0 | Y54: =IF([26]AKA!Y54="","",[26]AKA!Y54) -> 0 | Z54: =IFERROR(IF(OR(X54="",Y54=""),"",ROUND(((W54*$W$8)+(X54*$X$8)+(Y54*$Y$8))/$Y$6,0)),"") -> 0 | AA54: =MAX(G54:N54) -> 0 | AB54: =MIN(G54:N54) -> 0 | AC54: =MATCH(AA54,G54:N54,0) -> 1 | AD54: =MATCH(AB54,G54:N54,0) -> 1 | AE54: =IFERROR("Menunjukkan penguasaan"& " dalam "&(VLOOKUP(AC54,$G$69:$I$76,3)),"") -> Menunjukkan penguasaan dalam Menganalisis tugas dan sifat malaikat Allah serta makhluk gaib lainnya dan Menyajikan hasil analisis keterkaitan sifat malaikat dan syaitan dengan perilaku manusia. | AF54: =IFERROR("Perlu bantuan dalam "&(VLOOKUP(AD54,$G$69:$I$76,3)),"") -> Perlu bantuan dalam Menganalisis tugas dan sifat malaikat Allah serta makhluk gaib lainnya dan Menyajikan hasil analisis keterkaitan sifat malaikat dan syaitan dengan perilaku manusia.
B55: =IF(E55="","",B54+1) | C55: =IF(Data!F51="","",Data!F51) | D55: =IF(Data!G51="","",Data!G51) | E55: =IF(Data!H51="","",Data!H51) | F55: =IF(Data!I51="","",Data!I51) | G55: =IF([26]AKA!G55="","",[26]AKA!G55) -> 0 | H55: =IF([26]AKA!H55="","",[26]AKA!H55) -> 0 | I55: =IF([26]AKA!I55="","",[26]AKA!I55) -> 0 | J55: =IF([26]AKA!J55="","",[26]AKA!J55) -> 0 | K55: =IF([26]AKA!K55="","",[26]AKA!K55) -> 0 | L55: =IF([26]AKA!L55="","",[26]AKA!L55) -> 0 | M55: =IF([26]AKA!M55="","",[26]AKA!M55) -> 0 | N55: =IF([26]AKA!N55="","",[26]AKA!N55) -> 0 | ... V55: =IF([26]AKA!V55="","",[26]AKA!V55) -> 0 | W55: =IF(COUNT(G55:N55)<2,"",ROUND(SUM(G55:N55)/$W$6,0)) -> 0 | X55: =IF(COUNT(O55:V55)<2,"",ROUND(SUM(O55:V55)/$X$6,0)) -> 0 | Y55: =IF([26]AKA!Y55="","",[26]AKA!Y55) -> 0 | Z55: =IFERROR(IF(OR(X55="",Y55=""),"",ROUND(((W55*$W$8)+(X55*$X$8)+(Y55*$Y$8))/$Y$6,0)),"") -> 0 | AA55: =MAX(G55:N55) -> 0 | AB55: =MIN(G55:N55) -> 0 | AC55: =MATCH(AA55,G55:N55,0) -> 1 | AD55: =MATCH(AB55,G55:N55,0) -> 1 | AE55: =IFERROR("Menunjukkan penguasaan"& " dalam "&(VLOOKUP(AC55,$G$69:$I$76,3)),"") -> Menunjukkan penguasaan dalam Menganalisis tugas dan sifat malaikat Allah serta makhluk gaib lainnya dan Menyajikan hasil analisis keterkaitan sifat malaikat dan syaitan dengan perilaku manusia. | AF55: =IFERROR("Perlu bantuan dalam "&(VLOOKUP(AD55,$G$69:$I$76,3)),"") -> Perlu bantuan dalam Menganalisis tugas dan sifat malaikat Allah serta makhluk gaib lainnya dan Menyajikan hasil analisis keterkaitan sifat malaikat dan syaitan dengan perilaku manusia.
B56: =IF(E56="","",B55+1) | C56: =IF(Data!F52="","",Data!F52) | D56: =IF(Data!G52="","",Data!G52) | E56: =IF(Data!H52="","",Data!H52) | F56: =IF(Data!I52="","",Data!I52) | G56: =IF([26]AKA!G56="","",[26]AKA!G56) -> 0 | H56: =IF([26]AKA!H56="","",[26]AKA!H56) -> 0 | I56: =IF([26]AKA!I56="","",[26]AKA!I56) -> 0 | J56: =IF([26]AKA!J56="","",[26]AKA!J56) -> 0 | K56: =IF([26]AKA!K56="","",[26]AKA!K56) -> 0 | L56: =IF([26]AKA!L56="","",[26]AKA!L56) -> 0 | M56: =IF([26]AKA!M56="","",[26]AKA!M56) -> 0 | N56: =IF([26]AKA!N56="","",[26]AKA!N56) -> 0 | ... V56: =IF([26]AKA!V56="","",[26]AKA!V56) -> 0 | W56: =IF(COUNT(G56:N56)<2,"",ROUND(SUM(G56:N56)/$W$6,0)) -> 0 | X56: =IF(COUNT(O56:V56)<2,"",ROUND(SUM(O56:V56)/$X$6,0)) -> 0 | Y56: =IF([26]AKA!Y56="","",[26]AKA!Y56) -> 0 | Z56: =IFERROR(IF(OR(X56="",Y56=""),"",ROUND(((W56*$W$8)+(X56*$X$8)+(Y56*$Y$8))/$Y$6,0)),"") -> 0 | AA56: =MAX(G56:N56) -> 0 | AB56: =MIN(G56:N56) -> 0 | AC56: =MATCH(AA56,G56:N56,0) -> 1 | AD56: =MATCH(AB56,G56:N56,0) -> 1 | AE56: =IFERROR("Menunjukkan penguasaan"& " dalam "&(VLOOKUP(AC56,$G$69:$I$76,3)),"") -> Menunjukkan penguasaan dalam Menganalisis tugas dan sifat malaikat Allah serta makhluk gaib lainnya dan Menyajikan hasil analisis keterkaitan sifat malaikat dan syaitan dengan perilaku manusia. | AF56: =IFERROR("Perlu bantuan dalam "&(VLOOKUP(AD56,$G$69:$I$76,3)),"") -> Perlu bantuan dalam Menganalisis tugas dan sifat malaikat Allah serta makhluk gaib lainnya dan Menyajikan hasil analisis keterkaitan sifat malaikat dan syaitan dengan perilaku manusia.
B57: =IF(E57="","",B56+1) | C57: =IF(Data!F53="","",Data!F53) | D57: =IF(Data!G53="","",Data!G53) | E57: =IF(Data!H53="","",Data!H53) | F57: =IF(Data!I53="","",Data!I53) | G57: =IF([26]AKA!G57="","",[26]AKA!G57) -> 0 | H57: =IF([26]AKA!H57="","",[26]AKA!H57) -> 0 | I57: =IF([26]AKA!I57="","",[26]AKA!I57) -> 0 | J57: =IF([26]AKA!J57="","",[26]AKA!J57) -> 0 | K57: =IF([26]AKA!K57="","",[26]AKA!K57) -> 0 | L57: =IF([26]AKA!L57="","",[26]AKA!L57) -> 0 | M57: =IF([26]AKA!M57="","",[26]AKA!M57) -> 0 | N57: =IF([26]AKA!N57="","",[26]AKA!N57) -> 0 | ... V57: =IF([26]AKA!V57="","",[26]AKA!V57) -> 0 | W57: =IF(COUNT(G57:N57)<2,"",ROUND(SUM(G57:N57)/$W$6,0)) -> 0 | X57: =IF(COUNT(O57:V57)<2,"",ROUND(SUM(O57:V57)/$X$6,0)) -> 0 | Y57: =IF([26]AKA!Y57="","",[26]AKA!Y57) -> 0 | Z57: =IFERROR(IF(OR(X57="",Y57=""),"",ROUND(((W57*$W$8)+(X57*$X$8)+(Y57*$Y$8))/$Y$6,0)),"") -> 0 | AA57: =MAX(G57:N57) -> 0 | AB57: =MIN(G57:N57) -> 0 | AC57: =MATCH(AA57,G57:N57,0) -> 1 | AD57: =MATCH(AB57,G57:N57,0) -> 1 | AE57: =IFERROR("Menunjukkan penguasaan"& " dalam "&(VLOOKUP(AC57,$G$69:$I$76,3)),"") -> Menunjukkan penguasaan dalam Menganalisis tugas dan sifat malaikat Allah serta makhluk gaib lainnya dan Menyajikan hasil analisis keterkaitan sifat malaikat dan syaitan dengan perilaku manusia. | AF57: =IFERROR("Perlu bantuan dalam "&(VLOOKUP(AD57,$G$69:$I$76,3)),"") -> Perlu bantuan dalam Menganalisis tugas dan sifat malaikat Allah serta makhluk gaib lainnya dan Menyajikan hasil analisis keterkaitan sifat malaikat dan syaitan dengan perilaku manusia.
B58: =IF(E58="","",B57+1) | C58: =IF(Data!F54="","",Data!F54) | D58: =IF(Data!G54="","",Data!G54) | E58: =IF(Data!H54="","",Data!H54) | F58: =IF(Data!I54="","",Data!I54) | G58: =IF([26]AKA!G58="","",[26]AKA!G58) -> 0 | H58: =IF([26]AKA!H58="","",[26]AKA!H58) -> 0 | I58: =IF([26]AKA!I58="","",[26]AKA!I58) -> 0 | J58: =IF([26]AKA!J58="","",[26]AKA!J58) -> 0 | K58: =IF([26]AKA!K58="","",[26]AKA!K58) -> 0 | L58: =IF([26]AKA!L58="","",[26]AKA!L58) -> 0 | M58: =IF([26]AKA!M58="","",[26]AKA!M58) -> 0 | N58: =IF([26]AKA!N58="","",[26]AKA!N58) -> 0 | ... V58: =IF([26]AKA!V58="","",[26]AKA!V58) -> 0 | W58: =IF(COUNT(G58:N58)<2,"",ROUND(SUM(G58:N58)/$W$6,0)) -> 0 | X58: =IF(COUNT(O58:V58)<2,"",ROUND(SUM(O58:V58)/$X$6,0)) -> 0 | Y58: =IF([26]AKA!Y58="","",[26]AKA!Y58) -> 0 | Z58: =IFERROR(IF(OR(X58="",Y58=""),"",ROUND(((W58*$W$8)+(X58*$X$8)+(Y58*$Y$8))/$Y$6,0)),"") -> 0 | AA58: =MAX(G58:N58) -> 0 | AB58: =MIN(G58:N58) -> 0 | AC58: =MATCH(AA58,G58:N58,0) -> 1 | AD58: =MATCH(AB58,G58:N58,0) -> 1 | AE58: =IFERROR("Menunjukkan penguasaan"& " dalam "&(VLOOKUP(AC58,$G$69:$I$76,3)),"") -> Menunjukkan penguasaan dalam Menganalisis tugas dan sifat malaikat Allah serta makhluk gaib lainnya dan Menyajikan hasil analisis keterkaitan sifat malaikat dan syaitan dengan perilaku manusia. | AF58: =IFERROR("Perlu bantuan dalam "&(VLOOKUP(AD58,$G$69:$I$76,3)),"") -> Perlu bantuan dalam Menganalisis tugas dan sifat malaikat Allah serta makhluk gaib lainnya dan Menyajikan hasil analisis keterkaitan sifat malaikat dan syaitan dengan perilaku manusia.
U60: Pegandon,
U61: Guru Mata Pelajaran
U66: NIP.
G68: No | H68: Kode | I68: Ringkasan Capaian Pembelajaran yang di Nilai (Max 100 huruf kecil semua)
C69: Tulis Tujuan Pembelajaran DISINI >>> | F69: FORMATIF | G69: 1 | H69: TP-1 | I69: =IF([26]AKA!I63="","",[26]AKA!I63) -> Menganalisis tugas dan sifat malaikat Allah serta makhluk gaib lainnya dan Menyajikan hasil analisis keterkaitan sifat malaikat dan syaitan dengan perilaku manusia.
C70: Penulisan Tujuan Pembelajaran dimaksudkan | G70: 2 | H70: TP-2 | I70: =IF([26]AKA!I64="","",[26]AKA!I64) -> Memahami pengertian , dalial, ciri-ciri dan dampak negatif sifat riya' dan nifaq serta Menyajikan contoh cara menghindari perilaku riya dan nifaq.
C71: sebagai bahan dasar penulisan: | G71: 3 | H71: TP-3 | I71: =IF([26]AKA!I65="","",[26]AKA!I65) -> Menerapkan adab membaca Al- Qur'an dan adab berdo'a serta mempraktekannya.
C72: Capaian Kompetensi | G72: 4 | H72: TP-4 | I72: =IF([26]AKA!I66="","",[26]AKA!I66) -> Menganalisis kisah keteladanan Nabi Ibrahim a.s serta menyajikan hasil analisis sifat keteladanan Nabi Ibrahim a.s.
G73: 5 | H73: TP-5 | I73: =IF([26]AKA!I67="","",[26]AKA!I67) -> 0
G74: 6 | H74: TP-6 | I74: =IF([26]AKA!I68="","",[26]AKA!I68) -> 0
G75: 7 | H75: TP-7 | I75: =IF([26]AKA!I69="","",[26]AKA!I69) -> 0
...

Sheet QUR'AN HADITS
E2: JANGAN LAKUKAN CUT/MOVE/COPY-PASTE | G2: =Data!C4 -> SMP ISLAM PEGANDON
G3: ="TAHUN PELAJARAN "&Data!$C$20 -> TAHUN PELAJARAN 2024 / 2025
E4: Boleh dengan langkah: copy >> paste special values | G4: =Menu!B17 -> Qur'an - Hadits
G5: ='AQIDAH - AKHLAK'!G5 -> Perolehan Hasil Assesmen Peserta Didik Kelas IX B Semester II ( Genap )
G6: =IF(COUNT(G9:G54)>0,1,"") -> 1 | H6: =IF(COUNT(H9:H54)>0,1,"") -> 1 | I6: =IF(COUNT(I9:I54)>0,1,"") -> 1 | J6: =IF(COUNT(J9:J54)>0,1,"") -> 1 | K6: =IF(COUNT(K9:K54)>0,1,"") -> 1 | L6: =IF(COUNT(L9:L54)>0,1,"") -> 1 | M6: =IF(COUNT(M9:M54)>0,1,"") -> 1 | N6: =IF(COUNT(N9:N54)>0,1,"") -> 1 | ... V6: =IF(COUNT(V9:V54)>0,1,"") -> 1 | W6: =SUM(G6:N6) -> 8 | X6: =SUM(O6:V6) -> 8 | Y6: =SUM(W8:Y8) -> 3
B7: NO | C7: NIS | D7: NISN | E7: NAMA | F7: LP | G7: FORMATIF | O7: SUMATIF | W7: NA FORMATIF | X7: NA SUMATIF | Y7: SUMATIF AKHIR SEM | Z7: NILAI AKHIR | AE7: CAPAIAN KOMPETENSI TERTINGGI (OTOMATIS) | AF7: CAPAIAN KOMPETENSI TERENDAH (OTOMATIS)
G8: =H67 -> TP-1 | H8: =H68 -> TP-2 | I8: =H69 -> TP-3 | J8: =H70 -> TP-4 | K8: =H71 -> TP-5 | L8: =H72 -> TP-6 | M8: =H73 -> TP-7 | N8: =H74 -> TP-8 | O8: SUM-1 | P8: SUM-2 | Q8: SUM-3 | R8: SUM-4 | S8: SUM-5 | T8: SUM-6 | U8: SUM-7 | V8: SUM-8 | W8: 1 | X8: 1 | Y8: 1 | AA8: MAX | AB8: MIN | AC8: Alamat
B9: 1 | C9: =IF(Data!F5="","",Data!F5) -> 2111 | D9: =IF(Data!G5="","",Data!G5) -> 3109336136 | E9: =IF(Data!H5="","",Data!H5) -> AGA ALBANI ZAMIR | F9: =IF(Data!I5="","",Data!I5) -> L | G9: =IF([27]QH!$G$9="","",[27]QH!$G$9) -> 75 | H9: =IF([27]QH!H9="","",[27]QH!H9) -> 78 | I9: =IF([27]QH!I9="","",[27]QH!I9) -> 82.8125 | J9: =IF([27]QH!J9="","",[27]QH!J9) -> 0 | K9: =IF([27]QH!K9="","",[27]QH!K9) -> 0 | L9: =IF([27]QH!L9="","",[27]QH!L9) -> 0 | M9: =IF([27]QH!M9="","",[27]QH!M9) -> 0 | N9: =IF([27]QH!N9="","",[27]QH!N9) -> 0 | O9: =IF([27]QH!O9="","",[27]QH!O9) -> 79.25 | ... Y9: =IF([27]QH!Y9="","",[27]QH!Y9) -> 71 | Z9: =IFERROR(IF(OR(X9="",Y9=""),"",ROUND(((W9*$W$8)+(X9*$X$8)+(Y9*$Y$8))/$Y$6,0)),"") -> 77 | AA9: =MAX(G9:N9) -> 82.8125 | AB9: =MIN(G9:N9) -> 0 | AC9: =MATCH(AA9,G9:N9,0) -> 3 | AD9: =MATCH(AB9,G9:N9,0) -> 4 | AE9: =IFERROR("Menunjukkan penguasaan"& " dalam "&(VLOOKUP(AC9,$G$67:$I$74,3)),"") -> Menunjukkan penguasaan dalam memahai isi kandungan Hadis riwayat Muslim dari abu Yahya, Hadis riwayat Tirmidzi dari Abdullah Bin Abbas, Hadis riwayat Muslim dari Abu Hurairah serta mampu mengamalkan nilai positif dan menghindari nili-nilai negatif sebagaimana keterangan dalamhadis tersebut. | AF9: =IFERROR("Perlu bantuan dalam "&(VLOOKUP(AD9,$G$67:$I$74,3)),"") -> Perlu bantuan dalam 0
B10: =IF(E10="","",B9+1) -> 2 | C10: =IF(Data!F6="","",Data!F6) -> 2100 | D10: =IF(Data!G6="","",Data!G6) -> 0108954708 | E10: =IF(Data!H6="","",Data!H6) -> AKBAR FIRLY MAULANA | F10: =IF(Data!I6="","",Data!I6) -> L | G10: =IF([27]QH!G10="","",[27]QH!G10) -> 82 | H10: =IF([27]QH!H10="","",[27]QH!H10) -> 88 | I10: =IF([27]QH!I10="","",[27]QH!I10) -> 82.9375 | J10: =IF([27]QH!J10="","",[27]QH!J10) -> 0 | K10: =IF([27]QH!K10="","",[27]QH!K10) -> 0 | L10: =IF([27]QH!L10="","",[27]QH!L10) -> 0 | M10: =IF([27]QH!M10="","",[27]QH!M10) -> 0 | N10: =IF([27]QH!N10="","",[27]QH!N10) -> 0 | ... Y10: =IF([27]QH!Y10="","",[27]QH!Y10) -> 67 | Z10: =IFERROR(IF(OR(X10="",Y10=""),"",ROUND(((W10*$W$8)+(X10*$X$8)+(Y10*$Y$8))/$Y$6,0)),"") -> 78 | AA10: =MAX(G10:N10) -> 88 | AB10: =MIN(G10:N10) -> 0 | AC10: =MATCH(AA10,G10:N10,0) -> 2 | AD10: =MATCH(AB10,G10:N10,0) -> 4 | AE10: =IFERROR("Menunjukkan penguasaan"& " dalam "&(VLOOKUP(AC10,$G$67:$I$74,3)),"") -> Menunjukkan penguasaan dalam memahai isi kandungan surat Al Balad, Surat Az Zumar, surat Al Baqarah ayat 153 serta mampu mengamalkan nilai positif dan menghindari nili-nilai negatif sebagaimana keterangan dalam surat dan ayat tersebut | AF10: =IFERROR("Perlu bantuan dalam "&(VLOOKUP(AD10,$G$67:$I$74,3)),"") -> Perlu bantuan dalam 0
B11: =IF(E11="","",B10+1) -> 3 | C11: =IF(Data!F7="","",Data!F7) -> 2085 | D11: =IF(Data!G7="","",Data!G7) -> 0093911821 | E11: =IF(Data!H7="","",Data!H7) -> ALVINO EWALDO | F11: =IF(Data!I7="","",Data!I7) -> L | G11: =IF([27]QH!G11="","",[27]QH!G11) -> 82 | H11: =IF([27]QH!H11="","",[27]QH!H11) -> 80 | I11: =IF([27]QH!I11="","",[27]QH!I11) -> 82.0625 | J11: =IF([27]QH!J11="","",[27]QH!J11) -> 0 | K11: =IF([27]QH!K11="","",[27]QH!K11) -> 0 | L11: =IF([27]QH!L11="","",[27]QH!L11) -> 0 | M11: =IF([27]QH!M11="","",[27]QH!M11) -> 0 | N11: =IF([27]QH!N11="","",[27]QH!N11) -> 0 | ... Y11: =IF([27]QH!Y11="","",[27]QH!Y11) -> 70 | Z11: =IFERROR(IF(OR(X11="",Y11=""),"",ROUND(((W11*$W$8)+(X11*$X$8)+(Y11*$Y$8))/$Y$6,0)),"") -> 78 | AA11: =MAX(G11:N11) -> 82.0625 | AB11: =MIN(G11:N11) -> 0 | AC11: =MATCH(AA11,G11:N11,0) -> 3 | AD11: =MATCH(AB11,G11:N11,0) -> 4 | AE11: =IFERROR("Menunjukkan penguasaan"& " dalam "&(VLOOKUP(AC11,$G$67:$I$74,3)),"") -> Menunjukkan penguasaan dalam memahai isi kandungan Hadis riwayat Muslim dari abu Yahya, Hadis riwayat Tirmidzi dari Abdullah Bin Abbas, Hadis riwayat Muslim dari Abu Hurairah serta mampu mengamalkan nilai positif dan menghindari nili-nilai negatif sebagaimana keterangan dalamhadis tersebut. | AF11: =IFERROR("Perlu bantuan dalam "&(VLOOKUP(AD11,$G$67:$I$74,3)),"") -> Perlu bantuan dalam 0
B12: =IF(E12="","",B11+1) -> 4 | C12: =IF(Data!F8="","",Data!F8) -> 2075 | D12: =IF(Data!G8="","",Data!G8) -> 0098772064 | E12: =IF(Data!H8="","",Data!H8) -> AURA SUCI RAMADHANI | F12: =IF(Data!I8="","",Data!I8) -> P | G12: =IF([27]QH!G12="","",[27]QH!G12) -> 88 | H12: =IF([27]QH!H12="","",[27]QH!H12) -> 90 | I12: =IF([27]QH!I12="","",[27]QH!I12) -> 82 | J12: =IF([27]QH!J12="","",[27]QH!J12) -> 0 | K12: =IF([27]QH!K12="","",[27]QH!K12) -> 0 | L12: =IF([27]QH!L12="","",[27]QH!L12) -> 0 | M12: =IF([27]QH!M12="","",[27]QH!M12) -> 0 | N12: =IF([27]QH!N12="","",[27]QH!N12) -> 0 | ... Y12: =IF([27]QH!Y12="","",[27]QH!Y12) -> 68 | Z12: =IFERROR(IF(OR(X12="",Y12=""),"",ROUND(((W12*$W$8)+(X12*$X$8)+(Y12*$Y$8))/$Y$6,0)),"") -> 79 | AA12: =MAX(G12:N12) -> 90 | AB12: =MIN(G12:N12) -> 0 | AC12: =MATCH(AA12,G12:N12,0) -> 2 | AD12: =MATCH(AB12,G12:N12,0) -> 4 | AE12: =IFERROR("Menunjukkan penguasaan"& " dalam "&(VLOOKUP(AC12,$G$67:$I$74,3)),"") -> Menunjukkan penguasaan dalam memahai isi kandungan surat Al Balad, Surat Az Zumar, surat Al Baqarah ayat 153 serta mampu mengamalkan nilai positif dan menghindari nili-nilai negatif sebagaimana keterangan dalam surat dan ayat tersebut | AF12: =IFERROR("Perlu bantuan dalam "&(VLOOKUP(AD12,$G$67:$I$74,3)),"") -> Perlu bantuan dalam 0
B13: =IF(E13="","",B12+1) -> 5 | C13: =IF(Data!F9="","",Data!F9) -> 2086 | D13: =IF(Data!G9="","",Data!G9) -> 0103867888 | E13: =IF(Data!H9="","",Data!H9) -> AYU SAFNA | F13: =IF(Data!I9="","",Data!I9) -> P | G13: =IF([27]QH!G13="","",[27]QH!G13) -> 80 | H13: =IF([27]QH!H13="","",[27]QH!H13) -> 78 | I13: =IF([27]QH!I13="","",[27]QH!I13) -> 85.25 | J13: =IF([27]QH!J13="","",[27]QH!J13) -> 0 | K13: =IF([27]QH!K13="","",[27]QH!K13) -> 0 | L13: =IF([27]QH!L13="","",[27]QH!L13) -> 0 | M13: =IF([27]QH!M13="","",[27]QH!M13) -> 0 | N13: =IF([27]QH!N13="","",[27]QH!N13) -> 0 | ... Y13: =IF([27]QH!Y13="","",[27]QH!Y13) -> 72 | Z13: =IFERROR(IF(OR(X13="",Y13=""),"",ROUND(((W13*$W$8)+(X13*$X$8)+(Y13*$Y$8))/$Y$6,0)),"") -> 79 | AA13: =MAX(G13:N13) -> 85.25 | AB13: =MIN(G13:N13) -> 0 | AC13: =MATCH(AA13,G13:N13,0) -> 3 | AD13: =MATCH(AB13,G13:N13,0) -> 4 | AE13: =IFERROR("Menunjukkan penguasaan"& " dalam "&(VLOOKUP(AC13,$G$67:$I$74,3)),"") -> Menunjukkan penguasaan dalam memahai isi kandungan Hadis riwayat Muslim dari abu Yahya, Hadis riwayat Tirmidzi dari Abdullah Bin Abbas, Hadis riwayat Muslim dari Abu Hurairah serta mampu mengamalkan nilai positif dan menghindari nili-nilai negatif sebagaimana keterangan dalamhadis tersebut. | AF13: =IFERROR("Perlu bantuan dalam "&(VLOOKUP(AD13,$G$67:$I$74,3)),"") -> Perlu bantuan dalam 0
B14: =IF(E14="","",B13+1) -> 6 | C14: =IF(Data!F10="","",Data!F10) -> 2089 | D14: =IF(Data!G10="","",Data!G10) -> 3098656100 | E14: =IF(Data!H10="","",Data!H10) -> DEWI AYU NURHALIZA | F14: =IF(Data!I10="","",Data!I10) -> P | G14: =IF([27]QH!G14="","",[27]QH!G14) -> 90 | H14: =IF([27]QH!H14="","",[27]QH!H14) -> 98 | I14: =IF([27]QH!I14="","",[27]QH!I14) -> 84.5 | J14: =IF([27]QH!J14="","",[27]QH!J14) -> 0 | K14: =IF([27]QH!K14="","",[27]QH!K14) -> 0 | L14: =IF([27]QH!L14="","",[27]QH!L14) -> 0 | M14: =IF([27]QH!M14="","",[27]QH!M14) -> 0 | N14: =IF([27]QH!N14="","",[27]QH!N14) -> 0 | ... Y14: =IF([27]QH!Y14="","",[27]QH!Y14) -> 87 | Z14: =IFERROR(IF(OR(X14="",Y14=""),"",ROUND(((W14*$W$8)+(X14*$X$8)+(Y14*$Y$8))/$Y$6,0)),"") -> 87 | AA14: =MAX(G14:N14) -> 98 | AB14: =MIN(G14:N14) -> 0 | AC14: =MATCH(AA14,G14:N14,0) -> 2 | AD14: =MATCH(AB14,G14:N14,0) -> 4 | AE14: =IFERROR("Menunjukkan penguasaan"& " dalam "&(VLOOKUP(AC14,$G$67:$I$74,3)),"") -> Menunjukkan penguasaan dalam memahai isi kandungan surat Al Balad, Surat Az Zumar, surat Al Baqarah ayat 153 serta mampu mengamalkan nilai positif dan menghindari nili-nilai negatif sebagaimana keterangan dalam surat dan ayat tersebut | AF14: =IFERROR("Perlu bantuan dalam "&(VLOOKUP(AD14,$G$67:$I$74,3)),"") -> Perlu bantuan dalam 0
B15: =IF(E15="","",B14+1) -> 7 | C15: =IF(Data!F11="","",Data!F11) -> 2115 | D15: =IF(Data!G11="","",Data!G11) -> 0105966564 | E15: =IF(Data!H11="","",Data!H11) -> FADLY ARYA PUTRA | F15: =IF(Data!I11="","",Data!I11) -> L | G15: =IF([27]QH!G15="","",[27]QH!G15) -> 85 | H15: =IF([27]QH!H15="","",[27]QH!H15) -> 90 | I15: =IF([27]QH!I15="","",[27]QH!I15) -> 85.625 | J15: =IF([27]QH!J15="","",[27]QH!J15) -> 0 | K15: =IF([27]QH!K15="","",[27]QH!K15) -> 0 | L15: =IF([27]QH!L15="","",[27]QH!L15) -> 0 | M15: =IF([27]QH!M15="","",[27]QH!M15) -> 0 | N15: =IF([27]QH!N15="","",[27]QH!N15) -> 0 | ... Y15: =IF([27]QH!Y15="","",[27]QH!Y15) -> 87 | Z15: =IFERROR(IF(OR(X15="",Y15=""),"",ROUND(((W15*$W$8)+(X15*$X$8)+(Y15*$Y$8))/$Y$6,0)),"") -> 87 | AA15: =MAX(G15:N15) -> 90 | AB15: =MIN(G15:N15) -> 0 | AC15: =MATCH(AA15,G15:N15,0) -> 2 | AD15: =MATCH(AB15,G15:N15,0) -> 4 | AE15: =IFERROR("Menunjukkan penguasaan"& " dalam "&(VLOOKUP(AC15,$G$67:$I$74,3)),"") -> Menunjukkan penguasaan dalam memahai isi kandungan surat Al Balad, Surat Az Zumar, surat Al Baqarah ayat 153 serta mampu mengamalkan nilai positif dan menghindari nili-nilai negatif sebagaimana keterangan dalam surat dan ayat tersebut | AF15: =IFERROR("Perlu bantuan dalam "&(VLOOKUP(AD15,$G$67:$I$74,3)),"") -> Perlu bantuan dalam 0
B16: =IF(E16="","",B15+1) -> 8 | C16: =IF(Data!F12="","",Data!F12) -> 2082 | D16: =IF(Data!G12="","",Data!G12) -> 3092203012 | E16: =IF(Data!H12="","",Data!H12) -> ILHAM MAULANA | F16: =IF(Data!I12="","",Data!I12) -> L | G16: =IF([27]QH!G16="","",[27]QH!G16) -> 85 | H16: =IF([27]QH!H16="","",[27]QH!H16) -> 90 | I16: =IF([27]QH!I16="","",[27]QH!I16) -> 83.125 | J16: =IF([27]QH!J16="","",[27]QH!J16) -> 0 | K16: =IF([27]QH!K16="","",[27]QH!K16) -> 0 | L16: =IF([27]QH!L16="","",[27]QH!L16) -> 0 | M16: =IF([27]QH!M16="","",[27]QH!M16) -> 0 | N16: =IF([27]QH!N16="","",[27]QH!N16) -> 0 | ... Y16: =IF([27]QH!Y16="","",[27]QH!Y16) -> 75 | Z16: =IFERROR(IF(OR(X16="",Y16=""),"",ROUND(((W16*$W$8)+(X16*$X$8)+(Y16*$Y$8))/$Y$6,0)),"") -> 81 | AA16: =MAX(G16:N16) -> 90 | AB16: =MIN(G16:N16) -> 0 | AC16: =MATCH(AA16,G16:N16,0) -> 2 | AD16: =MATCH(AB16,G16:N16,0) -> 4 | AE16: =IFERROR("Menunjukkan penguasaan"& " dalam "&(VLOOKUP(AC16,$G$67:$I$74,3)),"") -> Menunjukkan penguasaan dalam memahai isi kandungan surat Al Balad, Surat Az Zumar, surat Al Baqarah ayat 153 serta mampu mengamalkan nilai positif dan menghindari nili-nilai negatif sebagaimana keterangan dalam surat dan ayat tersebut | AF16: =IFERROR("Perlu bantuan dalam "&(VLOOKUP(AD16,$G$67:$I$74,3)),"") -> Perlu bantuan dalam 0
B17: =IF(E17="","",B16+1) -> 9 | C17: =IF(Data!F13="","",Data!F13) -> 2088 | D17: =IF(Data!G13="","",Data!G13) -> 3106632526 | E17: =IF(Data!H13="","",Data!H13) -> INDAH VIOLAFITRA | F17: =IF(Data!I13="","",Data!I13) -> P | G17: =IF([27]QH!G17="","",[27]QH!G17) -> 88 | H17: =IF([27]QH!H17="","",[27]QH!H17) -> 85 | I17: =IF([27]QH!I17="","",[27]QH!I17) -> 81.3125 | J17: =IF([27]QH!J17="","",[27]QH!J17) -> 0 | K17: =IF([27]QH!K17="","",[27]QH!K17) -> 0 | L17: =IF([27]QH!L17="","",[27]QH!L17) -> 0 | M17: =IF([27]QH!M17="","",[27]QH!M17) -> 0 | N17: =IF([27]QH!N17="","",[27]QH!N17) -> 0 | ... Y17: =IF([27]QH!Y17="","",[27]QH!Y17) -> 68 | Z17: =IFERROR(IF(OR(X17="",Y17=""),"",ROUND(((W17*$W$8)+(X17*$X$8)+(Y17*$Y$8))/$Y$6,0)),"") -> 78 | AA17: =MAX(G17:N17) -> 88 | AB17: =MIN(G17:N17) -> 0 | AC17: =MATCH(AA17,G17:N17,0) -> 1 | AD17: =MATCH(AB17,G17:N17,0) -> 4 | AE17: =IFERROR("Menunjukkan penguasaan"& " dalam "&(VLOOKUP(AC17,$G$67:$I$74,3)),"") -> Menunjukkan penguasaan dalam Memahami serta mampu mempraktikkan hukum bacaan mad thobi'I, mad wajib muttashil, dan mad jais munfashil dalam surat pendek pilihan | AF17: =IFERROR("Perlu bantuan dalam "&(VLOOKUP(AD17,$G$67:$I$74,3)),"") -> Perlu bantuan dalam 0
B18: =IF(E18="","",B17+1) -> 10 | C18: =IF(Data!F14="","",Data!F14) -> 2109 | D18: =IF(Data!G14="","",Data!G14) -> 3092608052 | E18: =IF(Data!H14="","",Data!H14) -> KEVIN FAHREZI | F18: =IF(Data!I14="","",Data!I14) -> L | G18: =IF([27]QH!G18="","",[27]QH!G18) -> 90 | H18: =IF([27]QH!H18="","",[27]QH!H18) -> 96 | I18: =IF([27]QH!I18="","",[27]QH!I18) -> 86.875 | J18: =IF([27]QH!J18="","",[27]QH!J18) -> 0 | K18: =IF([27]QH!K18="","",[27]QH!K18) -> 0 | L18: =IF([27]QH!L18="","",[27]QH!L18) -> 0 | M18: =IF([27]QH!M18="","",[27]QH!M18) -> 0 | N18: =IF([27]QH!N18="","",[27]QH!N18) -> 0 | ... Y18: =IF([27]QH!Y18="","",[27]QH!Y18) -> 90 | Z18: =IFERROR(IF(OR(X18="",Y18=""),"",ROUND(((W18*$W$8)+(X18*$X$8)+(Y18*$Y$8))/$Y$6,0)),"") -> 89 | AA18: =MAX(G18:N18) -> 96 | AB18: =MIN(G18:N18) -> 0 | AC18: =MATCH(AA18,G18:N18,0) -> 2 | AD18: =MATCH(AB18,G18:N18,0) -> 4 | AE18: =IFERROR("Menunjukkan penguasaan"& " dalam "&(VLOOKUP(AC18,$G$67:$I$74,3)),"") -> Menunjukkan penguasaan dalam memahai isi kandungan surat Al Balad, Surat Az Zumar, surat Al Baqarah ayat 153 serta mampu mengamalkan nilai positif dan menghindari nili-nilai negatif sebagaimana keterangan dalam surat dan ayat tersebut | AF18: =IFERROR("Perlu bantuan dalam "&(VLOOKUP(AD18,$G$67:$I$74,3)),"") -> Perlu bantuan dalam 0
B19: =IF(E19="","",B18+1) -> 11 | C19: =IF(Data!F15="","",Data!F15) -> 2096 | D19: =IF(Data!G15="","",Data!G15) -> 0107523037 | E19: =IF(Data!H15="","",Data!H15) -> M. IZAM AZMI | F19: =IF(Data!I15="","",Data!I15) -> L | G19: =IF([27]QH!G19="","",[27]QH!G19) -> 90 | H19: =IF([27]QH!H19="","",[27]QH!H19) -> 80 | I19: =IF([27]QH!I19="","",[27]QH!I19) -> 85.8125 | J19: =IF([27]QH!J19="","",[27]QH!J19) -> 0 | K19: =IF([27]QH!K19="","",[27]QH!K19) -> 0 | L19: =IF([27]QH!L19="","",[27]QH!L19) -> 0 | M19: =IF([27]QH!M19="","",[27]QH!M19) -> 0 | N19: =IF([27]QH!N19="","",[27]QH!N19) -> 0 | ... Y19: =IF([27]QH!Y19="","",[27]QH!Y19) -> 78 | Z19: =IFERROR(IF(OR(X19="",Y19=""),"",ROUND(((W19*$W$8)+(X19*$X$8)+(Y19*$Y$8))/$Y$6,0)),"") -> 83 | AA19: =MAX(G19:N19) -> 90 | AB19: =MIN(G19:N19) -> 0 | AC19: =MATCH(AA19,G19:N19,0) -> 1 | AD19: =MATCH(AB19,G19:N19,0) -> 4 | AE19: =IFERROR("Menunjukkan penguasaan"& " dalam "&(VLOOKUP(AC19,$G$67:$I$74,3)),"") -> Menunjukkan penguasaan dalam Memahami serta mampu mempraktikkan hukum bacaan mad thobi'I, mad wajib muttashil, dan mad jais munfashil dalam surat pendek pilihan | AF19: =IFERROR("Perlu bantuan dalam "&(VLOOKUP(AD19,$G$67:$I$74,3)),"") -> Perlu bantuan dalam 0
B20: =IF(E20="","",B19+1) -> 12 | C20: =IF(Data!F16="","",Data!F16) -> 2102 | D20: =IF(Data!G16="","",Data!G16) -> 0104675982 | E20: =IF(Data!H16="","",Data!H16) -> M. RAFFY MAULA DANNY | F20: =IF(Data!I16="","",Data!I16) -> L | G20: =IF([27]QH!G20="","",[27]QH!G20) -> 90 | H20: =IF([27]QH!H20="","",[27]QH!H20) -> 96 | I20: =IF([27]QH!I20="","",[27]QH!I20) -> 94.125 | J20: =IF([27]QH!J20="","",[27]QH!J20) -> 0 | K20: =IF([27]QH!K20="","",[27]QH!K20) -> 0 | L20: =IF([27]QH!L20="","",[27]QH!L20) -> 0 | M20: =IF([27]QH!M20="","",[27]QH!M20) -> 0 | N20: =IF([27]QH!N20="","",[27]QH!N20) -> 0 | ... Y20: =IF([27]QH!Y20="","",[27]QH!Y20) -> 95 | Z20: =IFERROR(IF(OR(X20="",Y20=""),"",ROUND(((W20*$W$8)+(X20*$X$8)+(Y20*$Y$8))/$Y$6,0)),"") -> 94 | AA20: =MAX(G20:N20) -> 96 | AB20: =MIN(G20:N20) -> 0 | AC20: =MATCH(AA20,G20:N20,0) -> 2 | AD20: =MATCH(AB20,G20:N20,0) -> 4 | AE20: =IFERROR("Menunjukkan penguasaan"& " dalam "&(VLOOKUP(AC20,$G$67:$I$74,3)),"") -> Menunjukkan penguasaan dalam memahai isi kandungan surat Al Balad, Surat Az Zumar, surat Al Baqarah ayat 153 serta mampu mengamalkan nilai positif dan menghindari nili-nilai negatif sebagaimana keterangan dalam surat dan ayat tersebut | AF20: =IFERROR("Perlu bantuan dalam "&(VLOOKUP(AD20,$G$67:$I$74,3)),"") -> Perlu bantuan dalam 0
B21: =IF(E21="","",B20+1) -> 13 | C21: =IF(Data!F17="","",Data!F17) -> 2090 | D21: =IF(Data!G17="","",Data!G17) -> 3090477421 | E21: =IF(Data!H17="","",Data!H17) -> MARWAH RIANA | F21: =IF(Data!I17="","",Data!I17) -> P | G21: =IF([27]QH!G21="","",[27]QH!G21) -> 95 | H21: =IF([27]QH!H21="","",[27]QH!H21) -> 90 | I21: =IF([27]QH!I21="","",[27]QH!I21) -> 84.25 | J21: =IF([27]QH!J21="","",[27]QH!J21) -> 0 | K21: =IF([27]QH!K21="","",[27]QH!K21) -> 0 | L21: =IF([27]QH!L21="","",[27]QH!L21) -> 0 | M21: =IF([27]QH!M21="","",[27]QH!M21) -> 0 | N21: =IF([27]QH!N21="","",[27]QH!N21) -> 0 | ... Y21: =IF([27]QH!Y21="","",[27]QH!Y21) -> 78 | Z21: =IFERROR(IF(OR(X21="",Y21=""),"",ROUND(((W21*$W$8)+(X21*$X$8)+(Y21*$Y$8))/$Y$6,0)),"") -> 84 | AA21: =MAX(G21:N21) -> 95 | AB21: =MIN(G21:N21) -> 0 | AC21: =MATCH(AA21,G21:N21,0) -> 1 | AD21: =MATCH(AB21,G21:N21,0) -> 4 | AE21: =IFERROR("Menunjukkan penguasaan"& " dalam "&(VLOOKUP(AC21,$G$67:$I$74,3)),"") -> Menunjukkan penguasaan dalam Memahami serta mampu mempraktikkan hukum bacaan mad thobi'I, mad wajib muttashil, dan mad jais munfashil dalam surat pendek pilihan | AF21: =IFERROR("Perlu bantuan dalam "&(VLOOKUP(AD21,$G$67:$I$74,3)),"") -> Perlu bantuan dalam 0
... B50: =IF(E50="","",B49+1) | C50: =IF(Data!F46="","",Data!F46) | D50: =IF(Data!G46="","",Data!G46) | E50: =IF(Data!H46="","",Data!H46) | F50: =IF(Data!I46="","",Data!I46) | G50: =IF([27]QH!G50="","",[27]QH!G50) -> 0 | H50: =IF([27]QH!H50="","",[27]QH!H50) -> 0 | I50: =IF([27]QH!I50="","",[27]QH!I50) -> 0 | J50: =IF([27]QH!J50="","",[27]QH!J50) -> 0 | K50: =IF([27]QH!K50="","",[27]QH!K50) -> 0 | L50: =IF([27]QH!L50="","",[27]QH!L50) -> 0 | M50: =IF([27]QH!M50="","",[27]QH!M50) -> 0 | N50: =IF([27]QH!N50="","",[27]QH!N50) -> 0 | ... Y50: =IF([27]QH!Y50="","",[27]QH!Y50) -> 0 | Z50: =IFERROR(IF(OR(X50="",Y50=""),"",ROUND(((W50*$W$8)+(X50*$X$8)+(Y50*$Y$8))/$Y$6,0)),"") | AA50: =MAX(G50:N50) -> 0 | AB50: =MIN(G50:N50) -> 0 | AC50: =MATCH(AA50,G50:N50,0) -> 1 | AD50: =MATCH(AB50,G50:N50,0) -> 1 | AE50: =IFERROR("Menunjukkan penguasaan"& " dalam "&(VLOOKUP(AC50,$G$67:$I$74,3)),"") -> Menunjukkan penguasaan dalam Memahami serta mampu mempraktikkan hukum bacaan mad thobi'I, mad wajib muttashil, dan mad jais munfashil dalam surat pendek pilihan | AF50: =IFERROR("Perlu bantuan dalam "&(VLOOKUP(AD50,$G$67:$I$74,3)),"") -> Perlu bantuan dalam Memahami serta mampu mempraktikkan hukum bacaan mad thobi'I, mad wajib muttashil, dan mad jais munfashil dalam surat pendek pilihan
B51: =IF(E51="","",B50+1) | C51: =IF(Data!F47="","",Data!F47) | D51: =IF(Data!G47="","",Data!G47) | E51: =IF(Data!H47="","",Data!H47) | F51: =IF(Data!I47="","",Data!I47) | G51: =IF([27]QH!G51="","",[27]QH!G51) -> 0 | H51: =IF([27]QH!H51="","",[27]QH!H51) -> 0 | I51: =IF([27]QH!I51="","",[27]QH!I51) -> 0 | J51: =IF([27]QH!J51="","",[27]QH!J51) -> 0 | K51: =IF([27]QH!K51="","",[27]QH!K51) -> 0 | L51: =IF([27]QH!L51="","",[27]QH!L51) -> 0 | M51: =IF([27]QH!M51="","",[27]QH!M51) -> 0 | N51: =IF([27]QH!N51="","",[27]QH!N51) -> 0 | ... V51: =IF([27]QH!V51="","",[27]QH!V51) -> 0 | W51: =IF(COUNT(G51:N51)<2,"",ROUND(SUM(G51:N51)/$W$6,0)) -> 0 | X51: =IF(COUNT(O51:V51)<2,"",ROUND(SUM(O51:V51)/$X$6,0)) -> 0 | Y51: =IF([27]QH!Y51="","",[27]QH!Y51) -> 0 | Z51: =IFERROR(IF(OR(X51="",Y51=""),"",ROUND(((W51*$W$8)+(X51*$X$8)+(Y51*$Y$8))/$Y$6,0)),"") -> 0 | AA51: =MAX(G51:N51) -> 0 | AB51: =MIN(G51:N51) -> 0 | AC51: =MATCH(AA51,G51:N51,0) -> 1 | AD51: =MATCH(AB51,G51:N51,0) -> 1 | AE51: =IFERROR("Menunjukkan penguasaan"& " dalam "&(VLOOKUP(AC51,$G$67:$I$74,3)),"") -> Menunjukkan penguasaan dalam Memahami serta mampu mempraktikkan hukum bacaan mad thobi'I, mad wajib muttashil, dan mad jais munfashil dalam surat pendek pilihan | AF51: =IFERROR("Perlu bantuan dalam "&(VLOOKUP(AD51,$G$67:$I$74,3)),"") -> Perlu bantuan dalam Memahami serta mampu mempraktikkan hukum bacaan mad thobi'I, mad wajib muttashil, dan mad jais munfashil dalam surat pendek pilihan
