Workbook
Name ___kkm1: [1]PENGETAHUAN!$F$69
Name ___kkm2: [1]PENGETAHUAN!$L$69
Name ___kkm3: [1]PENGETAHUAN!$R$69
Name ___kkm4: [1]PENGETAHUAN!$X$69
Name ___kkm5: [2]PENGETAHUAN!#REF!
Name ___kkm5: [2]PENGETAHUAN!#REF!
Name ___kkm5: [2]PENGETAHUAN!#REF!
Name ___kkm5: [2]PENGETAHUAN!#REF!
Name ___kkm5: [2]PENGETAHUAN!#REF!
Name ___kkm5: [2]PENGETAHUAN!#REF!
Name ___kkm5: [2]PENGETAHUAN!#REF!
Name ___kkm5: [2]PENGETAHUAN!#REF!
Name ___kkm5: [2]PENGETAHUAN!#REF!
Name ___kkm5: [2]PENGETAHUAN!#REF!
Name ___kkm5: [2]PENGETAHUAN!#REF!
Name ___kkm5: [2]PENGETAHUAN!#REF!
Name ___kkm5: [2]PENGETAHUAN!#REF!
Name ___kkm5: [2]PENGETAHUAN!#REF!
Name ___kkm5: [2]PENGETAHUAN!#REF!
Name ___kkm5: [2]PENGETAHUAN!#REF!
Name ___kkm5: [2]PENGETAHUAN!#REF!
Name __kkm1: [1]PENGETAHUAN!$F$69
Name __kkm2: [1]PENGETAHUAN!$L$69
Name __kkm3: [1]PENGETAHUAN!$R$69
Name __kkm4: [1]PENGETAHUAN!$X$69
Name __kkm5: [3]PENGETAHUAN!#REF!
Name __kkm5: [3]PENGETAHUAN!#REF!
Name __kkm5: [3]PENGETAHUAN!#REF!
Name __kkm5: [3]PENGETAHUAN!#REF!
Name __kkm5: [3]PENGETAHUAN!#REF!
Name __kkm5: [3]PENGETAHUAN!#REF!
Name __kkm5: [3]PENGETAHUAN!#REF!
Name __kkm5: [3]PENGETAHUAN!#REF!
Name __kkm5: [3]PENGETAHUAN!#REF!
Name __kkm5: [3]PENGETAHUAN!#REF!
Name __kkm5: [3]PENGETAHUAN!#REF!
Name __kkm5: [3]PENGETAHUAN!#REF!
Name __kkm5: [3]PENGETAHUAN!#REF!
Name __kkm5: [3]PENGETAHUAN!#REF!
Name __kkm5: [3]PENGETAHUAN!#REF!
Name __kkm5: [3]PENGETAHUAN!#REF!
Name __kkm5: [3]PENGETAHUAN!#REF!
Name _7A: #REF!
Name _7A: #REF!
Name _7A: #REF!
Name _7A: #REF!
Name _7A: #REF!
Name _7A: #REF!
Name _7A: #REF!
Name _7A: #REF!
Name _7A: #REF!
Name _7A: #REF!
Name _7A: #REF!
Name _7A: #REF!
Name _7A: #REF!
Name _7A: #REF!
Name _7A: #REF!
Name _7A: #REF!
Name _7A: #REF!
Name _kkm1: [4]PENGETAHUAN!$F$69

Sheet Menu
B1: =Data!B2 -> APLIKASI RAPOR KURIKULUM MERDEKA FASE " D " | K1: =Data!C4 -> SMP ISLAM PEGANDON
B2: Sesuai Panduan Pembelajaran dan Asesmen Pusmenjar 2021
B3: MATA PELAJARAN | C3: KODE MAPEL
B4: Pendidikan Agama dan Budi Pekerti | C4: PA | U4: 1 | V4: 72 | W4: =V4 -> 72 | X4: =IFERROR(SMALL($W$4:$W$34,U4),"") -> 72
B5: Pendidikan Pancasila dan Kewarganegaraan | C5: PPKn | U5: 2 | V5: 72 | W5: =IF(V5=V4,"",V5) | X5: =IFERROR(SMALL($W$4:$W$34,U5),"")
B6: Bahasa Indonesia | C6: BIND | U6: 3 | V6: =IFERROR(SMALL(#REF!,U6),"") | W6: =IF(V6=V5,"",V6) | X6: =IFERROR(SMALL($W$4:$W$34,U6),"")
B7: Matematika | C7: MAT | U7: 4 | V7: =IFERROR(SMALL(#REF!,U7),"") | W7: =IF(V7=V6,"",V7) | X7: =IFERROR(SMALL($W$4:$W$34,U7),"")
B8: Ilmu Pengetahuan Alam | C8: IPA | U8: 5 | V8: =IFERROR(SMALL(#REF!,U8),"") | W8: =IF(V8=V7,"",V8) | X8: =IFERROR(SMALL($W$4:$W$34,U8),"")
B9: Ilmu Pengetahuan Sosial | C9: IPS | U9: 6 | V9: =IFERROR(SMALL(#REF!,U9),"") | W9: =IF(V9=V8,"",V9) | X9: =IFERROR(SMALL($W$4:$W$34,U9),"")
B10: Bahasa Inggris | C10: BING | U10: 7 | V10: =IFERROR(SMALL(#REF!,U10),"") | W10: =IF(V10=V9,"",V10) | X10: =IFERROR(SMALL($W$4:$W$34,U10),"")
B11: Pendidikan Jasmani Olahraga dan Kesehatan | C11: PJOK | U11: 8 | V11: =IFERROR(SMALL(#REF!,U11),"") | W11: =IF(V11=V10,"",V11) | X11: =IFERROR(SMALL($W$4:$W$34,U11),"")
B12: Informatika | C12: INFTK | U12: 9 | V12: =IFERROR(SMALL(#REF!,U12),"") | W12: =IF(V12=V11,"",V12) | X12: =IFERROR(SMALL($W$4:$W$34,U12),"")
B13: MAPEL PILIHAN (SENI atau Prakarya) | U13: 10 | V13: =IFERROR(SMALL(#REF!,U13),"") | W13: =IF(V13=V12,"",V13) | X13: =IFERROR(SMALL($W$4:$W$34,U13),"")
B14: Seni dan Prakarya | C14: =IFERROR(VLOOKUP(B14,Menu!$B$28:$C$35,Menu!C35),"") -> S Prakarya | U14: 11 | V14: =IFERROR(SMALL(#REF!,U14),"") | W14: =IF(V14=V13,"",V14)
B15: Muatan Lokal ( Bahasa Jawa ) | C15: BJW | U15: 12 | V15: =IFERROR(SMALL(#REF!,U15),"") | W15: =IF(V15=V14,"",V15)
B16: Aqidah - Akhlak | C16: AKA | U16: 13 | V16: =IFERROR(SMALL(#REF!,U16),"") | W16: =IF(V16=V15,"",V16)
B17: Qur'an - Hadits | C17: QH | U17: 14 | V17: =IFERROR(SMALL(#REF!,U17),"") | W17: =IF(V17=V16,"",V17)
B18: Fiqih | C18: FQH | U18: 15 | V18: =IFERROR(SMALL(#REF!,U18),"") | W18: =IF(V18=V17,"",V18)
B19: Sejarah Kebudayaan Islam | C19: SKI | U19: 16 | V19: =IFERROR(SMALL(#REF!,U19),"") | W19: =IF(V19=V18,"",V19)
B20: Bahasa Arab | C20: BA
B21: Ke NU an | C21: NU
B22: Aplikasi Rapor ini hanya dapat digunakan untuk SMP Islam Pegandon !
B23: Karena mapel yang diajarkan berbeda.
B24: By : ( Guru SMP Islam Pegandon )
B28: MAPEL PILIHAN SENI ATAU PRAKARYA | C28: KODE MAPEL
B29: Prakarya | C29: Prakarya
B30: Seni dan Prakarya | C30: S Prakarya
B31: Seni Musik | C31: S Musik
B32: Seni Rupa | C32: S Rupa
B33: Seni Tari | C33: S Tari
B34: Seni Teater | C34: S Teater | U34: 17 | V34: =IFERROR(SMALL(#REF!,U34),"") | W34: =IF(V34=V19,"",V34)
B35: 1 | C35: 2

Sheet AQIDAH - AKHLAK
E2: JANGAN LAKUKAN CUT/MOVE/COPY-PASTE | G2: =Data!C4 -> SMP ISLAM PEGANDON
G3: ="TAHUN PELAJARAN "&Data!$C$20 -> TAHUN PELAJARAN 2024 / 2025
E4: Boleh dengan langkah: copy >> paste special values | G4: =Menu!B16 -> Aqidah - Akhlak
G5: ="Perolehan Hasil Assesmen Peserta Didik "&Data!B17&" "&Data!C17&" Semester II ( Genap )" -> Perolehan Hasil Assesmen Peserta Didik Kelas IX B Semester II ( Genap )
G6: =IF(COUNT(G9:G56)>0,1,"") -> 1 | H6: =IF(COUNT(H9:H56)>0,1,"") -> 1 | I6: =IF(COUNT(I9:I56)>0,1,"") -> 1 | J6: =IF(COUNT(J9:J56)>0,1,"") -> 1 | K6: =IF(COUNT(K9:K56)>0,1,"") -> 1 | L6: =IF(COUNT(L9:L56)>0,1,"") -> 1 | M6: =IF(COUNT(M9:M56)>0,1,"") -> 1 | N6: =IF(COUNT(N9:N56)>0,1,"") -> 1 | ... V6: =IF(COUNT(V9:V56)>0,1,"") -> 1 | W6: =SUM(G6:N6) -> 8 | X6: =SUM(O6:V6) -> 8 | Y6: =SUM(W8:Y8) -> 3
B7: NO | C7: NIS | D7: NISN | E7: NAMA | F7: LP | G7: FORMATIF | O7: SUMATIF | W7: NA FORMATIF | X7: NA SUMATIF | Y7: SUMATIF AKHIR SEM | Z7: NILAI AKHIR | AE7: CAPAIAN KOMPETENSI TERTINGGI (OTOMATIS) | AF7: CAPAIAN KOMPETENSI TERENDAH (OTOMATIS)
G8: =H69 -> TP-1 | H8: =H70 -> TP-2 | I8: =H71 -> TP-3 | J8: =H72 -> TP-4 | K8: =H73 -> TP-5 | L8: =H74 -> TP-6 | M8: =H75 -> TP-7 | N8: =H76 -> TP-8 | O8: SUM-1 | P8: SUM-2 | Q8: SUM-3 | R8: SUM-4 | S8: SUM-5 | T8: SUM-6 | U8: SUM-7 | V8: SUM-8 | W8: 1 | X8: 1 | Y8: 1 | AA8: MAX | AB8: MIN | AC8: Alamat
B9: 1 | C9: =IF(Data!F5="","",Data!F5) -> 2111 | D9: =IF(Data!G5="","",Data!G5) -> 3109336136 | E9: =IF(Data!H5="","",Data!H5) -> AGA ALBANI ZAMIR | F9: =IF(Data!I5="","",Data!I5) -> L | G9: =IF([26]AKA!G9="","",[26]AKA!G9) -> 82 | H9: =IF([26]AKA!H9="","",[26]AKA!H9) -> 84 | I9: =IF([26]AKA!I9="","",[26]AKA!I9) -> 0 | J9: =IF([26]AKA!J9="","",[26]AKA!J9) -> 0 | K9: =IF([26]AKA!K9="","",[26]AKA!K9) -> 0 | L9: =IF([26]AKA!L9="","",[26]AKA!L9) -> 0 | M9: =IF([26]AKA!M9="","",[26]AKA!M9) -> 0 | N9: =IF([26]AKA!N9="","",[26]AKA!N9) -> 0 | ... Y9: =IF([26]AKA!Y9="","",[26]AKA!Y9) -> 77 | Z9: =IFERROR(IF(OR(X9="",Y9=""),"",ROUND(((W9*$W$8)+(X9*$X$8)+(Y9*$Y$8))/$Y$6,0)),"") -> 81 | AA9: =MAX(G9:N9) -> 84 | AB9: =MIN(G9:N9) -> 0 | AC9: =MATCH(AA9,G9:N9,0) -> 2 | AD9: =MATCH(AB9,G9:N9,0) -> 3 | AE9: =IFERROR("Menunjukkan penguasaan"& " dalam "&(VLOOKUP(AC9,$G$69:$I$76,3)),"") -> Menunjukkan penguasaan dalam Memahami pengertian , dalial, ciri-ciri dan dampak negatif sifat riya' dan nifaq serta Menyajikan contoh cara menghindari perilaku riya dan nifaq. | AF9: =IFERROR("Perlu bantuan dalam "&(VLOOKUP(AD9,$G$69:$I$76,3)),"") -> Perlu bantuan dalam Menerapkan adab membaca Al- Qur'an dan adab berdo'a serta mempraktekannya.
B10: =IF(E10="","",B9+1) -> 2 | C10: =IF(Data!F6="","",Data!F6) -> 2100 | D10: =IF(Data!G6="","",Data!G6) -> 0108954708 | E10: =IF(Data!H6="","",Data!H6) -> AKBAR FIRLY MAULANA | F10: =IF(Data!I6="","",Data!I6) -> L | G10: =IF([26]AKA!G10="","",[26]AKA!G10) -> 85 | H10: =IF([26]AKA!H10="","",[26]AKA!H10) -> 88 | I10: =IF([26]AKA!I10="","",[26]AKA!I10) -> 0 | J10: =IF([26]AKA!J10="","",[26]AKA!J10) -> 0 | K10: =IF([26]AKA!K10="","",[26]AKA!K10) -> 0 | L10: =IF([26]AKA!L10="","",[26]AKA!L10) -> 0 | M10: =IF([26]AKA!M10="","",[26]AKA!M10) -> 0 | N10: =IF([26]AKA!N10="","",[26]AKA!N10) -> 0 | ... Y10: =IF([26]AKA!Y10="","",[26]AKA!Y10) -> 77 | Z10: =IFERROR(IF(OR(X10="",Y10=""),"",ROUND(((W10*$W$8)+(X10*$X$8)+(Y10*$Y$8))/$Y$6,0)),"") -> 84 | AA10: =MAX(G10:N10) -> 88 | AB10: =MIN(G10:N10) -> 0 | AC10: =MATCH(AA10,G10:N10,0) -> 2 | AD10: =MATCH(AB10,G10:N10,0) -> 3 | AE10: =IFERROR("Menunjukkan penguasaan"& " dalam "&(VLOOKUP(AC10,$G$69:$I$76,3)),"") -> Menunjukkan penguasaan dalam Memahami pengertian , dalial, ciri-ciri dan dampak negatif sifat riya' dan nifaq serta Menyajikan contoh cara menghindari perilaku riya dan nifaq. | AF10: =IFERROR("Perlu bantuan dalam "&(VLOOKUP(AD10,$G$69:$I$76,3)),"") -> Perlu bantuan dalam Menerapkan adab membaca Al- Qur'an dan adab berdo'a serta mempraktekannya.
B11: =IF(E11="","",B10+1) -> 3 | C11: =IF(Data!F7="","",Data!F7) -> 2085 | D11: =IF(Data!G7="","",Data!G7) -> 0093911821 | E11: =IF(Data!H7="","",Data!H7) -> ALVINO EWALDO | F11: =IF(Data!I7="","",Data!I7) -> L | G11: =IF([26]AKA!G11="","",[26]AKA!G11) -> 85 | H11: =IF([26]AKA!H11="","",[26]AKA!H11) -> 84 | I11: =IF([26]AKA!I11="","",[26]AKA!I11) -> 0 | J11: =IF([26]AKA!J11="","",[26]AKA!J11) -> 0 | K11: =IF([26]AKA!K11="","",[26]AKA!K11) -> 0 | L11: =IF([26]AKA!L11="","",[26]AKA!L11) -> 0 | M11: =IF([26]AKA!M11="","",[26]AKA!M11) -> 0 | N11: =IF([26]AKA!N11="","",[26]AKA!N11) -> 0 | ... Y11: =IF([26]AKA!Y11="","",[26]AKA!Y11) -> 78 | Z11: =IFERROR(IF(OR(X11="",Y11=""),"",ROUND(((W11*$W$8)+(X11*$X$8)+(Y11*$Y$8))/$Y$6,0)),"") -> 84 | AA11: =MAX(G11:N11) -> 85 | AB11: =MIN(G11:N11) -> 0 | AC11: =MATCH(AA11,G11:N11,0) -> 1 | AD11: =MATCH(AB11,G11:N11,0) -> 3 | AE11: =IFERROR("Menunjukkan penguasaan"& " dalam "&(VLOOKUP(AC11,$G$69:$I$76,3)),"") -> Menunjukkan penguasaan dalam Menganalisis tugas dan sifat malaikat Allah serta makhluk gaib lainnya dan Menyajikan hasil analisis keterkaitan sifat malaikat dan syaitan dengan perilaku manusia. | AF11: =IFERROR("Perlu bantuan dalam "&(VLOOKUP(AD11,$G$69:$I$76,3)),"") -> Perlu bantuan dalam Menerapkan adab membaca Al- Qur'an dan adab berdo'a serta mempraktekannya.
B12: =IF(E12="","",B11+1) -> 4 | C12: =IF(Data!F8="","",Data!F8) -> 2075 | D12: =IF(Data!G8="","",Data!G8) -> 0098772064 | E12: =IF(Data!H8="","",Data!H8) -> AURA SUCI RAMADHANI | F12: =IF(Data!I8="","",Data!I8) -> P | G12: =IF([26]AKA!G12="","",[26]AKA!G12) -> 84 | H12: =IF([26]AKA!H12="","",[26]AKA!H12) -> 86 | I12: =IF([26]AKA!I12="","",[26]AKA!I12) -> 0 | J12: =IF([26]AKA!J12="","",[26]AKA!J12) -> 0 | K12: =IF([26]AKA!K12="","",[26]AKA!K12) -> 0 | L12: =IF([26]AKA!L12="","",[26]AKA!L12) -> 0 | M12: =IF([26]AKA!M12="","",[26]AKA!M12) -> 0 | N12: =IF([26]AKA!N12="","",[26]AKA!N12) -> 0 | ... Y12: =IF([26]AKA!Y12="","",[26]AKA!Y12) -> 80 | Z12: =IFERROR(IF(OR(X12="",Y12=""),"",ROUND(((W12*$W$8)+(X12*$X$8)+(Y12*$Y$8))/$Y$6,0)),"") -> 83 | AA12: =MAX(G12:N12) -> 86 | AB12: =MIN(G12:N12) -> 0 | AC12: =MATCH(AA12,G12:N12,0) -> 2 | AD12: =MATCH(AB12,G12:N12,0) -> 3 | AE12: =IFERROR("Menunjukkan penguasaan"& " dalam "&(VLOOKUP(AC12,$G$69:$I$76,3)),"") -> Menunjukkan penguasaan dalam Memahami pengertian , dalial, ciri-ciri dan dampak negatif sifat riya' dan nifaq serta Menyajikan contoh cara menghindari perilaku riya dan nifaq. | AF12: =IFERROR("Perlu bantuan dalam "&(VLOOKUP(AD12,$G$69:$I$76,3)),"") -> Perlu bantuan dalam Menerapkan adab membaca Al- Qur'an dan adab berdo'a serta mempraktekannya.
B13: =IF(E13="","",B12+1) -> 5 | C13: =IF(Data!F9="","",Data!F9) -> 2086 | D13: =IF(Data!G9="","",Data!G9) -> 0103867888 | E13: =IF(Data!H9="","",Data!H9) -> AYU SAFNA | F13: =IF(Data!I9="","",Data!I9) -> P | G13: =IF([26]AKA!G13="","",[26]AKA!G13) -> 84 | H13: =IF([26]AKA!H13="","",[26]AKA!H13) -> 87 | I13: =IF([26]AKA!I13="","",[26]AKA!I13) -> 0 | J13: =IF([26]AKA!J13="","",[26]AKA!J13) -> 0 | K13: =IF([26]AKA!K13="","",[26]AKA!K13) -> 0 | L13: =IF([26]AKA!L13="","",[26]AKA!L13) -> 0 | M13: =IF([26]AKA!M13="","",[26]AKA!M13) -> 0 | N13: =IF([26]AKA!N13="","",[26]AKA!N13) -> 0 | ... Y13: =IF([26]AKA!Y13="","",[26]AKA!Y13) -> 78 | Z13: =IFERROR(IF(OR(X13="",Y13=""),"",ROUND(((W13*$W$8)+(X13*$X$8)+(Y13*$Y$8))/$Y$6,0)),"") -> 83 | AA13: =MAX(G13:N13) -> 87 | AB13: =MIN(G13:N13) -> 0 | AC13: =MATCH(AA13,G13:N13,0) -> 2 | AD13: =MATCH(AB13,G13:N13,0) -> 3 | AE13: =IFERROR("Menunjukkan penguasaan"& " dalam "&(VLOOKUP(AC13,$G$69:$I$76,3)),"") -> Menunjukkan penguasaan dalam Memahami pengertian , dalial, ciri-ciri dan dampak negatif sifat riya' dan nifaq serta Menyajikan contoh cara menghindari perilaku riya dan nifaq. | AF13: =IFERROR("Perlu bantuan dalam "&(VLOOKUP(AD13,$G$69:$I$76,3)),"") -> Perlu bantuan dalam Menerapkan adab membaca Al- Qur'an dan adab berdo'a serta mempraktekannya.
B14: =IF(E14="","",B13+1) -> 6 | C14: =IF(Data!F10="","",Data!F10) -> 2089 | D14: =IF(Data!G10="","",Data!G10) -> 3098656100 | E14: =IF(Data!H10="","",Data!H10) -> DEWI AYU NURHALIZA | F14: =IF(Data!I10="","",Data!I10) -> P | G14: =IF([26]AKA!G14="","",[26]AKA!G14) -> 83 | H14: =IF([26]AKA!H14="","",[26]AKA!H14) -> 85 | I14: =IF([26]AKA!I14="","",[26]AKA!I14) -> 0 | J14: =IF([26]AKA!J14="","",[26]AKA!J14) -> 0 | K14: =IF([26]AKA!K14="","",[26]AKA!K14) -> 0 | L14: =IF([26]AKA!L14="","",[26]AKA!L14) -> 0 | M14: =IF([26]AKA!M14="","",[26]AKA!M14) -> 0 | N14: =IF([26]AKA!N14="","",[26]AKA!N14) -> 0 | ... Y14: =IF([26]AKA!Y14="","",[26]AKA!Y14) -> 77 | Z14: =IFERROR(IF(OR(X14="",Y14=""),"",ROUND(((W14*$W$8)+(X14*$X$8)+(Y14*$Y$8))/$Y$6,0)),"") -> 81 | AA14: =MAX(G14:N14) -> 85 | AB14: =MIN(G14:N14) -> 0 | AC14: =MATCH(AA14,G14:N14,0) -> 2 | AD14: =MATCH(AB14,G14:N14,0) -> 3 | AE14: =IFERROR("Menunjukkan penguasaan"& " dalam "&(VLOOKUP(AC14,$G$69:$I$76,3)),"") -> Menunjukkan penguasaan dalam Memahami pengertian , dalial, ciri-ciri dan dampak negatif sifat riya' dan nifaq serta Menyajikan contoh cara menghindari perilaku riya dan nifaq. | AF14: =IFERROR("Perlu bantuan dalam "&(VLOOKUP(AD14,$G$69:$I$76,3)),"") -> Perlu bantuan dalam Menerapkan adab membaca Al- Qur'an dan adab berdo'a serta mempraktekannya.
B15: =IF(E15="","",B14+1) -> 7 | C15: =IF(Data!F11="","",Data!F11) -> 2115 | D15: =IF(Data!G11="","",Data!G11) -> 0105966564 | E15: =IF(Data!H11="","",Data!H11) -> FADLY ARYA PUTRA | F15: =IF(Data!I11="","",Data!I11) -> L | G15: =IF([26]AKA!G15="","",[26]AKA!G15) -> 85 | H15: =IF([26]AKA!H15="","",[26]AKA!H15) -> 85 | I15: =IF([26]AKA!I15="","",[26]AKA!I15) -> 0 | J15: =IF([26]AKA!J15="","",[26]AKA!J15) -> 0 | K15: =IF([26]AKA!K15="","",[26]AKA!K15) -> 0 | L15: =IF([26]AKA!L15="","",[26]AKA!L15) -> 0 | M15: =IF([26]AKA!M15="","",[26]AKA!M15) -> 0 | N15: =IF([26]AKA!N15="","",[26]AKA!N15) -> 0 | ... Y15: =IF([26]AKA!Y15="","",[26]AKA!Y15) -> 76 | Z15: =IFERROR(IF(OR(X15="",Y15=""),"",ROUND(((W15*$W$8)+(X15*$X$8)+(Y15*$Y$8))/$Y$6,0)),"") -> 82 | AA15: =MAX(G15:N15) -> 85 | AB15: =MIN(G15:N15) -> 0 | AC15: =MATCH(AA15,G15:N15,0) -> 1 | AD15: =MATCH(AB15,G15:N15,0) -> 3 | AE15: =IFERROR("Menunjukkan penguasaan"& " dalam "&(VLOOKUP(AC15,$G$69:$I$76,3)),"") -> Menunjukkan penguasaan dalam Menganalisis tugas dan sifat malaikat Allah serta makhluk gaib lainnya dan Menyajikan hasil analisis keterkaitan sifat malaikat dan syaitan dengan perilaku manusia. | AF15: =IFERROR("Perlu bantuan dalam "&(VLOOKUP(AD15,$G$69:$I$76,3)),"") -> Perlu bantuan dalam Menerapkan adab membaca Al- Qur'an dan adab berdo'a serta mempraktekannya.
B16: =IF(E16="","",B15+1) -> 8 | C16: =IF(Data!F12="","",Data!F12) -> 2082 | D16: =IF(Data!G12="","",Data!G12) -> 3092203012 | E16: =IF(Data!H12="","",Data!H12) -> ILHAM MAULANA | F16: =IF(Data!I12="","",Data!I12) -> L | G16: =IF([26]AKA!G16="","",[26]AKA!G16) -> 78 | H16: =IF([26]AKA!H16="","",[26]AKA!H16) -> 79 | I16: =IF([26]AKA!I16="","",[26]AKA!I16) -> 0 | J16: =IF([26]AKA!J16="","",[26]AKA!J16) -> 0 | K16: =IF([26]AKA!K16="","",[26]AKA!K16) -> 0 | L16: =IF([26]AKA!L16="","",[26]AKA!L16) -> 0 | M16: =IF([26]AKA!M16="","",[26]AKA!M16) -> 0 | N16: =IF([26]AKA!N16="","",[26]AKA!N16) -> 0 | ... Y16: =IF([26]AKA!Y16="","",[26]AKA!Y16) -> 75 | Z16: =IFERROR(IF(OR(X16="",Y16=""),"",ROUND(((W16*$W$8)+(X16*$X$8)+(Y16*$Y$8))/$Y$6,0)),"") -> 77 | AA16: =MAX(G16:N16) -> 79 | AB16: =MIN(G16:N16) -> 0 | AC16: =MATCH(AA16,G16:N16,0) -> 2 | AD16: =MATCH(AB16,G16:N16,0) -> 3 | AE16: =IFERROR("Menunjukkan penguasaan"& " dalam "&(VLOOKUP(AC16,$G$69:$I$76,3)),"") -> Menunjukkan penguasaan dalam Memahami pengertian , dalial, ciri-ciri dan dampak negatif sifat riya' dan nifaq serta Menyajikan contoh cara menghindari perilaku riya dan nifaq. | AF16: =IFERROR("Perlu bantuan dalam "&(VLOOKUP(AD16,$G$69:$I$76,3)),"") -> Perlu bantuan dalam Menerapkan adab membaca Al- Qur'an dan adab berdo'a serta mempraktekannya.
B17: =IF(E17="","",B16+1) -> 9 | C17: =IF(Data!F13="","",Data!F13) -> 2088 | D17: =IF(Data!G13="","",Data!G13) -> 3106632526 | E17: =IF(Data!H13="","",Data!H13) -> INDAH VIOLAFITRA | F17: =IF(Data!I13="","",Data!I13) -> P | G17: =IF([26]AKA!G17="","",[26]AKA!G17) -> 85 | H17: =IF([26]AKA!H17="","",[26]AKA!H17) -> 88 | I17: =IF([26]AKA!I17="","",[26]AKA!I17) -> 0 | J17: =IF([26]AKA!J17="","",[26]AKA!J17) -> 0 | K17: =IF([26]AKA!K17="","",[26]AKA!K17) -> 0 | L17: =IF([26]AKA!L17="","",[26]AKA!L17) -> 0 | M17: =IF([26]AKA!M17="","",[26]AKA!M17) -> 0 | N17: =IF([26]AKA!N17="","",[26]AKA!N17) -> 0 | ... Y17: =IF([26]AKA!Y17="","",[26]AKA!Y17) -> 77 | Z17: =IFERROR(IF(OR(X17="",Y17=""),"",ROUND(((W17*$W$8)+(X17*$X$8)+(Y17*$Y$8))/$Y$6,0)),"") -> 83 | AA17: =MAX(G17:N17) -> 88 | AB17: =MIN(G17:N17) -> 0 | AC17: =MATCH(AA17,G17:N17,0) -> 2 | AD17: =MATCH(AB17,G17:N17,0) -> 3 | AE17: =IFERROR("Menunjukkan penguasaan"& " dalam "&(VLOOKUP(AC17,$G$69:$I$76,3)),"") -> Menunjukkan penguasaan dalam Memahami pengertian , dalial, ciri-ciri dan dampak negatif sifat riya' dan nifaq serta Menyajikan contoh cara menghindari perilaku riya dan nifaq. | AF17: =IFERROR("Perlu bantuan dalam "&(VLOOKUP(AD17,$G$69:$I$76,3)),"") -> Perlu bantuan dalam Menerapkan adab membaca Al- Qur'an dan adab berdo'a serta mempraktekannya.
B18: =IF(E18="","",B17+1) -> 10 | C18: =IF(Data!F14="","",Data!F14) -> 2109 | D18: =IF(Data!G14="","",Data!G14) -> 3092608052 | E18: =IF(Data!H14="","",Data!H14) -> KEVIN FAHREZI | F18: =IF(Data!I14="","",Data!I14) -> L | G18: =IF([26]AKA!G18="","",[26]AKA!G18) -> 74 | H18: =IF([26]AKA!H18="","",[26]AKA!H18) -> 74 | I18: =IF([26]AKA!I18="","",[26]AKA!I18) -> 0 | J18: =IF([26]AKA!J18="","",[26]AKA!J18) -> 0 | K18: =IF([26]AKA!K18="","",[26]AKA!K18) -> 0 | L18: =IF([26]AKA!L18="","",[26]AKA!L18) -> 0 | M18: =IF([26]AKA!M18="","",[26]AKA!M18) -> 0 | N18: =IF([26]AKA!N18="","",[26]AKA!N18) -> 0 | ... Y18: =IF([26]AKA!Y18="","",[26]AKA!Y18) -> 74 | Z18: =IFERROR(IF(OR(X18="",Y18=""),"",ROUND(((W18*$W$8)+(X18*$X$8)+(Y18*$Y$8))/$Y$6,0)),"") -> 74 | AA18: =MAX(G18:N18) -> 74 | AB18: =MIN(G18:N18) -> 0 | AC18: =MATCH(AA18,G18:N18,0) -> 1 | AD18: =MATCH(AB18,G18:N18,0) -> 3 | AE18: =IFERROR("Menunjukkan penguasaan"& " dalam "&(VLOOKUP(AC18,$G$69:$I$76,3)),"") -> Menunjukkan penguasaan dalam Menganalisis tugas dan sifat malaikat Allah serta makhluk gaib lainnya dan Menyajikan hasil analisis keterkaitan sifat malaikat dan syaitan dengan perilaku manusia. | AF18: =IFERROR("Perlu bantuan dalam "&(VLOOKUP(AD18,$G$69:$I$76,3)),"") -> Perlu bantuan dalam Menerapkan adab membaca Al- Qur'an dan adab berdo'a serta mempraktekannya.
B19: =IF(E19="","",B18+1) -> 11 | C19: =IF(Data!F15="","",Data!F15) -> 2096 | D19: =IF(Data!G15="","",Data!G15) -> 0107523037 | E19: =IF(Data!H15="","",Data!H15) -> M. IZAM AZMI | F19: =IF(Data!I15="","",Data!I15) -> L | G19: =IF([26]AKA!G19="","",[26]AKA!G19) -> 80 | H19: =IF([26]AKA!H19="","",[26]AKA!H19) -> 82 | I19: =IF([26]AKA!I19="","",[26]AKA!I19) -> 0 | J19: =IF([26]AKA!J19="","",[26]AKA!J19) -> 0 | K19: =IF([26]AKA!K19="","",[26]AKA!K19) -> 0 | L19: =IF([26]AKA!L19="","",[26]AKA!L19) -> 0 | M19: =IF([26]AKA!M19="","",[26]AKA!M19) -> 0 | N19: =IF([26]AKA!N19="","",[26]AKA!N19) -> 0 | ... Y19: =IF([26]AKA!Y19="","",[26]AKA!Y19) -> 79 | Z19: =IFERROR(IF(OR(X19="",Y19=""),"",ROUND(((W19*$W$8)+(X19*$X$8)+(Y19*$Y$8))/$Y$6,0)),"") -> 81 | AA19: =MAX(G19:N19) -> 82 | AB19: =MIN(G19:N19) -> 0 | AC19: =MATCH(AA19,G19:N19,0) -> 2 | AD19: =MATCH(AB19,G19:N19,0) -> 3 | AE19: =IFERROR("Menunjukkan penguasaan"& " dalam "&(VLOOKUP(AC19,$G$69:$I$76,3)),"") -> Menunjukkan penguasaan dalam Memahami pengertian , dalial, ciri-ciri dan dampak negatif sifat riya' dan nifaq serta Menyajikan contoh cara menghindari perilaku riya dan nifaq. | AF19: =IFERROR("Perlu bantuan dalam "&(VLOOKUP(AD19,$G$69:$I$76,3)),"") -> Perlu bantuan dalam Menerapkan adab membaca Al- Qur'an dan adab berdo'a serta mempraktekannya.
B20: =IF(E20="","",B19+1) -> 12 | C20: =IF(Data!F16="","",Data!F16) -> 2102 | D20: =IF(Data!G16="","",Data!G16) -> 0104675982 | E20: =IF(Data!H16="","",Data!H16) -> M. RAFFY MAULA DANNY | F20: =IF(Data!I16="","",Data!I16) -> L | G20: =IF([26]AKA!G20="","",[26]AKA!G20) -> 80 | H20: =IF([26]AKA!H20="","",[26]AKA!H20) -> 82 | I20: =IF([26]AKA!I20="","",[26]AKA!I20) -> 0 | J20: =IF([26]AKA!J20="","",[26]AKA!J20) -> 0 | K20: =IF([26]AKA!K20="","",[26]AKA!K20) -> 0 | L20: =IF([26]AKA!L20="","",[26]AKA!L20) -> 0 | M20: =IF([26]AKA!M20="","",[26]AKA!M20) -> 0 | N20: =IF([26]AKA!N20="","",[26]AKA!N20) -> 0 | ... Y20: =IF([26]AKA!Y20="","",[26]AKA!Y20) -> 78 | Z20: =IFERROR(IF(OR(X20="",Y20=""),"",ROUND(((W20*$W$8)+(X20*$X$8)+(Y20*$Y$8))/$Y$6,0)),"") -> 80 | AA20: =MAX(G20:N20) -> 82 | AB20: =MIN(G20:N20) -> 0 | AC20: =MATCH(AA20,G20:N20,0) -> 2 | AD20: =MATCH(AB20,G20:N20,0) -> 3 | AE20: =IFERROR("Menunjukkan penguasaan"& " dalam "&(VLOOKUP(AC20,$G$69:$I$76,3)),"") -> Menunjukkan penguasaan dalam Memahami pengertian , dalial, ciri-ciri dan dampak negatif sifat riya' dan nifaq serta Menyajikan contoh cara menghindari perilaku riya dan nifaq. | AF20: =IFERROR("Perlu bantuan dalam "&(VLOOKUP(AD20,$G$69:$I$76,3)),"") -> Perlu bantuan dalam Menerapkan adab membaca Al- Qur'an dan adab berdo'a serta mempraktekannya.
B21: =IF(E21="","",B20+1) -> 13 | C21: =IF(Data!F17="","",Data!F17) -> 2090 | D21: =IF(Data!G17="","",Data!G17) -> 3090477421 | E21: =IF(Data!H17="","",Data!H17) -> MARWAH RIANA | F21: =IF(Data!I17="","",Data!I17) -> P | G21: =IF([26]AKA!G21="","",[26]AKA!G21) -> 85 | H21: =IF([26]AKA!H21="","",[26]AKA!H21) -> 88 | I21: =IF([26]AKA!I21="","",[26]AKA!I21) -> 0 | J21: =IF([26]AKA!J21="","",[26]AKA!J21) -> 0 | K21: =IF([26]AKA!K21="","",[26]AKA!K21) -> 0 | L21: =IF([26]AKA!L21="","",[26]AKA!L21) -> 0 | M21: =IF([26]AKA!M21="","",[26]AKA!M21) -> 0 | N21: =IF([26]AKA!N21="","",[26]AKA!N21) -> 0 | ... Y21: =IF([26]AKA!Y21="","",[26]AKA!Y21) -> 79 | Z21: =IFERROR(IF(OR(X21="",Y21=""),"",ROUND(((W21*$W$8)+(X21*$X$8)+(Y21*$Y$8))/$Y$6,0)),"") -> 84 | AA21: =MAX(G21:N21) -> 88 | AB21: =MIN(G21:N21) -> 0 | AC21: =MATCH(AA21,G21:N21,0) -> 2 | AD21: =MATCH(AB21,G21:N21,0) -> 3 | AE21: =IFERROR("Menunjukkan penguasaan"& " dalam "&(VLOOKUP(AC21,$G$69:$I$76,3)),"") -> Menunjukkan penguasaan dalam Memahami pengertian , dalial, ciri-ciri dan dampak negatif sifat riya' dan nifaq serta Menyajikan contoh cara menghindari perilaku riya dan nifaq. | AF21: =IFERROR("Perlu bantuan dalam "&(VLOOKUP(AD21,$G$69:$I$76,3)),"") -> Perlu bantuan dalam Menerapkan adab membaca Al- Qur'an dan adab berdo'a serta mempraktekannya.
... B50: =IF(E50="","",B49+1) | C50: =IF(Data!F46="","",Data!F46) | D50: =IF(Data!G46="","",Data!G46) | E50: =IF(Data!H46="","",Data!H46) | F50: =IF(Data!I46="","",Data!I46) | G50: =IF([26]AKA!G50="","",[26]AKA!G50) -> 0 | H50: =IF([26]AKA!H50="","",[26]AKA!H50) -> 0 | I50: =IF([26]AKA!I50="","",[26]AKA!I50) -> 0 | J50: =IF([26]AKA!J50="","",[26]AKA!J50) -> 0 | K50: =IF([26]AKA!K50="","",[26]AKA!K50) -> 0 | L50: =IF([26]AKA!L50="","",[26]AKA!L50) -> 0 | M50: =IF([26]AKA!M50="","",[26]AKA!M50) -> 0 | N50: =IF([26]AKA!N50="","",[26]AKA!N50) -> 0 | ... Y50: =IF([26]AKA!Y50="","",[26]AKA!Y50) -> 0 | Z50: =IFERROR(IF(OR(X50="",Y50=""),"",ROUND(((W50*$W$8)+(X50*$X$8)+(Y50*$Y$8))/$Y$6,0)),"") | AA50: =MAX(G50:N50) -> 0 | AB50: =MIN(G50:N50) -> 0 | AC50: =MATCH(AA50,G50:N50,0) -> 1 | AD50: =MATCH(AB50,G50:N50,0) -> 1 | AE50: =IFERROR("Menunjukkan penguasaan"& " dalam "&(VLOOKUP(AC50,$G$69:$I$76,3)),"") -> Menunjukkan penguasaan dalam Menganalisis tugas dan sifat malaikat Allah serta makhluk gaib lainnya dan Menyajikan hasil analisis keterkaitan sifat malaikat dan syaitan dengan perilaku manusia. | AF50: =IFERROR("Perlu bantuan dalam "&(VLOOKUP(AD50,$G$69:$I$76,3)),"") -> Perlu bantuan dalam Menganalisis tugas dan sifat malaikat Allah serta makhluk gaib lainnya dan Menyajikan hasil analisis keterkaitan sifat malaikat dan syaitan dengan perilaku manusia.
B51: =IF(E51="","",B50+1) | C51: =IF(Data!F47="","",Data!F47) | D51: =IF(Data!G47="","",Data!G47) | E51: =IF(Data!H47="","",Data!H47) | F51: =IF(Data!I47="","",Data!I47) | G51: =IF([26]AKA!G51="","",[26]AKA!G51) -> 0 | H51: =IF([26]AKA!H51="","",[26]AKA!H51) -> 0 | I51: =IF([26]AKA!I51="","",[26]AKA!I51) -> 0 | J51: =IF([26]AKA!J51="","",[26]AKA!J51) -> 0 | K51: =IF([26]AKA!K51="","",[26]AKA!K51) -> 0 | L51: =IF([26]AKA!L51="","",[26]AKA!L51) -> 0 | M51: =IF([26]AKA!M51="","",[26]AKA!M51) -> 0 | N51: =IF([26]AKA!N51="","",[26]AKA!N51) -> 0 | ... V51: =IF([26]AKA!V51="","",[26]AKA!V51) -> 0 | W51: =IF(COUNT(G51:N51)<2,"",ROUND(SUM(G51:N51)/$W$6,0)) -> 0 | X51: =IF(COUNT(O51:V51)<2,"",ROUND(SUM(O51:V51)/$X$6,0)) -> 0 | Y51: =IF([26]AKA!Y51="","",[26]AKA!Y51) -> 0 | Z51: =IFERROR(IF(OR(X51="",Y51=""),"",ROUND(((W51*$W$8)+(X51*$X$8)+(Y51*$Y$8))/$Y$6,0)),"") -> 0 | AA51: =MAX(G51:N51) -> 0 | AB51: =MIN(G51:N51) -> 0 | AC51: =MATCH(AA51,G51:N51,0) -> 1 | AD51: =MATCH(AB51,G51:N51,0) -> 1 | AE51: =IFERROR("Menunjukkan penguasaan"& " dalam "&(VLOOKUP(AC51,$G$69:$I$76,3)),"") -> Menunjukkan penguasaan dalam Menganalisis tugas dan sifat malaikat Allah serta makhluk gaib lainnya dan Menyajikan hasil analisis keterkaitan sifat malaikat dan syaitan dengan perilaku manusia. | AF51: =IFERROR("Perlu bantuan dalam "&(VLOOKUP(AD51,$G$69:$I$76,3)),"") -> Perlu bantuan dalam Menganalisis tugas dan sifat malaikat Allah serta makhluk gaib lainnya dan Menyajikan hasil analisis keterkaitan sifat malaikat dan syaitan dengan perilaku manusia.
B52: =IF(E52="","",B51+1) | C52: =IF(Data!F48="","",Data!F48) | D52: =IF(Data!G48="","",Data!G48) | E52: =IF(Data!H48="","",Data!H48) | F52: =IF(Data!I48="","",Data!I48) | G52: =IF([26]AKA!G52="","",[26]AKA!G52) -> 0 | H52: =IF([26]AKA!H52="","",[26]AKA!H52) -> 0 | I52: =IF([26]AKA!I52="","",[26]AKA!I52) -> 0 | J52: =IF([26]AKA!J52="","",[26]AKA!J52) -> 0 | K52: =IF([26]AKA!K52="","",[26]AKA!K52) -> 0 | L52: =IF([26]AKA!L52="","",[26]AKA!L52) -> 0 | M52: =IF([26]AKA!M52="","",[26]AKA!M52) -> 0 | N52: =IF([26]AKA!N52="","",[26]AKA!N52) -> 0 | ... V52: =IF([26]AKA!V52="","",[26]AKA!V52) -> 0 | W52: =IF(COUNT(G52:N52)<2,"",ROUND(SUM(G52:N52)/$W$6,0)) -> 0 | X52: =IF(COUNT(O52:V52)<2,"",ROUND(SUM(O52:V52)/$X$6,0)) -> 0 | Y52: =IF([26]AKA!Y52="","",[26]AKA!Y52) -> 0 | Z52: =IFERROR(IF(OR(X52="",Y52=""),"",ROUND(((W52*$W$8)+(X52*$X$8)+(Y52*$Y$8))/$Y$6,0)),"") -> 0 | AA52: =MAX(G52:N52) -> 0 | AB52: =MIN(G52:N52) -> 0 | AC52: =MATCH(AA52,G52:N52,0) -> 1 | AD52: =MATCH(AB52,G52:N52,0) -> 1 | AE52: =IFERROR("Menunjukkan penguasaan"& " dalam "&(VLOOKUP(AC52,$G$69:$I$76,3)),"") -> Menunjukkan penguasaan dalam Menganalisis tugas dan sifat malaikat Allah serta makhluk gaib lainnya dan Menyajikan hasil analisis keterkaitan sifat malaikat dan syaitan dengan perilaku manusia. | AF52: =IFERROR("Perlu bantuan dalam "&(VLOOKUP(AD52,$G$69:$I$76,3)),"") -> Perlu bantuan dalam Menganalisis tugas dan sifat malaikat Allah serta makhluk gaib lainnya dan Menyajikan hasil analisis keterkaitan sifat malaikat dan syaitan dengan perilaku manusia.
B53: =IF(E53="","",B52+1) | C53: =IF(Data!F49="","",Data!F49) | D53: =IF(Data!G49="","",Data!G49) | E53: =IF(Data!H49="","",Data!H49) | F53: =IF(Data!I49="","",Data!I49) | G53: =IF([26]AKA!G53="","",[26]AKA!G53) -> 0 | H53: =IF([26]AKA!H53="","",[26]AKA!H53) -> 0 | I53: =IF([26]AKA!I53="","",[26]AKA!I53) -> 0 | J53: =IF([26]AKA!J53="","",[26]AKA!J53) -> 0 | K53: =IF([26]AKA!K53="","",[26]AKA!K53) -> 0 | L53: =IF([26]AKA!L53="","",[26]AKA!L53) -> 0 | M53: =IF([26]AKA!M53="","",[26]AKA!M53) -> 0 | N53: =IF([26]AKA!N53="","",[26]AKA!N53) -> 0 | ... V53: =IF([26]AKA!V53="","",[26]AKA!V53) -> 0 | W53: =IF(COUNT(G53:N53)<2,"",ROUND(SUM(G53:N53)/$W$6,0)) -> 0 | X53: =IF(COUNT(O53:V53)<2,"",ROUND(SUM(O53:V53)/$X$6,0)) -> 0 | Y53: =IF([26]AKA!Y53="","",[26]AKA!Y53) -> 0 | Z53: =IFERROR(IF(OR(X53="",Y53=""),"",ROUND(((W53*$W$8)+(X53*$X$8)+(Y53*$Y$8))/$Y$6,0)),"") -> 0 | AA53: =MAX(G53:N53) -> 0 | AB53: =MIN(G53:N53) -> 0 | AC53: =MATCH(AA53,G53:N53,0) -> 1 | AD53: =MATCH(AB53,G53:N53,0) -> 1 | AE53: =IFERROR("Menunjukkan penguasaan"& " dalam "&(VLOOKUP(AC53,$G$69:$I$76,3)),"") -> Menunjukkan penguasaan dalam Menganalisis tugas dan sifat malaikat Allah serta makhluk gaib lainnya dan Menyajikan hasil analisis keterkaitan sifat malaikat dan syaitan dengan perilaku manusia. | AF53: =IFERROR("Perlu bantuan dalam "&(VLOOKUP(AD53,$G$69:$I$76,3)),"") -> Perlu bantuan dalam Menganalisis tugas dan sifat malaikat Allah serta makhluk gaib lainnya dan Menyajikan hasil analisis keterkaitan sifat malaikat dan syaitan dengan perilaku manusia.
B54: =IF(E54="","",B53+1) -> #VALUE! | C54: =IF(Data!F50="","",Data!F50) -> 2 | D54: =IF(Data!G50="","",Data!G50) -> 3 | E54: =IF(Data!H50="","",Data!H50) -> 4 | F54: =IF(Data!I50="","",Data!I50) -> 5 | G54: =IF([26]AKA!G54="","",[26]AKA!G54) -> 0 | H54: =IF([26]AKA!H54="","",[26]AKA!H54) -> 0 | I54: =IF([26]AKA!I54="","",[26]AKA!I54) -> 0 | J54: =IF([26]AKA!J54="","",[26]AKA!J54) -> 0 | K54: =IF([26]AKA!K54="","",[26]AKA!K54) -> 0 | L54: =IF([26]AKA!L54="","",[26]AKA!L54) -> 0 | M54: =IF([26]AKA!M54="","",[26]AKA!M54) -> 0 | N54: =IF([26]AKA!N54="","",[26]AKA!N54) -> 0 | ... V54: =IF([26]AKA!V54="","",[26]AKA!V54) -> 0 | W54: =IF(COUNT(G54:N54)<2,"",ROUND(SUM(G54:N54)/$W$6,0)) -> 0 | X54: =IF(COUNT(O54:V54)<2,"",ROUND(SUM(O54:V54)/$X$6,0)) -> 0 | Y54: =IF([26]AKA!Y54="","",[26]AKA!Y54) -> 0 | Z54: =IFERROR(IF(OR(X54="",Y54=""),"",ROUND(((W54*$W$8)+(X54*$X$8)+(Y54*$Y$8))/$Y$6,0)),"") -> 0 | AA54: =MAX(G54:N54) -> 0 | AB54: =MIN(G54:N54) -> 0 | AC54: =MATCH(AA54,G54:N54,0) -> 1 | AD54: =MATCH(AB54,G54:N54,0) -> 1 | AE54: =IFERROR("Menunjukkan penguasaan"& " dalam "&(VLOOKUP(AC54,$G$69:$I$76,3)),"") -> Menunjukkan penguasaan dalam Menganalisis tugas dan sifat malaikat Allah serta makhluk gaib lainnya dan Menyajikan hasil analisis keterkaitan sifat malaikat dan syaitan dengan perilaku manusia. | AF54: =IFERROR("Perlu bantuan dalam "&(VLOOKUP(AD54,$G$69:$I$76,3)),"") -> Perlu bantuan dalam Menganalisis tugas dan sifat malaikat Allah serta makhluk gaib lainnya dan Menyajikan hasil analisis keterkaitan sifat malaikat dan syaitan dengan perilaku manusia.
B55: =IF(E55="","",B54+1) | C55: =IF(Data!F51="","",Data!F51) | D55: =IF(Data!G51="","",Data!G51) | E55: =IF(Data!H51="","",Data!H51) | F55: =IF(Data!I51="","",Data!I51) | G55: =IF([26]AKA!G55="","",[26]AKA!G55) -> 0 | H55: =IF([26]AKA!H55="","",[26]AKA!H55) -> 0 | I55: =IF([26]AKA!I55="","",[26]AKA!I55) -> 0 | J55: =IF([26]AKA!J55="","",[26]AKA!J55) -> 0 | K55: =IF([26]AKA!K55="","",[26]AKA!K55) -> 0 | L55: =IF([26]AKA!L55="","",[26]AKA!L55) -> 0 | M55: =IF([26]AKA!M55="","",[26]AKA!M55) -> 0 | N55: =IF([26]AKA!N55="","",[26]AKA!N55) -> 0 | ... V55: =IF([26]AKA!V55="","",[26]AKA!V55) -> 0 | W55: =IF(COUNT(G55:N55)<2,"",ROUND(SUM(G55:N55)/$W$6,0)) -> 0 | X55: =IF(COUNT(O55:V55)<2,"",ROUND(SUM(O55:V55)/$X$6,0)) -> 0 | Y55: =IF([26]AKA!Y55="","",[26]AKA!Y55) -> 0 | Z55: =IFERROR(IF(OR(X55="",Y55=""),"",ROUND(((W55*$W$8)+(X55*$X$8)+(Y55*$Y$8))/$Y$6,0)),"") -> 0 | AA55: =MAX(G55:N55) -> 0 | AB55: =MIN(G55:N55) -> 0 | AC55: =MATCH(AA55,G55:N55,0) -> 1 | AD55: =MATCH(AB55,G55:N55,0) -> 1 | AE55: =IFERROR("Menunjukkan penguasaan"& " dalam "&(VLOOKUP(AC55,$G$69:$I$76,3)),"") -> Menunjukkan penguasaan dalam Menganalisis tugas dan sifat malaikat Allah serta makhluk gaib lainnya dan Menyajikan hasil analisis keterkaitan sifat malaikat dan syaitan dengan perilaku manusia. | AF55: =IFERROR("Perlu bantuan dalam "&(VLOOKUP(AD55,$G$69:$I$76,3)),"") -> Perlu bantuan dalam Menganalisis tugas dan sifat malaikat Allah serta makhluk gaib lainnya dan Menyajikan hasil analisis keterkaitan sifat malaikat dan syaitan dengan perilaku manusia.
B56: =IF(E56="","",B55+1) | C56: =IF(Data!F52="","",Data!F52) | D56: =IF(Data!G52="","",Data!G52) | E56: =IF(Data!H52="","",Data!H52) | F56: =IF(Data!I52="","",Data!I52) | G56: =IF([26]AKA!G56="","",[26]AKA!G56) -> 0 | H56: =IF([26]AKA!H56="","",[26]AKA!H56) -> 0 | I56: =IF([26]AKA!I56="","",[26]AKA!I56) -> 0 | J56: =IF([26]AKA!J56="","",[26]AKA!J56) -> 0 | K56: =IF([26]AKA!K56="","",[26]AKA!K56) -> 0 | L56: =IF([26]AKA!L56="","",[26]AKA!L56) -> 0 | M56: =IF([26]AKA!M56="","",[26]AKA!M56) -> 0 | N56: =IF([26]AKA!N56="","",[26]AKA!N56) -> 0 | ... V56: =IF([26]AKA!V56="","",[26]AKA!V56) -> 0 | W56: =IF(COUNT(G56:N56)<2,"",ROUND(SUM(G56:N56)/$W$6,0)) -> 0 | X56: =IF(COUNT(O56:V56)<2,"",ROUND(SUM(O56:V56)/$X$6,0)) -> 0 | Y56: =IF([26]AKA!Y56="","",[26]AKA!Y56) -> 0 | Z56: =IFERROR(IF(OR(X56="",Y56=""),"",ROUND(((W56*$W$8)+(X56*$X$8)+(Y56*$Y$8))/$Y$6,0)),"") -> 0 | AA56: =MAX(G56:N56) -> 0 | AB56: =MIN(G56:N56) -> 0 | AC56: =MATCH(AA56,G56:N56,0) -> 1 | AD56: =MATCH(AB56,G56:N56,0) -> 1 | AE56: =IFERROR("Menunjukkan penguasaan"& " dalam "&(VLOOKUP(AC56,$G$69:$I$76,3)),"") -> Menunjukkan penguasaan dalam Menganalisis tugas dan sifat malaikat Allah serta makhluk gaib lainnya dan Menyajikan hasil analisis keterkaitan sifat malaikat dan syaitan dengan perilaku manusia. | AF56: =IFERROR("Perlu bantuan dalam "&(VLOOKUP(AD56,$G$69:$I$76,3)),"") -> Perlu bantuan dalam Menganalisis tugas dan sifat malaikat Allah serta makhluk gaib lainnya dan Menyajikan hasil analisis keterkaitan sifat malaikat dan syaitan dengan perilaku manusia.
B57: =IF(E57="","",B56+1) | C57: =IF(Data!F53="","",Data!F53) | D57: =IF(Data!G53="","",Data!G53) | E57: =IF(Data!H53="","",Data!H53) | F57: =IF(Data!I53="","",Data!I53) | G57: =IF([26]AKA!G57="","",[26]AKA!G57) -> 0 | H57: =IF([26]AKA!H57="","",[26]AKA!H57) -> 0 | I57: =IF([26]AKA!I57="","",[26]AKA!I57) -> 0 | J57: =IF([26]AKA!J57="","",[26]AKA!J57) -> 0 | K57: =IF([26]AKA!K57="","",[26]AKA!K57) -> 0 | L57: =IF([26]AKA!L57="","",[26]AKA!L57) -> 0 | M57: =IF([26]AKA!M57="","",[26]AKA!M57) -> 0 | N57: =IF([26]AKA!N57="","",[26]AKA!N57) -> 0 | ... V57: =IF([26]AKA!V57="","",[26]AKA!V57) -> 0 | W57: =IF(COUNT(G57:N57)<2,"",ROUND(SUM(G57:N57)/$W$6,0)) -> 0 | X57: =IF(COUNT(O57:V57)<2,"",ROUND(SUM(O57:V57)/$X$6,0)) -> 0 | Y57: =IF([26]AKA!Y57="","",[26]AKA!Y57) -> 0 | Z57: =IFERROR(IF(OR(X57="",Y57=""),"",ROUND(((W57*$W$8)+(X57*$X$8)+(Y57*$Y$8))/$Y$6,0)),"") -> 0 | AA57: =MAX(G57:N57) -> 0 | AB57: =MIN(G57:N57) -> 0 | AC57: =MATCH(AA57,G57:N57,0) -> 1 | AD57: =MATCH(AB57,G57:N57,0) -> 1 | AE57: =IFERROR("Menunjukkan penguasaan"& " dalam "&(VLOOKUP(AC57,$G$69:$I$76,3)),"") -> Menunjukkan penguasaan dalam Menganalisis tugas dan sifat malaikat Allah serta makhluk gaib lainnya dan Menyajikan hasil analisis keterkaitan sifat malaikat dan syaitan dengan perilaku manusia. | AF57: =IFERROR("Perlu bantuan dalam "&(VLOOKUP(AD57,$G$69:$I$76,3)),"") -> Perlu bantuan dalam Menganalisis tugas dan sifat malaikat Allah serta makhluk gaib lainnya dan Menyajikan hasil analisis keterkaitan sifat malaikat dan syaitan dengan perilaku manusia.
B58: =IF(E58="","",B57+1) | C58: =IF(Data!F54="","",Data!F54) | D58: =IF(Data!G54="","",Data!G54) | E58: =IF(Data!H54="","",Data!H54) | F58: =IF(Data!I54="","",Data!I54) | G58: =IF([26]AKA!G58="","",[26]AKA!G58) -> 0 | H58: =IF([26]AKA!H58="","",[26]AKA!H58) -> 0 | I58: =IF([26]AKA!I58="","",[26]AKA!I58) -> 0 | J58: =IF([26]AKA!J58="","",[26]AKA!J58) -> 0 | K58: =IF([26]AKA!K58="","",[26]AKA!K58) -> 0 | L58: =IF([26]AKA!L58="","",[26]AKA!L58) -> 0 | M58: =IF([26]AKA!M58="","",[26]AKA!M58) -> 0 | N58: =IF([26]AKA!N58="","",[26]AKA!N58) -> 0 | ... V58: =IF([26]AKA!V58="","",[26]AKA!V58) -> 0 | W58: =IF(COUNT(G58:N58)<2,"",ROUND(SUM(G58:N58)/$W$6,0)) -> 0 | X58: =IF(COUNT(O58:V58)<2,"",ROUND(SUM(O58:V58)/$X$6,0)) -> 0 | Y58: =IF([26]AKA!Y58="","",[26]AKA!Y58) -> 0 | Z58: =IFERROR(IF(OR(X58="",Y58=""),"",ROUND(((W58*$W$8)+(X58*$X$8)+(Y58*$Y$8))/$Y$6,0)),"") -> 0 | AA58: =MAX(G58:N58) -> 0 | AB58: =MIN(G58:N58) -> 0 | AC58: =MATCH(AA58,G58:N58,0) -> 1 | AD58: =MATCH(AB58,G58:N58,0) -> 1 | AE58: =IFERROR("Menunjukkan penguasaan"& " dalam "&(VLOOKUP(AC58,$G$69:$I$76,3)),"") -> Menunjukkan penguasaan dalam Menganalisis tugas dan sifat malaikat Allah serta makhluk gaib lainnya dan Menyajikan hasil analisis keterkaitan sifat malaikat dan syaitan dengan perilaku manusia. | AF58: =IFERROR("Perlu bantuan dalam "&(VLOOKUP(AD58,$G$69:$I$76,3)),"") -> Perlu bantuan dalam Menganalisis tugas dan sifat malaikat Allah serta makhluk gaib lainnya dan Menyajikan hasil analisis keterkaitan sifat malaikat dan syaitan dengan perilaku manusia.
U60: Pegandon,
U61: Guru Mata Pelajaran
U66: NIP.
G68: No | H68: Kode | I68: Ringkasan Capaian Pembelajaran yang di Nilai (Max 100 huruf kecil semua)
C69: Tulis Tujuan Pembelajaran DISINI >>> | F69: FORMATIF | G69: 1 | H69: TP-1 | I69: =IF([26]AKA!I63="","",[26]AKA!I63) -> Menganalisis tugas dan sifat malaikat Allah serta makhluk gaib lainnya dan Menyajikan hasil analisis keterkaitan sifat malaikat dan syaitan dengan perilaku manusia.
C70: Penulisan Tujuan Pembelajaran dimaksudkan | G70: 2 | H70: TP-2 | I70: =IF([26]AKA!I64="","",[26]AKA!I64) -> Memahami pengertian , dalial, ciri-ciri dan dampak negatif sifat riya' dan nifaq serta Menyajikan contoh cara menghindari perilaku riya dan nifaq.
C71: sebagai bahan dasar penulisan: | G71: 3 | H71: TP-3 | I71: =IF([26]AKA!I65="","",[26]AKA!I65) -> Menerapkan adab membaca Al- Qur'an dan adab berdo'a serta mempraktekannya.
C72: Capaian Kompetensi | G72: 4 | H72: TP-4 | I72: =IF([26]AKA!I66="","",[26]AKA!I66) -> Menganalisis kisah keteladanan Nabi Ibrahim a.s serta menyajikan hasil analisis sifat keteladanan Nabi Ibrahim a.s.
G73: 5 | H73: TP-5 | I73: =IF([26]AKA!I67="","",[26]AKA!I67) -> 0
G74: 6 | H74: TP-6 | I74: =IF([26]AKA!I68="","",[26]AKA!I68) -> 0
G75: 7 | H75: TP-7 | I75: =IF([26]AKA!I69="","",[26]AKA!I69) -> 0
G76: 8 | H76: TP-8 | I76: =IF([26]AKA!I70="","",[26]AKA!I70) -> 0
G80: PREDIKAT NILAI PENGETAHUAN
G81: Interval Nilai | J81: Predikat
G82: =I83+1 -> #REF! | H82: - | I82: 100 | J82: sangat baik
G83: =I84+1 -> #REF! | H83: - | I83: =ROUNDDOWN(G83+($I$82-G83)/2,0) -> #REF! | J83: baik
G84: =#REF! -> #REF! | H84: - | I84: =ROUNDDOWN(G84+($I$82-G84)/3,0) -> #REF! | J84: cukup
G85: 0 | H85: - | I85: =G84-1 -> #REF! | J85: perlu bantuan
G87: PREDIKAT NILAI PENGETAHUAN
G88: Interval Nilai | J88: Predikat
G89: =G82 -> #REF! | H89: - | I89: =I82 -> 100 | J89: sangat baik
G90: =G83 -> #REF! | H90: - | I90: =I83 -> #REF! | J90: baik
G91: =G84 -> #REF! | H91: - | I91: =I84 -> #REF! | J91: cukup
G92: =G85 -> 0 | H92: - | I92: =I85 -> #REF! | J92: perlu bantuan

Sheet QUR'AN HADITS
E2: JANGAN LAKUKAN CUT/MOVE/COPY-PASTE | G2: =Data!C4 -> SMP ISLAM PEGANDON
G3: ="TAHUN PELAJARAN "&Data!$C$20 -> TAHUN PELAJARAN 2024 / 2025
E4: Boleh dengan langkah: copy >> paste special values | G4: =Menu!B17 -> Qur'an - Hadits
G5: ='AQIDAH - AKHLAK'!G5 -> Perolehan Hasil Assesmen Peserta Didik Kelas IX B Semester II ( Genap )
G6: =IF(COUNT(G9:G54)>0,1,"") -> 1 | H6: =IF(COUNT(H9:H54)>0,1,"") -> 1 | I6: =IF(COUNT(I9:I54)>0,1,"") -> 1 | J6: =IF(COUNT(J9:J54)>0,1,"") -> 1 | K6: =IF(COUNT(K9:K54)>0,1,"") -> 1 | L6: =IF(COUNT(L9:L54)>0,1,"") -> 1 | M6: =IF(COUNT(M9:M54)>0,1,"") -> 1 | N6: =IF(COUNT(N9:N54)>0,1,"") -> 1 | ... V6: =IF(COUNT(V9:V54)>0,1,"") -> 1 | W6: =SUM(G6:N6) -> 8 | X6: =SUM(O6:V6) -> 8 | Y6: =SUM(W8:Y8) -> 3
B7: NO | C7: NIS | D7: NISN | E7: NAMA | F7: LP | G7: FORMATIF | O7: SUMATIF | W7: NA FORMATIF | X7: NA SUMATIF | Y7: SUMATIF AKHIR SEM | Z7: NILAI AKHIR | AE7: CAPAIAN KOMPETENSI TERTINGGI (OTOMATIS) | AF7: CAPAIAN KOMPETENSI TERENDAH (OTOMATIS)
G8: =H67 -> TP-1 | H8: =H68 -> TP-2 | I8: =H69 -> TP-3 | J8: =H70 -> TP-4 | K8: =H71 -> TP-5 | L8: =H72 -> TP-6 | M8: =H73 -> TP-7 | N8: =H74 -> TP-8 | O8: SUM-1 | P8: SUM-2 | Q8: SUM-3 | R8: SUM-4 | S8: SUM-5 | T8: SUM-6 | U8: SUM-7 | V8: SUM-8 | W8: 1 | X8: 1 | Y8: 1 | AA8: MAX | AB8: MIN | AC8: Alamat
B9: 1 | C9: =IF(Data!F5="","",Data!F5) -> 2111 | D9: =IF(Data!G5="","",Data!G5) -> 3109336136 | E9: =IF(Data!H5="","",Data!H5) -> AGA ALBANI ZAMIR | F9: =IF(Data!I5="","",Data!I5) -> L | G9: =IF([27]QH!$G$9="","",[27]QH!$G$9) -> 75 | H9: =IF([27]QH!H9="","",[27]QH!H9) -> 78 | I9: =IF([27]QH!I9="","",[27]QH!I9) -> 82.8125 | J9: =IF([27]QH!J9="","",[27]QH!J9) -> 0 | K9: =IF([27]QH!K9="","",[27]QH!K9) -> 0 | L9: =IF([27]QH!L9="","",[27]QH!L9) -> 0 | M9: =IF([27]QH!M9="","",[27]QH!M9) -> 0 | N9: =IF([27]QH!N9="","",[27]QH!N9) -> 0 | O9: =IF([27]QH!O9="","",[27]QH!O9) -> 79.25 | ... Y9: =IF([27]QH!Y9="","",[27]QH!Y9) -> 71 | Z9: =IFERROR(IF(OR(X9="",Y9=""),"",ROUND(((W9*$W$8)+(X9*$X$8)+(Y9*$Y$8))/$Y$6,0)),"") -> 77 | AA9: =MAX(G9:N9) -> 82.8125 | AB9: =MIN(G9:N9) -> 0 | AC9: =MATCH(AA9,G9:N9,0) -> 3 | AD9: =MATCH(AB9,G9:N9,0) -> 4 | AE9: =IFERROR("Menunjukkan penguasaan"& " dalam "&(VLOOKUP(AC9,$G$67:$I$74,3)),"") -> Menunjukkan penguasaan dalam memahai isi kandungan Hadis riwayat Muslim dari abu Yahya, Hadis riwayat Tirmidzi dari Abdullah Bin Abbas, Hadis riwayat Muslim dari Abu Hurairah serta mampu mengamalkan nilai positif dan menghindari nili-nilai negatif sebagaimana keterangan dalamhadis tersebut. | AF9: =IFERROR("Perlu bantuan dalam "&(VLOOKUP(AD9,$G$67:$I$74,3)),"") -> Perlu bantuan dalam 0
B10: =IF(E10="","",B9+1) -> 2 | C10: =IF(Data!F6="","",Data!F6) -> 2100 | D10: =IF(Data!G6="","",Data!G6) -> 0108954708 | E10: =IF(Data!H6="","",Data!H6) -> AKBAR FIRLY MAULANA | F10: =IF(Data!I6="","",Data!I6) -> L | G10: =IF([27]QH!G10="","",[27]QH!G10) -> 82 | H10: =IF([27]QH!H10="","",[27]QH!H10) -> 88 | I10: =IF([27]QH!I10="","",[27]QH!I10) -> 82.9375 | J10: =IF([27]QH!J10="","",[27]QH!J10) -> 0 | K10: =IF([27]QH!K10="","",[27]QH!K10) -> 0 | L10: =IF([27]QH!L10="","",[27]QH!L10) -> 0 | M10: =IF([27]QH!M10="","",[27]QH!M10) -> 0 | N10: =IF([27]QH!N10="","",[27]QH!N10) -> 0 | ... Y10: =IF([27]QH!Y10="","",[27]QH!Y10) -> 67 | Z10: =IFERROR(IF(OR(X10="",Y10=""),"",ROUND(((W10*$W$8)+(X10*$X$8)+(Y10*$Y$8))/$Y$6,0)),"") -> 78 | AA10: =MAX(G10:N10) -> 88 | AB10: =MIN(G10:N10) -> 0 | AC10: =MATCH(AA10,G10:N10,0) -> 2 | AD10: =MATCH(AB10,G10:N10,0) -> 4 | AE10: =IFERROR("Menunjukkan penguasaan"& " dalam "&(VLOOKUP(AC10,$G$67:$I$74,3)),"") -> Menunjukkan penguasaan dalam memahai isi kandungan surat Al Balad, Surat Az Zumar, surat Al Baqarah ayat 153 serta mampu mengamalkan nilai positif dan menghindari nili-nilai negatif sebagaimana keterangan dalam surat dan ayat tersebut | AF10: =IFERROR("Perlu bantuan dalam "&(VLOOKUP(AD10,$G$67:$I$74,3)),"") -> Perlu bantuan dalam 0
B11: =IF(E11="","",B10+1) -> 3 | C11: =IF(Data!F7="","",Data!F7) -> 2085 | D11: =IF(Data!G7="","",Data!G7) -> 0093911821 | E11: =IF(Data!H7="","",Data!H7) -> ALVINO EWALDO | F11: =IF(Data!I7="","",Data!I7) -> L | G11: =IF([27]QH!G11="","",[27]QH!G11) -> 82 | H11: =IF([27]QH!H11="","",[27]QH!H11) -> 80 | I11: =IF([27]QH!I11="","",[27]QH!I11) -> 82.0625 | J11: =IF([27]QH!J11="","",[27]QH!J11) -> 0 | K11: =IF([27]QH!K11="","",[27]QH!K11) -> 0 | L11: =IF([27]QH!L11="","",[27]QH!L11) -> 0 | M11: =IF([27]QH!M11="","",[27]QH!M11) -> 0 | N11: =IF([27]QH!N11="","",[27]QH!N11) -> 0 | ... Y11: =IF([27]QH!Y11="","",[27]QH!Y11) -> 70 | Z11: =IFERROR(IF(OR(X11="",Y11=""),"",ROUND(((W11*$W$8)+(X11*$X$8)+(Y11*$Y$8))/$Y$6,0)),"") -> 78 | AA11: =MAX(G11:N11) -> 82.0625 | AB11: =MIN(G11:N11) -> 0 | AC11: =MATCH(AA11,G11:N11,0) -> 3 | AD11: =MATCH(AB11,G11:N11,0) -> 4 | AE11: =IFERROR("Menunjukkan penguasaan"& " dalam "&(VLOOKUP(AC11,$G$67:$I$74,3)),"") -> Menunjukkan penguasaan dalam memahai isi kandungan Hadis riwayat Muslim dari abu Yahya, Hadis riwayat Tirmidzi dari Abdullah Bin Abbas, Hadis riwayat Muslim dari Abu Hurairah serta mampu mengamalkan nilai positif dan menghindari nili-nilai negatif sebagaimana keterangan dalamhadis tersebut. | AF11: =IFERROR("Perlu bantuan dalam "&(VLOOKUP(AD11,$G$67:$I$74,3)),"") -> Perlu bantuan dalam 0
B12: =IF(E12="","",B11+1) -> 4 | C12: =IF(Data!F8="","",Data!F8) -> 2075 | D12: =IF(Data!G8="","",Data!G8) -> 0098772064 | E12: =IF(Data!H8="","",Data!H8) -> AURA SUCI RAMADHANI | F12: =IF(Data!I8="","",Data!I8) -> P | G12: =IF([27]QH!G12="","",[27]QH!G12) -> 88 | H12: =IF([27]QH!H12="","",[27]QH!H12) -> 90 | I12: =IF([27]QH!I12="","",[27]QH!I12) -> 82 | J12: =IF([27]QH!J12="","",[27]QH!J12) -> 0 | K12: =IF([27]QH!K12="","",[27]QH!K12) -> 0 | L12: =IF([27]QH!L12="","",[27]QH!L12) -> 0 | M12: =IF([27]QH!M12="","",[27]QH!M12) -> 0 | N12: =IF([27]QH!N12="","",[27]QH!N12) -> 0 | ... Y12: =IF([27]QH!Y12="","",[27]QH!Y12) -> 68 | Z12: =IFERROR(IF(OR(X12="",Y12=""),"",ROUND(((W12*$W$8)+(X12*$X$8)+(Y12*$Y$8))/$Y$6,0)),"") -> 79 | AA12: =MAX(G12:N12) -> 90 | AB12: =MIN(G12:N12) -> 0 | AC12: =MATCH(AA12,G12:N12,0) -> 2 | AD12: =MATCH(AB12,G12:N12,0) -> 4 | AE12: =IFERROR("Menunjukkan penguasaan"& " dalam "&(VLOOKUP(AC12,$G$67:$I$74,3)),"") -> Menunjukkan penguasaan dalam memahai isi kandungan surat Al Balad, Surat Az Zumar, surat Al Baqarah ayat 153 serta mampu mengamalkan nilai positif dan menghindari nili-nilai negatif sebagaimana keterangan dalam surat dan ayat tersebut | AF12: =IFERROR("Perlu bantuan dalam "&(VLOOKUP(AD12,$G$67:$I$74,3)),"") -> Perlu bantuan dalam 0
B13: =IF(E13="","",B12+1) -> 5 | C13: =IF(Data!F9="","",Data!F9) -> 2086 | D13: =IF(Data!G9="","",Data!G9) -> 0103867888 | E13: =IF(Data!H9="","",Data!H9) -> AYU SAFNA | F13: =IF(Data!I9="","",Data!I9) -> P | G13: =IF([27]QH!G13="","",[27]QH!G13) -> 80 | H13: =IF([27]QH!H13="","",[27]QH!H13) -> 78 | I13: =IF([27]QH!I13="","",[27]QH!I13) -> 85.25 | J13: =IF([27]QH!J13="","",[27]QH!J13) -> 0 | K13: =IF([27]QH!K13="","",[27]QH!K13) -> 0 | L13: =IF([27]QH!L13="","",[27]QH!L13) -> 0 | M13: =IF([27]QH!M13="","",[27]QH!M13) -> 0 | N13: =IF([27]QH!N13="","",[27]QH!N13) -> 0 | ... Y13: =IF([27]QH!Y13="","",[27]QH!Y13) -> 72 | Z13: =IFERROR(IF(OR(X13="",Y13=""),"",ROUND(((W13*$W$8)+(X13*$X$8)+(Y13*$Y$8))/$Y$6,0)),"") -> 79 | AA13: =MAX(G13:N13) -> 85.25 | AB13: =MIN(G13:N13) -> 0 | AC13: =MATCH(AA13,G13:N13,0) -> 3 | AD13: =MATCH(AB13,G13:N13,0) -> 4 | AE13: =IFERROR("Menunjukkan penguasaan"& " dalam "&(VLOOKUP(AC13,$G$67:$I$74,3)),"") -> Menunjukkan penguasaan dalam memahai isi kandungan Hadis riwayat Muslim dari abu Yahya, Hadis riwayat Tirmidzi dari Abdullah Bin Abbas, Hadis riwayat Muslim dari Abu Hurairah serta mampu mengamalkan nilai positif dan menghindari nili-nilai negatif sebagaimana keterangan dalamhadis tersebut. | AF13: =IFERROR("Perlu bantuan dalam "&(VLOOKUP(AD13,$G$67:$I$74,3)),"") -> Perlu bantuan dalam 0
B14: =IF(E14="","",B13+1) -> 6 | C14: =IF(Data!F10="","",Data!F10) -> 2089 | D14: =IF(Data!G10="","",Data!G10) -> 3098656100 | E14: =IF(Data!H10="","",Data!H10) -> DEWI AYU NURHALIZA | F14: =IF(Data!I10="","",Data!I10) -> P | G14: =IF([27]QH!G14="","",[27]QH!G14) -> 90 | H14: =IF([27]QH!H14="","",[27]QH!H14) -> 98 | I14: =IF([27]QH!I14="","",[27]QH!I14) -> 84.5 | J14: =IF([27]QH!J14="","",[27]QH!J14) -> 0 | K14: =IF([27]QH!K14="","",[27]QH!K14) -> 0 | L14: =IF([27]QH!L14="","",[27]QH!L14) -> 0 | M14: =IF([27]QH!M14="","",[27]QH!M14) -> 0 | N14: =IF([27]QH!N14="","",[27]QH!N14) -> 0 | ... Y14: =IF([27]QH!Y14="","",[27]QH!Y14) -> 87 | Z14: =IFERROR(IF(OR(X14="",Y14=""),"",ROUND(((W14*$W$8)+(X14*$X$8)+(Y14*$Y$8))/$Y$6,0)),"") -> 87 | AA14: =MAX(G14:N14) -> 98 | AB14: =MIN(G14:N14) -> 0 | AC14: =MATCH(AA14,G14:N14,0) -> 2 | AD14: =MATCH(AB14,G14:N14,0) -> 4 | AE14: =IFERROR("Menunjukkan penguasaan"& " dalam "&(VLOOKUP(AC14,$G$67:$I$74,3)),"") -> Menunjukkan penguasaan dalam memahai isi kandungan surat Al Balad, Surat Az Zumar, surat Al Baqarah ayat 153 serta mampu mengamalkan nilai positif dan menghindari nili-nilai negatif sebagaimana keterangan dalam surat dan ayat tersebut | AF14: =IFERROR("Perlu bantuan dalam "&(VLOOKUP(AD14,$G$67:$I$74,3)),"") -> Perlu bantuan dalam 0
B15: =IF(E15="","",B14+1) -> 7 | C15: =IF(Data!F11="","",Data!F11) -> 2115 | D15: =IF(Data!G11="","",Data!G11) -> 0105966564 | E15: =IF(Data!H11="","",Data!H11) -> FADLY ARYA PUTRA | F15: =IF(Data!I11="","",Data!I11) -> L | G15: =IF([27]QH!G15="","",[27]QH!G15) -> 85 | H15: =IF([27]QH!H15="","",[27]QH!H15) -> 90 | I15: =IF([27]QH!I15="","",[27]QH!I15) -> 85.625 | J15: =IF([27]QH!J15="","",[27]QH!J15) -> 0 | K15: =IF([27]QH!K15="","",[27]QH!K15) -> 0 | L15: =IF([27]QH!L15="","",[27]QH!L15) -> 0 | M15: =IF([27]QH!M15="","",[27]QH!M15) -> 0 | N15: =IF([27]QH!N15="","",[27]QH!N15) -> 0 | ... Y15: =IF([27]QH!Y15="","",[27]QH!Y15) -> 87 | Z15: =IFERROR(IF(OR(X15="",Y15=""),"",ROUND(((W15*$W$8)+(X15*$X$8)+(Y15*$Y$8))/$Y$6,0)),"") -> 87 | AA15: =MAX(G15:N15) -> 90 | AB15: =MIN(G15:N15) -> 0 | AC15: =MATCH(AA15,G15:N15,0) -> 2 | AD15: =MATCH(AB15,G15:N15,0) -> 4 | AE15: =IFERROR("Menunjukkan penguasaan"& " dalam "&(VLOOKUP(AC15,$G$67:$I$74,3)),"") -> Menunjukkan penguasaan dalam memahai isi kandungan surat Al Balad, Surat Az Zumar, surat Al Baqarah ayat 153 serta mampu mengamalkan nilai positif dan menghindari nili-nilai negatif sebagaimana keterangan dalam surat dan ayat tersebut | AF15: =IFERROR("Perlu bantuan dalam "&(VLOOKUP(AD15,$G$67:$I$74,3)),"") -> Perlu bantuan dalam 0
B16: =IF(E16="","",B15+1) -> 8 | C16: =IF(Data!F12="","",Data!F12) -> 2082 | D16: =IF(Data!G12="","",Data!G12) -> 3092203012 | E16: =IF(Data!H12="","",Data!H12) -> ILHAM MAULANA | F16: =IF(Data!I12="","",Data!I12) -> L | G16: =IF([27]QH!G16="","",[27]QH!G16) -> 85 | H16: =IF([27]QH!H16="","",[27]QH!H16) -> 90 | I16: =IF([27]QH!I16="","",[27]QH!I16) -> 83.125 | J16: =IF([27]QH!J16="","",[27]QH!J16) -> 0 | K16: =IF([27]QH!K16="","",[27]QH!K16) -> 0 | L16: =IF([27]QH!L16="","",[27]QH!L16) -> 0 | M16: =IF([27]QH!M16="","",[27]QH!M16) -> 0 | N16: =IF([27]QH!N16="","",[27]QH!N16) -> 0 | ... Y16: =IF([27]QH!Y16="","",[27]QH!Y16) -> 75 | Z16: =IFERROR(IF(OR(X16="",Y16=""),"",ROUND(((W16*$W$8)+(X16*$X$8)+(Y16*$Y$8))/$Y$6,0)),"") -> 81 | AA16: =MAX(G16:N16) -> 90 | AB16: =MIN(G16:N16) -> 0 | AC16: =MATCH(AA16,G16:N16,0) -> 2 | AD16: =MATCH(AB16,G16:N16,0) -> 4 | AE16: =IFERROR("Menunjukkan penguasaan"& " dalam "&(VLOOKUP(AC16,$G$67:$I$74,3)),"") -> Menunjukkan penguasaan dalam memahai isi kandungan surat Al Balad, Surat Az Zumar, surat Al Baqarah ayat 153 serta mampu mengamalkan nilai positif dan menghindari nili-nilai negatif sebagaimana keterangan dalam surat dan ayat tersebut | AF16: =IFERROR("Perlu bantuan dalam "&(VLOOKUP(AD16,$G$67:$I$74,3)),"") -> Perlu bantuan dalam 0
B17: =IF(E17="","",B16+1) -> 9 | C17: =IF(Data!F13="","",Data!F13) -> 2088 | D17: =IF(Data!G13="","",Data!G13) -> 3106632526 | E17: =IF(Data!H13="","",Data!H13) -> INDAH VIOLAFITRA | F17: =IF(Data!I13="","",Data!I13) -> P | G17: =IF([27]QH!G17="","",[27]QH!G17) -> 88 | H17: =IF([27]QH!H17="","",[27]QH!H17) -> 85 | I17: =IF([27]QH!I17="","",[27]QH!I17) -> 81.3125 | J17: =IF([27]QH!J17="","",[27]QH!J17) -> 0 | K17: =IF([27]QH!K17="","",[27]QH!K17) -> 0 | L17: =IF([27]QH!L17="","",[27]QH!L17) -> 0 | M17: =IF([27]QH!M17="","",[27]QH!M17) -> 0 | N17: =IF([27]QH!N17="","",[27]QH!N17) -> 0 | ... Y17: =IF([27]QH!Y17="","",[27]QH!Y17) -> 68 | Z17: =IFERROR(IF(OR(X17="",Y17=""),"",ROUND(((W17*$W$8)+(X17*$X$8)+(Y17*$Y$8))/$Y$6,0)),"") -> 78 | AA17: =MAX(G17:N17) -> 88 | AB17: =MIN(G17:N17) -> 0 | AC17: =MATCH(AA17,G17:N17,0) -> 1 | AD17: =MATCH(AB17,G17:N17,0) -> 4 | AE17: =IFERROR("Menunjukkan penguasaan"& " dalam "&(VLOOKUP(AC17,$G$67:$I$74,3)),"") -> Menunjukkan penguasaan dalam Memahami serta mampu mempraktikkan hukum bacaan mad thobi'I, mad wajib muttashil, dan mad jais munfashil dalam surat pendek pilihan | AF17: =IFERROR("Perlu bantuan dalam "&(VLOOKUP(AD17,$G$67:$I$74,3)),"") -> Perlu bantuan dalam 0
B18: =IF(E18="","",B17+1) -> 10 | C18: =IF(Data!F14="","",Data!F14) -> 2109 | D18: =IF(Data!G14="","",Data!G14) -> 3092608052 | E18: =IF(Data!H14="","",Data!H14) -> KEVIN FAHREZI | F18: =IF(Data!I14="","",Data!I14) -> L | G18: =IF([27]QH!G18="","",[27]QH!G18) -> 90 | H18: =IF([27]QH!H18="","",[27]QH!H18) -> 96 | I18: =IF([27]QH!I18="","",[27]QH!I18) -> 86.875 | J18: =IF([27]QH!J18="","",[27]QH!J18) -> 0 | K18: =IF([27]QH!K18="","",[27]QH!K18) -> 0 | L18: =IF([27]QH!L18="","",[27]QH!L18) -> 0 | M18: =IF([27]QH!M18="","",[27]QH!M18) -> 0 | N18: =IF([27]QH!N18="","",[27]QH!N18) -> 0 | ... Y18: =IF([27]QH!Y18="","",[27]QH!Y18) -> 90 | Z18: =IFERROR(IF(OR(X18="",Y18=""),"",ROUND(((W18*$W$8)+(X18*$X$8)+(Y18*$Y$8))/$Y$6,0)),"") -> 89 | AA18: =MAX(G18:N18) -> 96 | AB18: =MIN(G18:N18) -> 0 | AC18: =MATCH(AA18,G18:N18,0) -> 2 | AD18: =MATCH(AB18,G18:N18,0) -> 4 | AE18: =IFERROR("Menunjukkan penguasaan"& " dalam "&(VLOOKUP(AC18,$G$67:$I$74,3)),"") -> Menunjukkan penguasaan dalam memahai isi kandungan surat Al Balad, Surat Az Zumar, surat Al Baqarah ayat 153 serta mampu mengamalkan nilai positif dan menghindari nili-nilai negatif sebagaimana keterangan dalam surat dan ayat tersebut | AF18: =IFERROR("Perlu bantuan dalam "&(VLOOKUP(AD18,$G$67:$I$74,3)),"") -> Perlu bantuan dalam 0
B19: =IF(E19="","",B18+1) -> 11 | C19: =IF(Data!F15="","",Data!F15) -> 2096 | D19: =IF(Data!G15="","",Data!G15) -> 0107523037 | E19: =IF(Data!H15="","",Data!H15) -> M. IZAM AZMI | F19: =IF(Data!I15="","",Data!I15) -> L | G19: =IF([27]QH!G19="","",[27]QH!G19) -> 90 | H19: =IF([27]QH!H19="","",[27]QH!H19) -> 80 | I19: =IF([27]QH!I19="","",[27]QH!I19) -> 85.8125 | J19: =IF([27]QH!J19="","",[27]QH!J19) -> 0 | K19: =IF([27]QH!K19="","",[27]QH!K19) -> 0 | L19: =IF([27]QH!L19="","",[27]QH!L19) -> 0 | M19: =IF([27]QH!M19="","",[27]QH!M19) -> 0 | N19: =IF([27]QH!N19="","",[27]QH!N19) -> 0 | ... Y19: =IF([27]QH!Y19="","",[27]QH!Y19) -> 78 | Z19: =IFERROR(IF(OR(X19="",Y19=""),"",ROUND(((W19*$W$8)+(X19*$X$8)+(Y19*$Y$8))/$Y$6,0)),"") -> 83 | AA19: =MAX(G19:N19) -> 90 | AB19: =MIN(G19:N19) -> 0 | AC19: =MATCH(AA19,G19:N19,0) -> 1 | AD19: =MATCH(AB19,G19:N19,0) -> 4 | AE19: =IFERROR("Menunjukkan penguasaan"& " dalam "&(VLOOKUP(AC19,$G$67:$I$74,3)),"") -> Menunjukkan penguasaan dalam Memahami serta mampu mempraktikkan hukum bacaan mad thobi'I, mad wajib muttashil, dan mad jais munfashil dalam surat pendek pilihan | AF19: =IFERROR("Perlu bantuan dalam "&(VLOOKUP(AD19,$G$67:$I$74,3)),"") -> Perlu bantuan dalam 0
B20: =IF(E20="","",B19+1) -> 12 | C20: =IF(Data!F16="","",Data!F16) -> 2102 | D20: =IF(Data!G16="","",Data!G16) -> 0104675982 | E20: =IF(Data!H16="","",Data!H16) -> M. RAFFY MAULA DANNY | F20: =IF(Data!I16="","",Data!I16) -> L | G20: =IF([27]QH!G20="","",[27]QH!G20) -> 90 | H20: =IF([27]QH!H20="","",[27]QH!H20) -> 96 | I20: =IF([27]QH!I20="","",[27]QH!I20) -> 94.125 | J20: =IF([27]QH!J20="","",[27]QH!J20) -> 0 | K20: =IF([27]QH!K20="","",[27]QH!K20) -> 0 | L20: =IF([27]QH!L20="","",[27]QH!L20) -> 0 | M20: =IF([27]QH!M20="","",[27]QH!M20) -> 0 | N20: =IF([27]QH!N20="","",[27]QH!N20) -> 0 | ... Y20: =IF([27]QH!Y20="","",[27]QH!Y20) -> 95 | Z20: =IFERROR(IF(OR(X20="",Y20=""),"",ROUND(((W20*$W$8)+(X20*$X$8)+(Y20*$Y$8))/$Y$6,0)),"") -> 94 | AA20: =MAX(G20:N20) -> 96 | AB20: =MIN(G20:N20) -> 0 | AC20: =MATCH(AA20,G20:N20,0) -> 2 | AD20: =MATCH(AB20,G20:N20,0) -> 4 | AE20: =IFERROR("Menunjukkan penguasaan"& " dalam "&(VLOOKUP(AC20,$G$67:$I$74,3)),"") -> Menunjukkan penguasaan dalam memahai isi kandungan surat Al Balad, Surat Az Zumar, surat Al Baqarah ayat 153 serta mampu mengamalkan nilai positif dan menghindari nili-nilai negatif sebagaimana keterangan dalam surat dan ayat tersebut | AF20: =IFERROR("Perlu bantuan dalam "&(VLOOKUP(AD20,$G$67:$I$74,3)),"") -> Perlu bantuan dalam 0
B21: =IF(E21="","",B20+1) -> 13 | C21: =IF(Data!F17="","",Data!F17) -> 2090 | D21: =IF(Data!G17="","",Data!G17) -> 3090477421 | E21: =IF(Data!H17="","",Data!H17) -> MARWAH RIANA | F21: =IF(Data!I17="","",Data!I17) -> P | G21: =IF([27]QH!G21="","",[27]QH!G21) -> 95 | H21: =IF([27]QH!H21="","",[27]QH!H21) -> 90 | I21: =IF([27]QH!I21="","",[27]QH!I21) -> 84.25 | J21: =IF([27]QH!J21="","",[27]QH!J21) -> 0 | K21: =IF([27]QH!K21="","",[27]QH!K21) -> 0 | L21: =IF([27]QH!L21="","",[27]QH!L21) -> 0 | M21: =IF([27]QH!M21="","",[27]QH!M21) -> 0 | N21: =IF([27]QH!N21="","",[27]QH!N21) -> 0 | ... Y21: =IF([27]QH!Y21="","",[27]QH!Y21) -> 78 | Z21: =IFERROR(IF(OR(X21="",Y21=""),"",ROUND(((W21*$W$8)+(X21*$X$8)+(Y21*$Y$8))/$Y$6,0)),"") -> 84 | AA21: =MAX(G21:N21) -> 95 | AB21: =MIN(G21:N21) -> 0 | AC21: =MATCH(AA21,G21:N21,0) -> 1 | AD21: =MATCH(AB21,G21:N21,0) -> 4 | AE21: =IFERROR("Menunjukkan penguasaan"& " dalam "&(VLOOKUP(AC21,$G$67:$I$74,3)),"") -> Menunjukkan penguasaan dalam Memahami serta mampu mempraktikkan hukum bacaan mad thobi'I, mad wajib muttashil, dan mad jais munfashil dalam surat pendek pilihan | AF21: =IFERROR("Perlu bantuan dalam "&(VLOOKUP(AD21,$G$67:$I$74,3)),"") -> Perlu bantuan dalam 0
... B50: =IF(E50="","",B49+1) | C50: =IF(Data!F46="","",Data!F46) | D50: =IF(Data!G46="","",Data!G46) | E50: =IF(Data!H46="","",Data!H46) | F50: =IF(Data!I46="","",Data!I46) | G50: =IF([27]QH!G50="","",[27]QH!G50) -> 0 | H50: =IF([27]QH!H50="","",[27]QH!H50) -> 0 | I50: =IF([27]QH!I50="","",[27]QH!I50) -> 0 | J50: =IF([27]QH!J50="","",[27]QH!J50) -> 0 | K50: =IF([27]QH!K50="","",[27]QH!K50) -> 0 | L50: =IF([27]QH!L50="","",[27]QH!L50) -> 0 | M50: =IF([27]QH!M50="","",[27]QH!M50) -> 0 | N50: =IF([27]QH!N50="","",[27]QH!N50) -> 0 | ... Y50: =IF([27]QH!Y50="","",[27]QH!Y50) -> 0 | Z50: =IFERROR(IF(OR(X50="",Y50=""),"",ROUND(((W50*$W$8)+(X50*$X$8)+(Y50*$Y$8))/$Y$6,0)),"") | AA50: =MAX(G50:N50) -> 0 | AB50: =MIN(G50:N50) -> 0 | AC50: =MATCH(AA50,G50:N50,0) -> 1 | AD50: =MATCH(AB50,G50:N50,0) -> 1 | AE50: =IFERROR("Menunjukkan penguasaan"& " dalam "&(VLOOKUP(AC50,$G$67:$I$74,3)),"") -> Menunjukkan penguasaan dalam Memahami serta mampu mempraktikkan hukum bacaan mad thobi'I, mad wajib muttashil, dan mad jais munfashil dalam surat pendek pilihan | AF50: =IFERROR("Perlu bantuan dalam "&(VLOOKUP(AD50,$G$67:$I$74,3)),"") -> Perlu bantuan dalam Memahami serta mampu mempraktikkan hukum bacaan mad thobi'I, mad wajib muttashil, dan mad jais munfashil dalam surat pendek pilihan
B51: =IF(E51="","",B50+1) | C51: =IF(Data!F47="","",Data!F47) | D51: =IF(Data!G47="","",Data!G47) | E51: =IF(Data!H47="","",Data!H47) | F51: =IF(Data!I47="","",Data!I47) | G51: =IF([27]QH!G51="","",[27]QH!G51) -> 0 | H51: =IF([27]QH!H51="","",[27]QH!H51) -> 0 | I51: =IF([27]QH!I51="","",[27]QH!I51) -> 0 | J51: =IF([27]QH!J51="","",[27]QH!J51) -> 0 | K51: =IF([27]QH!K51="","",[27]QH!K51) -> 0 | L51: =IF([27]QH!L51="","",[27]QH!L51) -> 0 | M51: =IF([27]QH!M51="","",[27]QH!M51) -> 0 | N51: =IF([27]QH!N51="","",[27]QH!N51) -> 0 | ... V51: =IF([27]QH!V51="","",[27]QH!V51) -> 0 | W51: =IF(COUNT(G51:N51)<2,"",ROUND(SUM(G51:N51)/$W$6,0)) -> 0 | X51: =IF(COUNT(O51:V51)<2,"",ROUND(SUM(O51:V51)/$X$6,0)) -> 0 | Y51: =IF([27]QH!Y51="","",[27]QH!Y51) -> 0 | Z51: =IFERROR(IF(OR(X51="",Y51=""),"",ROUND(((W51*$W$8)+(X51*$X$8)+(Y51*$Y$8))/$Y$6,0)),"") -> 0 | AA51: =MAX(G51:N51) -> 0 | AB51: =MIN(G51:N51) -> 0 | AC51: =MATCH(AA51,G51:N51,0) -> 1 | AD51: =MATCH(AB51,G51:N51,0) -> 1 | AE51: =IFERROR("Menunjukkan penguasaan"& " dalam "&(VLOOKUP(AC51,$G$67:$I$74,3)),"") -> Menunjukkan penguasaan dalam Memahami serta mampu mempraktikkan hukum bacaan mad thobi'I, mad wajib muttashil, dan mad jais munfashil dalam surat pendek pilihan | AF51: =IFERROR("Perlu bantuan dalam "&(VLOOKUP(AD51,$G$67:$I$74,3)),"") -> Perlu bantuan dalam Memahami serta mampu mempraktikkan hukum bacaan mad thobi'I, mad wajib muttashil, dan mad jais munfashil dalam surat pendek pilihan
B52: =IF(E52="","",B51+1) | C52: =IF(Data!F48="","",Data!F48) | D52: =IF(Data!G48="","",Data!G48) | E52: =IF(Data!H48="","",Data!H48) | F52: =IF(Data!I48="","",Data!I48) | G52: =IF([27]QH!G52="","",[27]QH!G52) -> 0 | H52: =IF([27]QH!H52="","",[27]QH!H52) -> 0 | I52: =IF([27]QH!I52="","",[27]QH!I52) -> 0 | J52: =IF([27]QH!J52="","",[27]QH!J52) -> 0 | K52: =IF([27]QH!K52="","",[27]QH!K52) -> 0 | L52: =IF([27]QH!L52="","",[27]QH!L52) -> 0 | M52: =IF([27]QH!M52="","",[27]QH!M52) -> 0 | N52: =IF([27]QH!N52="","",[27]QH!N52) -> 0 | ... V52: =IF([27]QH!V52="","",[27]QH!V52) -> 0 | W52: =IF(COUNT(G52:N52)<2,"",ROUND(SUM(G52:N52)/$W$6,0)) -> 0 | X52: =IF(COUNT(O52:V52)<2,"",ROUND(SUM(O52:V52)/$X$6,0)) -> 0 | Y52: =IF([27]QH!Y52="","",[27]QH!Y52) -> 0 | Z52: =IFERROR(IF(OR(X52="",Y52=""),"",ROUND(((W52*$W$8)+(X52*$X$8)+(Y52*$Y$8))/$Y$6,0)),"") -> 0 | AA52: =MAX(G52:N52) -> 0 | AB52: =MIN(G52:N52) -> 0 | AC52: =MATCH(AA52,G52:N52,0) -> 1 | AD52: =MATCH(AB52,G52:N52,0) -> 1 | AE52: =IFERROR("Menunjukkan penguasaan"& " dalam "&(VLOOKUP(AC52,$G$67:$I$74,3)),"") -> Menunjukkan penguasaan dalam Memahami serta mampu mempraktikkan hukum bacaan mad thobi'I, mad wajib muttashil, dan mad jais munfashil dalam surat pendek pilihan | AF52: =IFERROR("Perlu bantuan dalam "&(VLOOKUP(AD52,$G$67:$I$74,3)),"") -> Perlu bantuan dalam Memahami serta mampu mempraktikkan hukum bacaan mad thobi'I, mad wajib muttashil, dan mad jais munfashil dalam surat pendek pilihan
B53: =IF(E53="","",B52+1) | C53: =IF(Data!F49="","",Data!F49) | D53: =IF(Data!G49="","",Data!G49) | E53: =IF(Data!H49="","",Data!H49) | F53: =IF(Data!I49="","",Data!I49) | G53: =IF([27]QH!G53="","",[27]QH!G53) -> 0 | H53: =IF([27]QH!H53="","",[27]QH!H53) -> 0 | I53: =IF([27]QH!I53="","",[27]QH!I53) -> 0 | J53: =IF([27]QH!J53="","",[27]QH!J53) -> 0 | K53: =IF([27]QH!K53="","",[27]QH!K53) -> 0 | L53: =IF([27]QH!L53="","",[27]QH!L53) -> 0 | M53: =IF([27]QH!M53="","",[27]QH!M53) -> 0 | N53: =IF([27]QH!N53="","",[27]QH!N53) -> 0 | ... V53: =IF([27]QH!V53="","",[27]QH!V53) -> 0 | W53: =IF(COUNT(G53:N53)<2,"",ROUND(SUM(G53:N53)/$W$6,0)) -> 0 | X53: =IF(COUNT(O53:V53)<2,"",ROUND(SUM(O53:V53)/$X$6,0)) -> 0 | Y53: =IF([27]QH!Y53="","",[27]QH!Y53) -> 0 | Z53: =IFERROR(IF(OR(X53="",Y53=""),"",ROUND(((W53*$W$8)+(X53*$X$8)+(Y53*$Y$8))/$Y$6,0)),"") -> 0 | AA53: =MAX(G53:N53) -> 0 | AB53: =MIN(G53:N53) -> 0 | AC53: =MATCH(AA53,G53:N53,0) -> 1 | AD53: =MATCH(AB53,G53:N53,0) -> 1 | AE53: =IFERROR("Menunjukkan penguasaan"& " dalam "&(VLOOKUP(AC53,$G$67:$I$74,3)),"") -> Menunjukkan penguasaan dalam Memahami serta mampu mempraktikkan hukum bacaan mad thobi'I, mad wajib muttashil, dan mad jais munfashil dalam surat pendek pilihan | AF53: =IFERROR("Perlu bantuan dalam "&(VLOOKUP(AD53,$G$67:$I$74,3)),"") -> Perlu bantuan dalam Memahami serta mampu mempraktikkan hukum bacaan mad thobi'I, mad wajib muttashil, dan mad jais munfashil dalam surat pendek pilihan
B54: =IF(E54="","",B53+1) -> #VALUE! | C54: =IF(Data!F50="","",Data!F50) -> 2 | D54: =IF(Data!G50="","",Data!G50) -> 3 | E54: =IF(Data!H50="","",Data!H50) -> 4 | F54: =IF(Data!I50="","",Data!I50) -> 5 | G54: =IF([27]QH!G54="","",[27]QH!G54) -> 0 | H54: =IF([27]QH!H54="","",[27]QH!H54) -> 0 | I54: =IF([27]QH!I54="","",[27]QH!I54) -> 0 | J54: =IF([27]QH!J54="","",[27]QH!J54) -> 0 | K54: =IF([27]QH!K54="","",[27]QH!K54) -> 0 | L54: =IF([27]QH!L54="","",[27]QH!L54) -> 0 | M54: =IF([27]QH!M54="","",[27]QH!M54) -> 0 | N54: =IF([27]QH!N54="","",[27]QH!N54) -> 0 | ... V54: =IF([27]QH!V54="","",[27]QH!V54) -> 0 | W54: =IF(COUNT(G54:N54)<2,"",ROUND(SUM(G54:N54)/$W$6,0)) -> 0 | X54: =IF(COUNT(O54:V54)<2,"",ROUND(SUM(O54:V54)/$X$6,0)) -> 0 | Y54: =IF([27]QH!Y54="","",[27]QH!Y54) -> 0 | Z54: =IFERROR(IF(OR(X54="",Y54=""),"",ROUND(((W54*$W$8)+(X54*$X$8)+(Y54*$Y$8))/$Y$6,0)),"") -> 0 | AA54: =MAX(G54:N54) -> 0 | AB54: =MIN(G54:N54) -> 0 | AC54: =MATCH(AA54,G54:N54,0) -> 1 | AD54: =MATCH(AB54,G54:N54,0) -> 1 | AE54: =IFERROR("Menunjukkan penguasaan"& " dalam "&(VLOOKUP(AC54,$G$67:$I$74,3)),"") -> Menunjukkan penguasaan dalam Memahami serta mampu mempraktikkan hukum bacaan mad thobi'I, mad wajib muttashil, dan mad jais munfashil dalam surat pendek pilihan | AF54: =IFERROR("Perlu bantuan dalam "&(VLOOKUP(AD54,$G$67:$I$74,3)),"") -> Perlu bantuan dalam Memahami serta mampu mempraktikkan hukum bacaan mad thobi'I, mad wajib muttashil, dan mad jais munfashil dalam surat pendek pilihan
B55: 1 | C55: 2 | D55: 3 | E55: 4 | F55: 5 | G55: =IF([27]QH!G46="","",[27]QH!G46) -> 0 | H55: =IF([27]QH!H46="","",[27]QH!H46) -> 0 | I55: =IF([27]QH!I46="","",[27]QH!I46) -> 0 | J55: =IF([27]QH!J46="","",[27]QH!J46) -> 0 | K55: =IF([27]QH!K46="","",[27]QH!K46) -> 0 | L55: =IF([27]QH!L46="","",[27]QH!L46) -> 0 | M55: =IF([27]QH!M46="","",[27]QH!M46) -> 0 | N55: =IF([27]QH!N46="","",[27]QH!N46) -> 0 | ... V55: =IF([27]QH!V46="","",[27]QH!V46) -> 0 | W55: 22 | X55: 23 | Y55: 24 | Z55: 25 | AA55: 27 | AB55: 28 | AC55: 31 | AD55: 32 | AE55: 33 | AF55: 34
G56: =IF([27]QH!G47="","",[27]QH!G47) -> 0 | H56: =IF([27]QH!H47="","",[27]QH!H47) -> 0 | I56: =IF([27]QH!I47="","",[27]QH!I47) -> 0 | J56: =IF([27]QH!J47="","",[27]QH!J47) -> 0 | K56: =IF([27]QH!K47="","",[27]QH!K47) -> 0 | L56: =IF([27]QH!L47="","",[27]QH!L47) -> 0 | M56: =IF([27]QH!M47="","",[27]QH!M47) -> 0 | N56: =IF([27]QH!N47="","",[27]QH!N47) -> 0 | ... V56: =IF([27]QH!V47="","",[27]QH!V47) -> 0
U58: Pegandon,
U59: Guru Mata Pelajaran
U64: NIP.
G66: No | H66: Kode | I66: Ringkasan Capaian Pembelajaran yang di Nilai (Max 100 huruf kecil semua)
C67: Tulis Tujuan Pembelajaran DISINI >>> | F67: FORMATIF | G67: 1 | H67: TP-1 | I67: =IF([27]QH!I63="","",[27]QH!I63) -> Memahami serta mampu mempraktikkan hukum bacaan mad thobi'I, mad wajib muttashil, dan mad jais munfashil dalam surat pendek pilihan
C68: Penulisan Tujuan Pembelajaran dimaksudkan | G68: 2 | H68: TP-2 | I68: =IF([27]QH!I64="","",[27]QH!I64) -> memahai isi kandungan surat Al Balad, Surat Az Zumar, surat Al Baqarah ayat 153 serta mampu mengamalkan nilai positif dan menghindari nili-nilai negatif sebagaimana keterangan dalam surat dan ayat tersebut
C69: sebagai bahan dasar penulisan: | G69: 3 | H69: TP-3 | I69: =IF([27]QH!I65="","",[27]QH!I65) -> memahai isi kandungan Hadis riwayat Muslim dari abu Yahya, Hadis riwayat Tirmidzi dari Abdullah Bin Abbas, Hadis riwayat Muslim dari Abu Hurairah serta mampu mengamalkan nilai positif dan menghindari nili-nilai negatif sebagaimana keterangan dalamhadis tersebut.
C70: Capaian Kompetensi | G70: 4 | H70: TP-4 | I70: =IF([27]QH!I66="","",[27]QH!I66) -> 0
G71: 5 | H71: TP-5 | I71: =IF([27]QH!I67="","",[27]QH!I67) -> 0
G72: 6 | H72: TP-6 | I72: =IF([27]QH!I68="","",[27]QH!I68) -> 0
G73: 7 | H73: TP-7 | I73: =IF([27]QH!I69="","",[27]QH!I69) -> 0
G74: 8 | H74: TP-8 | I74: =IF([27]QH!I70="","",[27]QH!I70) -> 0
G78: PREDIKAT NILAI PENGETAHUAN
G79: Interval Nilai | J79: Predikat
G80: =I81+1 -> #REF! | H80: - | I80: 100 | J80: sangat baik
G81: =I82+1 -> #REF! | H81: - | I81: =ROUNDDOWN(G81+($I$80-G81)/2,0) -> #REF! | J81: baik
G82: =#REF! -> #REF! | H82: - | I82: =ROUNDDOWN(G82+($I$80-G82)/3,0) -> #REF! | J82: cukup
G83: 0 | H83: - | I83: =G82-1 -> #REF! | J83: perlu bantuan
G85: PREDIKAT NILAI PENGETAHUAN
G86: Interval Nilai | J86: Predikat
G87: =G80 -> #REF! | H87: - | I87: =I80 -> 100 | J87: sangat baik
G88: =G81 -> #REF! | H88: - | I88: =I81 -> #REF! | J88: baik
G89: =G82 -> #REF! | H89: - | I89: =I82 -> #REF! | J89: cukup
G90: =G83 -> 0 | H90: - | I90: =I83 -> #REF! | J90: perlu bantuan

Sheet FIQIH
E2: JANGAN LAKUKAN CUT/MOVE/COPY-PASTE | G2: =Data!C4 -> SMP ISLAM PEGANDON
G3: ="TAHUN PELAJARAN "&Data!$C$20 -> TAHUN PELAJARAN 2024 / 2025
E4: Boleh dengan langkah: copy >> paste special values | G4: =Menu!B18 -> Fiqih
G5: ='AQIDAH - AKHLAK'!G5 -> Perolehan Hasil Assesmen Peserta Didik Kelas IX B Semester II ( Genap )
G6: =IF(COUNT(G9:G54)>0,1,"") -> 1 | H6: =IF(COUNT(H9:H54)>0,1,"") -> 1 | I6: =IF(COUNT(I9:I54)>0,1,"") -> 1 | J6: =IF(COUNT(J9:J54)>0,1,"") -> 1 | K6: =IF(COUNT(K9:K54)>0,1,"") -> 1 | L6: =IF(COUNT(L9:L54)>0,1,"") -> 1 | M6: =IF(COUNT(M9:M54)>0,1,"") -> 1 | N6: =IF(COUNT(N9:N54)>0,1,"") -> 1 | ... V6: =IF(COUNT(V9:V54)>0,1,"") -> 1 | W6: =SUM(G6:N6) -> 8 | X6: =SUM(O6:V6) -> 8 | Y6: =SUM(W8:Y8) -> 3
B7: NO | C7: NIS | D7: NISN | E7: NAMA | F7: LP | G7: FORMATIF | O7: SUMATIF | W7: NA FORMATIF | X7: NA SUMATIF | Y7: SUMATIF AKHIR SEM | Z7: NILAI AKHIR | AE7: CAPAIAN KOMPETENSI TERTINGGI (OTOMATIS) | AF7: CAPAIAN KOMPETENSI TERENDAH (OTOMATIS)
G8: =H67 -> TP-1 | H8: =H68 -> TP-2 | I8: =H69 -> TP-3 | J8: =H70 -> TP-4 | K8: =H71 -> TP-5 | L8: =H72 -> TP-6 | M8: =H73 -> TP-7 | N8: =H74 -> TP-8 | O8: SUM-1 | P8: SUM-2 | Q8: SUM-3 | R8: SUM-4 | S8: SUM-5 | T8: SUM-6 | U8: SUM-7 | V8: SUM-8 | W8: 1 | X8: 1 | Y8: 1 | AA8: MAX | AB8: MIN | AC8: Alamat
B9: 1 | C9: =IF(Data!F5="","",Data!F5) -> 2111 | D9: =IF(Data!G5="","",Data!G5) -> 3109336136 | E9: =IF(Data!H5="","",Data!H5) -> AGA ALBANI ZAMIR | F9: =IF(Data!I5="","",Data!I5) -> L | G9: =IF([28]FQH!$G$9="","",[28]FQH!$G$9) -> 80 | H9: =IF([28]FQH!H9="","",[28]FQH!H9) -> 85 | I9: =IF([28]FQH!I9="","",[28]FQH!I9) -> 0 | J9: =IF([28]FQH!J9="","",[28]FQH!J9) -> 0 | K9: =IF([28]FQH!K9="","",[28]FQH!K9) -> 0 | L9: =IF([28]FQH!L9="","",[28]FQH!L9) -> 0 | M9: =IF([28]FQH!M9="","",[28]FQH!M9) -> 0 | N9: =IF([28]FQH!N9="","",[28]FQH!N9) -> 0 | O9: =IF([28]FQH!O9="","",[28]FQH!O9) -> 90 | ... Y9: =IF([28]FQH!Y9="","",[28]FQH!Y9) -> 76 | Z9: =IFERROR(IF(OR(X9="",Y9=""),"",ROUND(((W9*$W$8)+(X9*$X$8)+(Y9*$Y$8))/$Y$6,0)),"") -> 81 | AA9: =MAX(G9:N9) -> 85 | AB9: =MIN(G9:N9) -> 0 | AC9: =MATCH(AA9,G9:N9,0) -> 2 | AD9: =MATCH(AB9,G9:N9,0) -> 3 | AE9: =IFERROR("Menunjukkan penguasaan"& " dalam "&(VLOOKUP(AC9,$G$67:$I$74,3)),"") -> Menunjukkan penguasaan dalam Menjelaskan pengertian, syarat, rukun, dan ketentuan-ketentuan ;lain dalam pelaksanaan shalat jamak dan Qasar dan ketentuan -ketentuan syariat dalam tata cara pelaksanaan shalat fardlu dalam kondisi tertentu seperti sakitdan dalam perjalanan | AF9: =IFERROR("Perlu bantuan dalam "&(VLOOKUP(AD9,$G$67:$I$74,3)),"") -> Perlu bantuan dalam mengidentifikasi ketentuan-ketentuan shalat sunnah Mu'aqad dan ghairu mu'akad dan hikmah dari shalat sunnah mu'aqad dan shalat sunnah ghairu mu'aqad
B10: =IF(E10="","",B9+1) -> 2 | C10: =IF(Data!F6="","",Data!F6) -> 2100 | D10: =IF(Data!G6="","",Data!G6) -> 0108954708 | E10: =IF(Data!H6="","",Data!H6) -> AKBAR FIRLY MAULANA | F10: =IF(Data!I6="","",Data!I6) -> L | G10: =IF([28]FQH!G10="","",[28]FQH!G10) -> 90 | H10: =IF([28]FQH!H10="","",[28]FQH!H10) -> 92 | I10: =IF([28]FQH!I10="","",[28]FQH!I10) -> 0 | J10: =IF([28]FQH!J10="","",[28]FQH!J10) -> 0 | K10: =IF([28]FQH!K10="","",[28]FQH!K10) -> 0 | L10: =IF([28]FQH!L10="","",[28]FQH!L10) -> 0 | M10: =IF([28]FQH!M10="","",[28]FQH!M10) -> 0 | N10: =IF([28]FQH!N10="","",[28]FQH!N10) -> 0 | ... Y10: =IF([28]FQH!Y10="","",[28]FQH!Y10) -> 84 | Z10: =IFERROR(IF(OR(X10="",Y10=""),"",ROUND(((W10*$W$8)+(X10*$X$8)+(Y10*$Y$8))/$Y$6,0)),"") -> 88 | AA10: =MAX(G10:N10) -> 92 | AB10: =MIN(G10:N10) -> 0 | AC10: =MATCH(AA10,G10:N10,0) -> 2 | AD10: =MATCH(AB10,G10:N10,0) -> 3 | AE10: =IFERROR("Menunjukkan penguasaan"& " dalam "&(VLOOKUP(AC10,$G$67:$I$74,3)),"") -> Menunjukkan penguasaan dalam Menjelaskan pengertian, syarat, rukun, dan ketentuan-ketentuan ;lain dalam pelaksanaan shalat jamak dan Qasar dan ketentuan -ketentuan syariat dalam tata cara pelaksanaan shalat fardlu dalam kondisi tertentu seperti sakitdan dalam perjalanan | AF10: =IFERROR("Perlu bantuan dalam "&(VLOOKUP(AD10,$G$67:$I$74,3)),"") -> Perlu bantuan dalam mengidentifikasi ketentuan-ketentuan shalat sunnah Mu'aqad dan ghairu mu'akad dan hikmah dari shalat sunnah mu'aqad dan shalat sunnah ghairu mu'aqad
B11: =IF(E11="","",B10+1) -> 3 | C11: =IF(Data!F7="","",Data!F7) -> 2085 | D11: =IF(Data!G7="","",Data!G7) -> 0093911821 | E11: =IF(Data!H7="","",Data!H7) -> ALVINO EWALDO | F11: =IF(Data!I7="","",Data!I7) -> L | G11: =IF([28]FQH!G11="","",[28]FQH!G11) -> 85 | H11: =IF([28]FQH!H11="","",[28]FQH!H11) -> 86 | I11: =IF([28]FQH!I11="","",[28]FQH!I11) -> 0 | J11: =IF([28]FQH!J11="","",[28]FQH!J11) -> 0 | K11: =IF([28]FQH!K11="","",[28]FQH!K11) -> 0 | L11: =IF([28]FQH!L11="","",[28]FQH!L11) -> 0 | M11: =IF([28]FQH!M11="","",[28]FQH!M11) -> 0 | N11: =IF([28]FQH!N11="","",[28]FQH!N11) -> 0 | ... Y11: =IF([28]FQH!Y11="","",[28]FQH!Y11) -> 82 | Z11: =IFERROR(IF(OR(X11="",Y11=""),"",ROUND(((W11*$W$8)+(X11*$X$8)+(Y11*$Y$8))/$Y$6,0)),"") -> 85 | AA11: =MAX(G11:N11) -> 86 | AB11: =MIN(G11:N11) -> 0 | AC11: =MATCH(AA11,G11:N11,0) -> 2 | AD11: =MATCH(AB11,G11:N11,0) -> 3 | AE11: =IFERROR("Menunjukkan penguasaan"& " dalam "&(VLOOKUP(AC11,$G$67:$I$74,3)),"") -> Menunjukkan penguasaan dalam Menjelaskan pengertian, syarat, rukun, dan ketentuan-ketentuan ;lain dalam pelaksanaan shalat jamak dan Qasar dan ketentuan -ketentuan syariat dalam tata cara pelaksanaan shalat fardlu dalam kondisi tertentu seperti sakitdan dalam perjalanan | AF11: =IFERROR("Perlu bantuan dalam "&(VLOOKUP(AD11,$G$67:$I$74,3)),"") -> Perlu bantuan dalam mengidentifikasi ketentuan-ketentuan shalat sunnah Mu'aqad dan ghairu mu'akad dan hikmah dari shalat sunnah mu'aqad dan shalat sunnah ghairu mu'aqad
B12: =IF(E12="","",B11+1) -> 4 | C12: =IF(Data!F8="","",Data!F8) -> 2075 | D12: =IF(Data!G8="","",Data!G8) -> 0098772064 | E12: =IF(Data!H8="","",Data!H8) -> AURA SUCI RAMADHANI | F12: =IF(Data!I8="","",Data!I8) -> P | G12: =IF([28]FQH!G12="","",[28]FQH!G12) -> 80 | H12: =IF([28]FQH!H12="","",[28]FQH!H12) -> 80 | I12: =IF([28]FQH!I12="","",[28]FQH!I12) -> 0 | J12: =IF([28]FQH!J12="","",[28]FQH!J12) -> 0 | K12: =IF([28]FQH!K12="","",[28]FQH!K12) -> 0 | L12: =IF([28]FQH!L12="","",[28]FQH!L12) -> 0 | M12: =IF([28]FQH!M12="","",[28]FQH!M12) -> 0 | N12: =IF([28]FQH!N12="","",[28]FQH!N12) -> 0 | ... Y12: =IF([28]FQH!Y12="","",[28]FQH!Y12) -> 86 | Z12: =IFERROR(IF(OR(X12="",Y12=""),"",ROUND(((W12*$W$8)+(X12*$X$8)+(Y12*$Y$8))/$Y$6,0)),"") -> 84 | AA12: =MAX(G12:N12) -> 80 | AB12: =MIN(G12:N12) -> 0 | AC12: =MATCH(AA12,G12:N12,0) -> 1 | AD12: =MATCH(AB12,G12:N12,0) -> 3 | AE12: =IFERROR("Menunjukkan penguasaan"& " dalam "&(VLOOKUP(AC12,$G$67:$I$74,3)),"") -> Menunjukkan penguasaan dalam Menjelaskan pengertian, syarat, rukun, dan ketentuan dalam shalat jum'at beserta ketentuan-ketentuan dalam khutbah jum'at dan amaliyah - amaliyah sunnah yang disyariatkan dihari jum'at | AF12: =IFERROR("Perlu bantuan dalam "&(VLOOKUP(AD12,$G$67:$I$74,3)),"") -> Perlu bantuan dalam mengidentifikasi ketentuan-ketentuan shalat sunnah Mu'aqad dan ghairu mu'akad dan hikmah dari shalat sunnah mu'aqad dan shalat sunnah ghairu mu'aqad
B13: =IF(E13="","",B12+1) -> 5 | C13: =IF(Data!F9="","",Data!F9) -> 2086 | D13: =IF(Data!G9="","",Data!G9) -> 0103867888 | E13: =IF(Data!H9="","",Data!H9) -> AYU SAFNA | F13: =IF(Data!I9="","",Data!I9) -> P | G13: =IF([28]FQH!G13="","",[28]FQH!G13) -> 85 | H13: =IF([28]FQH!H13="","",[28]FQH!H13) -> 83 | I13: =IF([28]FQH!I13="","",[28]FQH!I13) -> 0 | J13: =IF([28]FQH!J13="","",[28]FQH!J13) -> 0 | K13: =IF([28]FQH!K13="","",[28]FQH!K13) -> 0 | L13: =IF([28]FQH!L13="","",[28]FQH!L13) -> 0 | M13: =IF([28]FQH!M13="","",[28]FQH!M13) -> 0 | N13: =IF([28]FQH!N13="","",[28]FQH!N13) -> 0 | ... Y13: =IF([28]FQH!Y13="","",[28]FQH!Y13) -> 80 | Z13: =IFERROR(IF(OR(X13="",Y13=""),"",ROUND(((W13*$W$8)+(X13*$X$8)+(Y13*$Y$8))/$Y$6,0)),"") -> 83 | AA13: =MAX(G13:N13) -> 85 | AB13: =MIN(G13:N13) -> 0 | AC13: =MATCH(AA13,G13:N13,0) -> 1 | AD13: =MATCH(AB13,G13:N13,0) -> 3 | AE13: =IFERROR("Menunjukkan penguasaan"& " dalam "&(VLOOKUP(AC13,$G$67:$I$74,3)),"") -> Menunjukkan penguasaan dalam Menjelaskan pengertian, syarat, rukun, dan ketentuan dalam shalat jum'at beserta ketentuan-ketentuan dalam khutbah jum'at dan amaliyah - amaliyah sunnah yang disyariatkan dihari jum'at | AF13: =IFERROR("Perlu bantuan dalam "&(VLOOKUP(AD13,$G$67:$I$74,3)),"") -> Perlu bantuan dalam mengidentifikasi ketentuan-ketentuan shalat sunnah Mu'aqad dan ghairu mu'akad dan hikmah dari shalat sunnah mu'aqad dan shalat sunnah ghairu mu'aqad
B14: =IF(E14="","",B13+1) -> 6 | C14: =IF(Data!F10="","",Data!F10) -> 2089 | D14: =IF(Data!G10="","",Data!G10) -> 3098656100 | E14: =IF(Data!H10="","",Data!H10) -> DEWI AYU NURHALIZA | F14: =IF(Data!I10="","",Data!I10) -> P | G14: =IF([28]FQH!G14="","",[28]FQH!G14) -> 83 | H14: =IF([28]FQH!H14="","",[28]FQH!H14) -> 80 | I14: =IF([28]FQH!I14="","",[28]FQH!I14) -> 0 | J14: =IF([28]FQH!J14="","",[28]FQH!J14) -> 0 | K14: =IF([28]FQH!K14="","",[28]FQH!K14) -> 0 | L14: =IF([28]FQH!L14="","",[28]FQH!L14) -> 0 | M14: =IF([28]FQH!M14="","",[28]FQH!M14) -> 0 | N14: =IF([28]FQH!N14="","",[28]FQH!N14) -> 0 | ... Y14: =IF([28]FQH!Y14="","",[28]FQH!Y14) -> 80 | Z14: =IFERROR(IF(OR(X14="",Y14=""),"",ROUND(((W14*$W$8)+(X14*$X$8)+(Y14*$Y$8))/$Y$6,0)),"") -> 82 | AA14: =MAX(G14:N14) -> 83 | AB14: =MIN(G14:N14) -> 0 | AC14: =MATCH(AA14,G14:N14,0) -> 1 | AD14: =MATCH(AB14,G14:N14,0) -> 3 | AE14: =IFERROR("Menunjukkan penguasaan"& " dalam "&(VLOOKUP(AC14,$G$67:$I$74,3)),"") -> Menunjukkan penguasaan dalam Menjelaskan pengertian, syarat, rukun, dan ketentuan dalam shalat jum'at beserta ketentuan-ketentuan dalam khutbah jum'at dan amaliyah - amaliyah sunnah yang disyariatkan dihari jum'at | AF14: =IFERROR("Perlu bantuan dalam "&(VLOOKUP(AD14,$G$67:$I$74,3)),"") -> Perlu bantuan dalam mengidentifikasi ketentuan-ketentuan shalat sunnah Mu'aqad dan ghairu mu'akad dan hikmah dari shalat sunnah mu'aqad dan shalat sunnah ghairu mu'aqad
B15: =IF(E15="","",B14+1) -> 7 | C15: =IF(Data!F11="","",Data!F11) -> 2115 | D15: =IF(Data!G11="","",Data!G11) -> 0105966564 | E15: =IF(Data!H11="","",Data!H11) -> FADLY ARYA PUTRA | F15: =IF(Data!I11="","",Data!I11) -> L | G15: =IF([28]FQH!G15="","",[28]FQH!G15) -> 84 | H15: =IF([28]FQH!H15="","",[28]FQH!H15) -> 80 | I15: =IF([28]FQH!I15="","",[28]FQH!I15) -> 0 | J15: =IF([28]FQH!J15="","",[28]FQH!J15) -> 0 | K15: =IF([28]FQH!K15="","",[28]FQH!K15) -> 0 | L15: =IF([28]FQH!L15="","",[28]FQH!L15) -> 0 | M15: =IF([28]FQH!M15="","",[28]FQH!M15) -> 0 | N15: =IF([28]FQH!N15="","",[28]FQH!N15) -> 0 | ... Y15: =IF([28]FQH!Y15="","",[28]FQH!Y15) -> 79 | Z15: =IFERROR(IF(OR(X15="",Y15=""),"",ROUND(((W15*$W$8)+(X15*$X$8)+(Y15*$Y$8))/$Y$6,0)),"") -> 82 | AA15: =MAX(G15:N15) -> 84 | AB15: =MIN(G15:N15) -> 0 | AC15: =MATCH(AA15,G15:N15,0) -> 1 | AD15: =MATCH(AB15,G15:N15,0) -> 3 | AE15: =IFERROR("Menunjukkan penguasaan"& " dalam "&(VLOOKUP(AC15,$G$67:$I$74,3)),"") -> Menunjukkan penguasaan dalam Menjelaskan pengertian, syarat, rukun, dan ketentuan dalam shalat jum'at beserta ketentuan-ketentuan dalam khutbah jum'at dan amaliyah - amaliyah sunnah yang disyariatkan dihari jum'at | AF15: =IFERROR("Perlu bantuan dalam "&(VLOOKUP(AD15,$G$67:$I$74,3)),"") -> Perlu bantuan dalam mengidentifikasi ketentuan-ketentuan shalat sunnah Mu'aqad dan ghairu mu'akad dan hikmah dari shalat sunnah mu'aqad dan shalat sunnah ghairu mu'aqad
B16: =IF(E16="","",B15+1) -> 8 | C16: =IF(Data!F12="","",Data!F12) -> 2082 | D16: =IF(Data!G12="","",Data!G12) -> 3092203012 | E16: =IF(Data!H12="","",Data!H12) -> ILHAM MAULANA | F16: =IF(Data!I12="","",Data!I12) -> L | G16: =IF([28]FQH!G16="","",[28]FQH!G16) -> 78 | H16: =IF([28]FQH!H16="","",[28]FQH!H16) -> 77 | I16: =IF([28]FQH!I16="","",[28]FQH!I16) -> 0 | J16: =IF([28]FQH!J16="","",[28]FQH!J16) -> 0 | K16: =IF([28]FQH!K16="","",[28]FQH!K16) -> 0 | L16: =IF([28]FQH!L16="","",[28]FQH!L16) -> 0 | M16: =IF([28]FQH!M16="","",[28]FQH!M16) -> 0 | N16: =IF([28]FQH!N16="","",[28]FQH!N16) -> 0 | ... Y16: =IF([28]FQH!Y16="","",[28]FQH!Y16) -> 76 | Z16: =IFERROR(IF(OR(X16="",Y16=""),"",ROUND(((W16*$W$8)+(X16*$X$8)+(Y16*$Y$8))/$Y$6,0)),"") -> 77 | AA16: =MAX(G16:N16) -> 78 | AB16: =MIN(G16:N16) -> 0 | AC16: =MATCH(AA16,G16:N16,0) -> 1 | AD16: =MATCH(AB16,G16:N16,0) -> 3 | AE16: =IFERROR("Menunjukkan penguasaan"& " dalam "&(VLOOKUP(AC16,$G$67:$I$74,3)),"") -> Menunjukkan penguasaan dalam Menjelaskan pengertian, syarat, rukun, dan ketentuan dalam shalat jum'at beserta ketentuan-ketentuan dalam khutbah jum'at dan amaliyah - amaliyah sunnah yang disyariatkan dihari jum'at | AF16: =IFERROR("Perlu bantuan dalam "&(VLOOKUP(AD16,$G$67:$I$74,3)),"") -> Perlu bantuan dalam mengidentifikasi ketentuan-ketentuan shalat sunnah Mu'aqad dan ghairu mu'akad dan hikmah dari shalat sunnah mu'aqad dan shalat sunnah ghairu mu'aqad
B17: =IF(E17="","",B16+1) -> 9 | C17: =IF(Data!F13="","",Data!F13) -> 2088 | D17: =IF(Data!G13="","",Data!G13) -> 3106632526 | E17: =IF(Data!H13="","",Data!H13) -> INDAH VIOLAFITRA | F17: =IF(Data!I13="","",Data!I13) -> P | G17: =IF([28]FQH!G17="","",[28]FQH!G17) -> 90 | H17: =IF([28]FQH!H17="","",[28]FQH!H17) -> 89 | I17: =IF([28]FQH!I17="","",[28]FQH!I17) -> 0 | J17: =IF([28]FQH!J17="","",[28]FQH!J17) -> 0 | K17: =IF([28]FQH!K17="","",[28]FQH!K17) -> 0 | L17: =IF([28]FQH!L17="","",[28]FQH!L17) -> 0 | M17: =IF([28]FQH!M17="","",[28]FQH!M17) -> 0 | N17: =IF([28]FQH!N17="","",[28]FQH!N17) -> 0 | ... Y17: =IF([28]FQH!Y17="","",[28]FQH!Y17) -> 78 | Z17: =IFERROR(IF(OR(X17="",Y17=""),"",ROUND(((W17*$W$8)+(X17*$X$8)+(Y17*$Y$8))/$Y$6,0)),"") -> 85 | AA17: =MAX(G17:N17) -> 90 | AB17: =MIN(G17:N17) -> 0 | AC17: =MATCH(AA17,G17:N17,0) -> 1 | AD17: =MATCH(AB17,G17:N17,0) -> 3 | AE17: =IFERROR("Menunjukkan penguasaan"& " dalam "&(VLOOKUP(AC17,$G$67:$I$74,3)),"") -> Menunjukkan penguasaan dalam Menjelaskan pengertian, syarat, rukun, dan ketentuan dalam shalat jum'at beserta ketentuan-ketentuan dalam khutbah jum'at dan amaliyah - amaliyah sunnah yang disyariatkan dihari jum'at | AF17: =IFERROR("Perlu bantuan dalam "&(VLOOKUP(AD17,$G$67:$I$74,3)),"") -> Perlu bantuan dalam mengidentifikasi ketentuan-ketentuan shalat sunnah Mu'aqad dan ghairu mu'akad dan hikmah dari shalat sunnah mu'aqad dan shalat sunnah ghairu mu'aqad
B18: =IF(E18="","",B17+1) -> 10 | C18: =IF(Data!F14="","",Data!F14) -> 2109 | D18: =IF(Data!G14="","",Data!G14) -> 3092608052 | E18: =IF(Data!H14="","",Data!H14) -> KEVIN FAHREZI | F18: =IF(Data!I14="","",Data!I14) -> L | G18: =IF([28]FQH!G18="","",[28]FQH!G18) -> 74 | H18: =IF([28]FQH!H18="","",[28]FQH!H18) -> 74 | I18: =IF([28]FQH!I18="","",[28]FQH!I18) -> 0 | J18: =IF([28]FQH!J18="","",[28]FQH!J18) -> 0 | K18: =IF([28]FQH!K18="","",[28]FQH!K18) -> 0 | L18: =IF([28]FQH!L18="","",[28]FQH!L18) -> 0 | M18: =IF([28]FQH!M18="","",[28]FQH!M18) -> 0 | N18: =IF([28]FQH!N18="","",[28]FQH!N18) -> 0 | ... Y18: =IF([28]FQH!Y18="","",[28]FQH!Y18) -> 74 | Z18: =IFERROR(IF(OR(X18="",Y18=""),"",ROUND(((W18*$W$8)+(X18*$X$8)+(Y18*$Y$8))/$Y$6,0)),"") -> 74 | AA18: =MAX(G18:N18) -> 74 | AB18: =MIN(G18:N18) -> 0 | AC18: =MATCH(AA18,G18:N18,0) -> 1 | AD18: =MATCH(AB18,G18:N18,0) -> 3 | AE18: =IFERROR("Menunjukkan penguasaan"& " dalam "&(VLOOKUP(AC18,$G$67:$I$74,3)),"") -> Menunjukkan penguasaan dalam Menjelaskan pengertian, syarat, rukun, dan ketentuan dalam shalat jum'at beserta ketentuan-ketentuan dalam khutbah jum'at dan amaliyah - amaliyah sunnah yang disyariatkan dihari jum'at | AF18: =IFERROR("Perlu bantuan dalam "&(VLOOKUP(AD18,$G$67:$I$74,3)),"") -> Perlu bantuan dalam mengidentifikasi ketentuan-ketentuan shalat sunnah Mu'aqad dan ghairu mu'akad dan hikmah dari shalat sunnah mu'aqad dan shalat sunnah ghairu mu'aqad
B19: =IF(E19="","",B18+1) -> 11 | C19: =IF(Data!F15="","",Data!F15) -> 2096 | D19: =IF(Data!G15="","",Data!G15) -> 0107523037 | E19: =IF(Data!H15="","",Data!H15) -> M. IZAM AZMI | F19: =IF(Data!I15="","",Data!I15) -> L | G19: =IF([28]FQH!G19="","",[28]FQH!G19) -> 85 | H19: =IF([28]FQH!H19="","",[28]FQH!H19) -> 85 | I19: =IF([28]FQH!I19="","",[28]FQH!I19) -> 0 | J19: =IF([28]FQH!J19="","",[28]FQH!J19) -> 0 | K19: =IF([28]FQH!K19="","",[28]FQH!K19) -> 0 | L19: =IF([28]FQH!L19="","",[28]FQH!L19) -> 0 | M19: =IF([28]FQH!M19="","",[28]FQH!M19) -> 0 | N19: =IF([28]FQH!N19="","",[28]FQH!N19) -> 0 | ... Y19: =IF([28]FQH!Y19="","",[28]FQH!Y19) -> 78 | Z19: =IFERROR(IF(OR(X19="",Y19=""),"",ROUND(((W19*$W$8)+(X19*$X$8)+(Y19*$Y$8))/$Y$6,0)),"") -> 81 | AA19: =MAX(G19:N19) -> 85 | AB19: =MIN(G19:N19) -> 0 | AC19: =MATCH(AA19,G19:N19,0) -> 1 | AD19: =MATCH(AB19,G19:N19,0) -> 3 | AE19: =IFERROR("Menunjukkan penguasaan"& " dalam "&(VLOOKUP(AC19,$G$67:$I$74,3)),"") -> Menunjukkan penguasaan dalam Menjelaskan pengertian, syarat, rukun, dan ketentuan dalam shalat jum'at beserta ketentuan-ketentuan dalam khutbah jum'at dan amaliyah - amaliyah sunnah yang disyariatkan dihari jum'at | AF19: =IFERROR("Perlu bantuan dalam "&(VLOOKUP(AD19,$G$67:$I$74,3)),"") -> Perlu bantuan dalam mengidentifikasi ketentuan-ketentuan shalat sunnah Mu'aqad dan ghairu mu'akad dan hikmah dari shalat sunnah mu'aqad dan shalat sunnah ghairu mu'aqad
B20: =IF(E20="","",B19+1) -> 12 | C20: =IF(Data!F16="","",Data!F16) -> 2102 | D20: =IF(Data!G16="","",Data!G16) -> 0104675982 | E20: =IF(Data!H16="","",Data!H16) -> M. RAFFY MAULA DANNY | F20: =IF(Data!I16="","",Data!I16) -> L | G20: =IF([28]FQH!G20="","",[28]FQH!G20) -> 83 | H20: =IF([28]FQH!H20="","",[28]FQH!H20) -> 84 | I20: =IF([28]FQH!I20="","",[28]FQH!I20) -> 0 | J20: =IF([28]FQH!J20="","",[28]FQH!J20) -> 0 | K20: =IF([28]FQH!K20="","",[28]FQH!K20) -> 0 | L20: =IF([28]FQH!L20="","",[28]FQH!L20) -> 0 | M20: =IF([28]FQH!M20="","",[28]FQH!M20) -> 0 | N20: =IF([28]FQH!N20="","",[28]FQH!N20) -> 0 | ... Y20: =IF([28]FQH!Y20="","",[28]FQH!Y20) -> 79 | Z20: =IFERROR(IF(OR(X20="",Y20=""),"",ROUND(((W20*$W$8)+(X20*$X$8)+(Y20*$Y$8))/$Y$6,0)),"") -> 82 | AA20: =MAX(G20:N20) -> 84 | AB20: =MIN(G20:N20) -> 0 | AC20: =MATCH(AA20,G20:N20,0) -> 2 | AD20: =MATCH(AB20,G20:N20,0) -> 3 | AE20: =IFERROR("Menunjukkan penguasaan"& " dalam "&(VLOOKUP(AC20,$G$67:$I$74,3)),"") -> Menunjukkan penguasaan dalam Menjelaskan pengertian, syarat, rukun, dan ketentuan-ketentuan ;lain dalam pelaksanaan shalat jamak dan Qasar dan ketentuan -ketentuan syariat dalam tata cara pelaksanaan shalat fardlu dalam kondisi tertentu seperti sakitdan dalam perjalanan | AF20: =IFERROR("Perlu bantuan dalam "&(VLOOKUP(AD20,$G$67:$I$74,3)),"") -> Perlu bantuan dalam mengidentifikasi ketentuan-ketentuan shalat sunnah Mu'aqad dan ghairu mu'akad dan hikmah dari shalat sunnah mu'aqad dan shalat sunnah ghairu mu'aqad
B21: =IF(E21="","",B20+1) -> 13 | C21: =IF(Data!F17="","",Data!F17) -> 2090 | D21: =IF(Data!G17="","",Data!G17) -> 3090477421 | E21: =IF(Data!H17="","",Data!H17) -> MARWAH RIANA | F21: =IF(Data!I17="","",Data!I17) -> P | G21: =IF([28]FQH!G21="","",[28]FQH!G21) -> 92 | H21: =IF([28]FQH!H21="","",[28]FQH!H21) -> 93 | I21: =IF([28]FQH!I21="","",[28]FQH!I21) -> 0 | J21: =IF([28]FQH!J21="","",[28]FQH!J21) -> 0 | K21: =IF([28]FQH!K21="","",[28]FQH!K21) -> 0 | L21: =IF([28]FQH!L21="","",[28]FQH!L21) -> 0 | M21: =IF([28]FQH!M21="","",[28]FQH!M21) -> 0 | N21: =IF([28]FQH!N21="","",[28]FQH!N21) -> 0 | ... Y21: =IF([28]FQH!Y21="","",[28]FQH!Y21) -> 79 | Z21: =IFERROR(IF(OR(X21="",Y21=""),"",ROUND(((W21*$W$8)+(X21*$X$8)+(Y21*$Y$8))/$Y$6,0)),"") -> 86 | AA21: =MAX(G21:N21) -> 93 | AB21: =MIN(G21:N21) -> 0 | AC21: =MATCH(AA21,G21:N21,0) -> 2 | AD21: =MATCH(AB21,G21:N21,0) -> 3 | AE21: =IFERROR("Menunjukkan penguasaan"& " dalam "&(VLOOKUP(AC21,$G$67:$I$74,3)),"") -> Menunjukkan penguasaan dalam Menjelaskan pengertian, syarat, rukun, dan ketentuan-ketentuan ;lain dalam pelaksanaan shalat jamak dan Qasar dan ketentuan -ketentuan syariat dalam tata cara pelaksanaan shalat fardlu dalam kondisi tertentu seperti sakitdan dalam perjalanan | AF21: =IFERROR("Perlu bantuan dalam "&(VLOOKUP(AD21,$G$67:$I$74,3)),"") -> Perlu bantuan dalam mengidentifikasi ketentuan-ketentuan shalat sunnah Mu'aqad dan ghairu mu'akad dan hikmah dari shalat sunnah mu'aqad dan shalat sunnah ghairu mu'aqad
... B50: =IF(E50="","",B49+1) | C50: =IF(Data!F46="","",Data!F46) | D50: =IF(Data!G46="","",Data!G46) | E50: =IF(Data!H46="","",Data!H46) | F50: =IF(Data!I46="","",Data!I46) | G50: =IF([28]FQH!G50="","",[28]FQH!G50) -> 0 | H50: =IF([28]FQH!H50="","",[28]FQH!H50) -> 0 | I50: =IF([28]FQH!I50="","",[28]FQH!I50) -> 0 | J50: =IF([28]FQH!J50="","",[28]FQH!J50) -> 0 | K50: =IF([28]FQH!K50="","",[28]FQH!K50) -> 0 | L50: =IF([28]FQH!L50="","",[28]FQH!L50) -> 0 | M50: =IF([28]FQH!M50="","",[28]FQH!M50) -> 0 | N50: =IF([28]FQH!N50="","",[28]FQH!N50) -> 0 | ... Y50: =IF([28]FQH!Y50="","",[28]FQH!Y50) -> 0 | Z50: =IFERROR(IF(OR(X50="",Y50=""),"",ROUND(((W50*$W$8)+(X50*$X$8)+(Y50*$Y$8))/$Y$6,0)),"") | AA50: =MAX(G50:N50) -> 0 | AB50: =MIN(G50:N50) -> 0 | AC50: =MATCH(AA50,G50:N50,0) -> 1 | AD50: =MATCH(AB50,G50:N50,0) -> 1 | AE50: =IFERROR("Menunjukkan penguasaan"& " dalam "&(VLOOKUP(AC50,$G$67:$I$74,3)),"") -> Menunjukkan penguasaan dalam Menjelaskan pengertian, syarat, rukun, dan ketentuan dalam shalat jum'at beserta ketentuan-ketentuan dalam khutbah jum'at dan amaliyah - amaliyah sunnah yang disyariatkan dihari jum'at | AF50: =IFERROR("Perlu bantuan dalam "&(VLOOKUP(AD50,$G$67:$I$74,3)),"") -> Perlu bantuan dalam Menjelaskan pengertian, syarat, rukun, dan ketentuan dalam shalat jum'at beserta ketentuan-ketentuan dalam khutbah jum'at dan amaliyah - amaliyah sunnah yang disyariatkan dihari jum'at
B51: =IF(E51="","",B50+1) | C51: =IF(Data!F47="","",Data!F47) | D51: =IF(Data!G47="","",Data!G47) | E51: =IF(Data!H47="","",Data!H47) | F51: =IF(Data!I47="","",Data!I47) | G51: =IF([28]FQH!#REF!="","",[28]FQH!#REF!) -> #REF! | H51: =IF([28]FQH!#REF!="","",[28]FQH!#REF!) -> #REF! | I51: =IF([28]FQH!#REF!="","",[28]FQH!#REF!) -> #REF! | J51: =IF([28]FQH!#REF!="","",[28]FQH!#REF!) -> #REF! | K51: =IF([28]FQH!#REF!="","",[28]FQH!#REF!) -> #REF! | L51: =IF([28]FQH!#REF!="","",[28]FQH!#REF!) -> #REF! | M51: =IF([28]FQH!#REF!="","",[28]FQH!#REF!) -> #REF! | N51: =IF([28]FQH!#REF!="","",[28]FQH!#REF!) -> #REF! | ... V51: =IF([28]FQH!#REF!="","",[28]FQH!#REF!) -> #REF! | W51: =IF(COUNT(G51:N51)<2,"",ROUND(SUM(G51:N51)/$W$6,0)) | X51: =IF(COUNT(O51:V51)<2,"",ROUND(SUM(O51:V51)/$X$6,0)) | Y51: =IF([28]FQH!#REF!="","",[28]FQH!#REF!) -> #REF! | Z51: =IFERROR(IF(OR(X51="",Y51=""),"",ROUND(((W51*$W$8)+(X51*$X$8)+(Y51*$Y$8))/$Y$6,0)),"") | AA51: =MAX(G51:N51) -> #REF! | AB51: =MIN(G51:N51) -> #REF! | AC51: =MATCH(AA51,G51:N51,0) -> #REF! | AD51: =MATCH(AB51,G51:N51,0) -> #REF! | AE51: =IFERROR("Menunjukkan penguasaan"& " dalam "&(VLOOKUP(AC51,$G$67:$I$74,3)),"") | AF51: =IFERROR("Perlu bantuan dalam "&(VLOOKUP(AD51,$G$67:$I$74,3)),"")
B52: =IF(E52="","",B51+1) | C52: =IF(Data!F48="","",Data!F48) | D52: =IF(Data!G48="","",Data!G48) | E52: =IF(Data!H48="","",Data!H48) | F52: =IF(Data!I48="","",Data!I48) | G52: =IF([28]FQH!G51="","",[28]FQH!G51) -> 0 | H52: =IF([28]FQH!H51="","",[28]FQH!H51) -> 0 | I52: =IF([28]FQH!I51="","",[28]FQH!I51) -> 0 | J52: =IF([28]FQH!J51="","",[28]FQH!J51) -> 0 | K52: =IF([28]FQH!K51="","",[28]FQH!K51) -> 0 | L52: =IF([28]FQH!L51="","",[28]FQH!L51) -> 0 | M52: =IF([28]FQH!M51="","",[28]FQH!M51) -> 0 | N52: =IF([28]FQH!N51="","",[28]FQH!N51) -> 0 | ... V52: =IF([28]FQH!V51="","",[28]FQH!V51) -> 0 | W52: =IF(COUNT(G52:N52)<2,"",ROUND(SUM(G52:N52)/$W$6,0)) -> 0 | X52: =IF(COUNT(O52:V52)<2,"",ROUND(SUM(O52:V52)/$X$6,0)) -> 0 | Y52: =IF([28]FQH!Y51="","",[28]FQH!Y51) -> 0 | Z52: =IFERROR(IF(OR(X52="",Y52=""),"",ROUND(((W52*$W$8)+(X52*$X$8)+(Y52*$Y$8))/$Y$6,0)),"") -> 0 | AA52: =MAX(G52:N52) -> 0 | AB52: =MIN(G52:N52) -> 0 | AC52: =MATCH(AA52,G52:N52,0) -> 1 | AD52: =MATCH(AB52,G52:N52,0) -> 1 | AE52: =IFERROR("Menunjukkan penguasaan"& " dalam "&(VLOOKUP(AC52,$G$67:$I$74,3)),"") -> Menunjukkan penguasaan dalam Menjelaskan pengertian, syarat, rukun, dan ketentuan dalam shalat jum'at beserta ketentuan-ketentuan dalam khutbah jum'at dan amaliyah - amaliyah sunnah yang disyariatkan dihari jum'at | AF52: =IFERROR("Perlu bantuan dalam "&(VLOOKUP(AD52,$G$67:$I$74,3)),"") -> Perlu bantuan dalam Menjelaskan pengertian, syarat, rukun, dan ketentuan dalam shalat jum'at beserta ketentuan-ketentuan dalam khutbah jum'at dan amaliyah - amaliyah sunnah yang disyariatkan dihari jum'at
B53: =IF(E53="","",B52+1) | C53: =IF(Data!F49="","",Data!F49) | D53: =IF(Data!G49="","",Data!G49) | E53: =IF(Data!H49="","",Data!H49) | F53: =IF(Data!I49="","",Data!I49) | G53: =IF([28]FQH!G52="","",[28]FQH!G52) -> 0 | H53: =IF([28]FQH!H52="","",[28]FQH!H52) -> 0 | I53: =IF([28]FQH!I52="","",[28]FQH!I52) -> 0 | J53: =IF([28]FQH!J52="","",[28]FQH!J52) -> 0 | K53: =IF([28]FQH!K52="","",[28]FQH!K52) -> 0 | L53: =IF([28]FQH!L52="","",[28]FQH!L52) -> 0 | M53: =IF([28]FQH!M52="","",[28]FQH!M52) -> 0 | N53: =IF([28]FQH!N52="","",[28]FQH!N52) -> 0 | ... V53: =IF([28]FQH!V52="","",[28]FQH!V52) -> 0 | W53: =IF(COUNT(G53:N53)<2,"",ROUND(SUM(G53:N53)/$W$6,0)) -> 0 | X53: =IF(COUNT(O53:V53)<2,"",ROUND(SUM(O53:V53)/$X$6,0)) -> 0 | Y53: =IF([28]FQH!Y52="","",[28]FQH!Y52) -> 0 | Z53: =IFERROR(IF(OR(X53="",Y53=""),"",ROUND(((W53*$W$8)+(X53*$X$8)+(Y53*$Y$8))/$Y$6,0)),"") -> 0 | AA53: =MAX(G53:N53) -> 0 | AB53: =MIN(G53:N53) -> 0 | AC53: =MATCH(AA53,G53:N53,0) -> 1 | AD53: =MATCH(AB53,G53:N53,0) -> 1 | AE53: =IFERROR("Menunjukkan penguasaan"& " dalam "&(VLOOKUP(AC53,$G$67:$I$74,3)),"") -> Menunjukkan penguasaan dalam Menjelaskan pengertian, syarat, rukun, dan ketentuan dalam shalat jum'at beserta ketentuan-ketentuan dalam khutbah jum'at dan amaliyah - amaliyah sunnah yang disyariatkan dihari jum'at | AF53: =IFERROR("Perlu bantuan dalam "&(VLOOKUP(AD53,$G$67:$I$74,3)),"") -> Perlu bantuan dalam Menjelaskan pengertian, syarat, rukun, dan ketentuan dalam shalat jum'at beserta ketentuan-ketentuan dalam khutbah jum'at dan amaliyah - amaliyah sunnah yang disyariatkan dihari jum'at
B54: =IF(E54="","",B53+1) -> #VALUE! | C54: =IF(Data!F50="","",Data!F50) -> 2 | D54: =IF(Data!G50="","",Data!G50) -> 3 | E54: =IF(Data!H50="","",Data!H50) -> 4 | F54: =IF(Data!I50="","",Data!I50) -> 5 | G54: =IF([28]FQH!G53="","",[28]FQH!G53) -> 0 | H54: =IF([28]FQH!H53="","",[28]FQH!H53) -> 0 | I54: =IF([28]FQH!I53="","",[28]FQH!I53) -> 0 | J54: =IF([28]FQH!J53="","",[28]FQH!J53) -> 0 | K54: =IF([28]FQH!K53="","",[28]FQH!K53) -> 0 | L54: =IF([28]FQH!L53="","",[28]FQH!L53) -> 0 | M54: =IF([28]FQH!M53="","",[28]FQH!M53) -> 0 | N54: =IF([28]FQH!N53="","",[28]FQH!N53) -> 0 | ... V54: =IF([28]FQH!V53="","",[28]FQH!V53) -> 0 | W54: =IF(COUNT(G54:N54)<2,"",ROUND(SUM(G54:N54)/$W$6,0)) -> 0 | X54: =IF(COUNT(O54:V54)<2,"",ROUND(SUM(O54:V54)/$X$6,0)) -> 0 | Y54: =IF([28]FQH!Y53="","",[28]FQH!Y53) -> 0 | Z54: =IFERROR(IF(OR(X54="",Y54=""),"",ROUND(((W54*$W$8)+(X54*$X$8)+(Y54*$Y$8))/$Y$6,0)),"") -> 0 | AA54: =MAX(G54:N54) -> 0 | AB54: =MIN(G54:N54) -> 0 | AC54: =MATCH(AA54,G54:N54,0) -> 1 | AD54: =MATCH(AB54,G54:N54,0) -> 1 | AE54: =IFERROR("Menunjukkan penguasaan"& " dalam "&(VLOOKUP(AC54,$G$67:$I$74,3)),"") -> Menunjukkan penguasaan dalam Menjelaskan pengertian, syarat, rukun, dan ketentuan dalam shalat jum'at beserta ketentuan-ketentuan dalam khutbah jum'at dan amaliyah - amaliyah sunnah yang disyariatkan dihari jum'at | AF54: =IFERROR("Perlu bantuan dalam "&(VLOOKUP(AD54,$G$67:$I$74,3)),"") -> Perlu bantuan dalam Menjelaskan pengertian, syarat, rukun, dan ketentuan dalam shalat jum'at beserta ketentuan-ketentuan dalam khutbah jum'at dan amaliyah - amaliyah sunnah yang disyariatkan dihari jum'at
B55: 1 | C55: 2 | D55: 3 | E55: 4 | F55: 5 | G55: =IF([28]FQH!G46="","",[28]FQH!G46) -> 0 | H55: =IF([28]FQH!H46="","",[28]FQH!H46) -> 0 | I55: =IF([28]FQH!I46="","",[28]FQH!I46) -> 0 | J55: =IF([28]FQH!J46="","",[28]FQH!J46) -> 0 | K55: =IF([28]FQH!K46="","",[28]FQH!K46) -> 0 | L55: =IF([28]FQH!L46="","",[28]FQH!L46) -> 0 | M55: =IF([28]FQH!M46="","",[28]FQH!M46) -> 0 | N55: =IF([28]FQH!N46="","",[28]FQH!N46) -> 0 | ... V55: =IF([28]FQH!V46="","",[28]FQH!V46) -> 0 | W55: 22 | X55: 23 | Y55: 24 | Z55: 25 | AA55: 27 | AB55: 28 | AC55: 31 | AD55: 32 | AE55: 33 | AF55: 34
G56: =IF([28]FQH!G47="","",[28]FQH!G47) -> 0 | H56: =IF([28]FQH!H47="","",[28]FQH!H47) -> 0 | I56: =IF([28]FQH!I47="","",[28]FQH!I47) -> 0 | J56: =IF([28]FQH!J47="","",[28]FQH!J47) -> 0 | K56: =IF([28]FQH!K47="","",[28]FQH!K47) -> 0 | L56: =IF([28]FQH!L47="","",[28]FQH!L47) -> 0 | M56: =IF([28]FQH!M47="","",[28]FQH!M47) -> 0 | N56: =IF([28]FQH!N47="","",[28]FQH!N47) -> 0 | ... V56: =IF([28]FQH!V47="","",[28]FQH!V47) -> 0
U58: Pegandon,
U59: Guru Mata Pelajaran
U64: NIP.
G66: No | H66: Kode | I66: Ringkasan Capaian Pembelajaran yang di Nilai (Max 100 huruf kecil semua)
C67: Tulis Tujuan Pembelajaran DISINI >>> | F67: FORMATIF | G67: 1 | H67: TP-1 | I67: =IF([28]FQH!I62="","",[28]FQH!I62) -> Menjelaskan pengertian, syarat, rukun, dan ketentuan dalam shalat jum'at beserta ketentuan-ketentuan dalam khutbah jum'at dan amaliyah - amaliyah sunnah yang disyariatkan dihari jum'at
C68: Penulisan Tujuan Pembelajaran dimaksudkan | G68: 2 | H68: TP-2 | I68: =IF([28]FQH!I63="","",[28]FQH!I63) -> Menjelaskan pengertian, syarat, rukun, dan ketentuan-ketentuan ;lain dalam pelaksanaan shalat jamak dan Qasar dan ketentuan -ketentuan syariat dalam tata cara pelaksanaan shalat fardlu dalam kondisi tertentu seperti sakitdan dalam perjalanan
C69: sebagai bahan dasar penulisan: | G69: 3 | H69: TP-3 | I69: =IF([28]FQH!I64="","",[28]FQH!I64) -> mengidentifikasi ketentuan-ketentuan shalat sunnah Mu'aqad dan ghairu mu'akad dan hikmah dari shalat sunnah mu'aqad dan shalat sunnah ghairu mu'aqad
C70: Capaian Kompetensi | G70: 4 | H70: TP-4 | I70: =IF([28]FQH!I65="","",[28]FQH!I65) -> 0
G71: 5 | H71: TP-5 | I71: =IF([28]FQH!I66="","",[28]FQH!I66) -> 0
G72: 6 | H72: TP-6 | I72: =IF([28]FQH!I67="","",[28]FQH!I67) -> 0
G73: 7 | H73: TP-7 | I73: =IF([28]FQH!I68="","",[28]FQH!I68) -> 0
G74: 8 | H74: TP-8 | I74: =IF([28]FQH!I69="","",[28]FQH!I69) -> 0
G78: PREDIKAT NILAI PENGETAHUAN
G79: Interval Nilai | J79: Predikat
G80: =I81+1 -> #REF! | H80: - | I80: 100 | J80: sangat baik
G81: =I82+1 -> #REF! | H81: - | I81: =ROUNDDOWN(G81+($I$80-G81)/2,0) -> #REF! | J81: baik
G82: =#REF! -> #REF! | H82: - | I82: =ROUNDDOWN(G82+($I$80-G82)/3,0) -> #REF! | J82: cukup
G83: 0 | H83: - | I83: =G82-1 -> #REF! | J83: perlu bantuan
G85: PREDIKAT NILAI PENGETAHUAN
G86: Interval Nilai | J86: Predikat
G87: =G80 -> #REF! | H87: - | I87: =I80 -> 100 | J87: sangat baik
G88: =G81 -> #REF! | H88: - | I88: =I81 -> #REF! | J88: baik
G89: =G82 -> #REF! | H89: - | I89: =I82 -> #REF! | J89: cukup
G90: =G83 -> 0 | H90: - | I90: =I83 -> #REF! | J90: perlu bantuan

Sheet SKI
E2: JANGAN LAKUKAN CUT/MOVE/COPY-PASTE | G2: =Data!C4 -> SMP ISLAM PEGANDON
G3: ="TAHUN PELAJARAN "&Data!$C$20 -> TAHUN PELAJARAN 2024 / 2025
E4: Boleh dengan langkah: copy >> paste special values | G4: =Menu!B19 -> Sejarah Kebudayaan Islam
G5: ='AQIDAH - AKHLAK'!G5 -> Perolehan Hasil Assesmen Peserta Didik Kelas IX B Semester II ( Genap )
G6: =IF(COUNT(G9:G54)>0,1,"") -> 1 | H6: =IF(COUNT(H9:H54)>0,1,"") -> 1 | I6: =IF(COUNT(I9:I54)>0,1,"") -> 1 | J6: =IF(COUNT(J9:J54)>0,1,"") -> 1 | K6: =IF(COUNT(K9:K54)>0,1,"") -> 1 | L6: =IF(COUNT(L9:L54)>0,1,"") -> 1 | M6: =IF(COUNT(M9:M54)>0,1,"") -> 1 | N6: =IF(COUNT(N9:N54)>0,1,"") -> 1 | ... V6: =IF(COUNT(V9:V54)>0,1,"") -> 1 | W6: =SUM(G6:N6) -> 8 | X6: =SUM(O6:V6) -> 8 | Y6: =SUM(W8:Y8) -> 3
B7: NO | C7: NIS | D7: NISN | E7: NAMA | F7: LP | G7: FORMATIF | O7: SUMATIF | W7: NA FORMATIF | X7: NA SUMATIF | Y7: SUMATIF AKHIR SEM | Z7: NILAI AKHIR | AE7: CAPAIAN KOMPETENSI TERTINGGI (OTOMATIS) | AF7: CAPAIAN KOMPETENSI TERENDAH (OTOMATIS)
G8: =H67 -> TP-1 | H8: =H68 -> TP-2 | I8: =H69 -> TP-3 | J8: =H70 -> TP-4 | K8: =H71 -> TP-5 | L8: =H72 -> TP-6 | M8: =H73 -> TP-7 | N8: =H74 -> TP-8 | O8: SUM-1 | P8: SUM-2 | Q8: SUM-3 | R8: SUM-4 | S8: SUM-5 | T8: SUM-6 | U8: SUM-7 | V8: SUM-8 | W8: 1 | X8: 1 | Y8: 1 | AA8: MAX | AB8: MIN | AC8: Alamat
B9: 1 | C9: =IF(Data!F5="","",Data!F5) -> 2111 | D9: =IF(Data!G5="","",Data!G5) -> 3109336136 | E9: =IF(Data!H5="","",Data!H5) -> AGA ALBANI ZAMIR | F9: =IF(Data!I5="","",Data!I5) -> L | G9: =IF([29]SKI!$G$9="","",[29]SKI!$G$9) -> 82 | H9: =IF([29]SKI!H9="","",[29]SKI!H9) -> 81 | I9: =IF([29]SKI!I9="","",[29]SKI!I9) -> 87 | J9: =IF([29]SKI!J9="","",[29]SKI!J9) -> 0 | K9: =IF([29]SKI!K9="","",[29]SKI!K9) -> 0 | L9: =IF([29]SKI!L9="","",[29]SKI!L9) -> 0 | M9: =IF([29]SKI!M9="","",[29]SKI!M9) -> 0 | N9: =IF([29]SKI!N9="","",[29]SKI!N9) -> 0 | O9: =IF([29]SKI!O9="","",[29]SKI!O9) -> 84 | ... Y9: =IF([29]SKI!Y9="","",[29]SKI!Y9) -> 78 | Z9: =IFERROR(IF(OR(X9="",Y9=""),"",ROUND(((W9*$W$8)+(X9*$X$8)+(Y9*$Y$8))/$Y$6,0)),"") -> 83 | AA9: =MAX(G9:N9) -> 87 | AB9: =MIN(G9:N9) -> 0 | AC9: =MATCH(AA9,G9:N9,0) -> 3 | AD9: =MATCH(AB9,G9:N9,0) -> 4 | AE9: =IFERROR("Menunjukkan penguasaan"& " dalam "&(VLOOKUP(AC9,$G$67:$I$74,3)),"") -> Menunjukkan penguasaan dalam Menganalisis strategi dakwah nabi Muhammad saw di mekah | AF9: =IFERROR("Perlu bantuan dalam "&(VLOOKUP(AD9,$G$67:$I$74,3)),"") -> Perlu bantuan dalam Menganalisis perjuangan nabi Muhammad saw. melakukan perubahan
B10: =IF(E10="","",B9+1) -> 2 | C10: =IF(Data!F6="","",Data!F6) -> 2100 | D10: =IF(Data!G6="","",Data!G6) -> 0108954708 | E10: =IF(Data!H6="","",Data!H6) -> AKBAR FIRLY MAULANA | F10: =IF(Data!I6="","",Data!I6) -> L | G10: =IF([29]SKI!G10="","",[29]SKI!G10) -> 82 | H10: =IF([29]SKI!H10="","",[29]SKI!H10) -> 81 | I10: =IF([29]SKI!I10="","",[29]SKI!I10) -> 81.4 | J10: =IF([29]SKI!J10="","",[29]SKI!J10) -> 0 | K10: =IF([29]SKI!K10="","",[29]SKI!K10) -> 0 | L10: =IF([29]SKI!L10="","",[29]SKI!L10) -> 0 | M10: =IF([29]SKI!M10="","",[29]SKI!M10) -> 0 | N10: =IF([29]SKI!N10="","",[29]SKI!N10) -> 0 | ... Y10: =IF([29]SKI!Y10="","",[29]SKI!Y10) -> 78 | Z10: =IFERROR(IF(OR(X10="",Y10=""),"",ROUND(((W10*$W$8)+(X10*$X$8)+(Y10*$Y$8))/$Y$6,0)),"") -> 82 | AA10: =MAX(G10:N10) -> 82 | AB10: =MIN(G10:N10) -> 0 | AC10: =MATCH(AA10,G10:N10,0) -> 1 | AD10: =MATCH(AB10,G10:N10,0) -> 4 | AE10: =IFERROR("Menunjukkan penguasaan"& " dalam "&(VLOOKUP(AC10,$G$67:$I$74,3)),"") -> Menunjukkan penguasaan dalam Menganalisis kondisi masyarakat arab pra Islam . | AF10: =IFERROR("Perlu bantuan dalam "&(VLOOKUP(AD10,$G$67:$I$74,3)),"") -> Perlu bantuan dalam Menganalisis perjuangan nabi Muhammad saw. melakukan perubahan
B11: =IF(E11="","",B10+1) -> 3 | C11: =IF(Data!F7="","",Data!F7) -> 2085 | D11: =IF(Data!G7="","",Data!G7) -> 0093911821 | E11: =IF(Data!H7="","",Data!H7) -> ALVINO EWALDO | F11: =IF(Data!I7="","",Data!I7) -> L | G11: =IF([29]SKI!G11="","",[29]SKI!G11) -> 84 | H11: =IF([29]SKI!H11="","",[29]SKI!H11) -> 83 | I11: =IF([29]SKI!I11="","",[29]SKI!I11) -> 80 | J11: =IF([29]SKI!J11="","",[29]SKI!J11) -> 0 | K11: =IF([29]SKI!K11="","",[29]SKI!K11) -> 0 | L11: =IF([29]SKI!L11="","",[29]SKI!L11) -> 0 | M11: =IF([29]SKI!M11="","",[29]SKI!M11) -> 0 | N11: =IF([29]SKI!N11="","",[29]SKI!N11) -> 0 | ... Y11: =IF([29]SKI!Y11="","",[29]SKI!Y11) -> 93 | Z11: =IFERROR(IF(OR(X11="",Y11=""),"",ROUND(((W11*$W$8)+(X11*$X$8)+(Y11*$Y$8))/$Y$6,0)),"") -> 88 | AA11: =MAX(G11:N11) -> 84 | AB11: =MIN(G11:N11) -> 0 | AC11: =MATCH(AA11,G11:N11,0) -> 1 | AD11: =MATCH(AB11,G11:N11,0) -> 4 | AE11: =IFERROR("Menunjukkan penguasaan"& " dalam "&(VLOOKUP(AC11,$G$67:$I$74,3)),"") -> Menunjukkan penguasaan dalam Menganalisis kondisi masyarakat arab pra Islam . | AF11: =IFERROR("Perlu bantuan dalam "&(VLOOKUP(AD11,$G$67:$I$74,3)),"") -> Perlu bantuan dalam Menganalisis perjuangan nabi Muhammad saw. melakukan perubahan
B12: =IF(E12="","",B11+1) -> 4 | C12: =IF(Data!F8="","",Data!F8) -> 2075 | D12: =IF(Data!G8="","",Data!G8) -> 0098772064 | E12: =IF(Data!H8="","",Data!H8) -> AURA SUCI RAMADHANI | F12: =IF(Data!I8="","",Data!I8) -> P | G12: =IF([29]SKI!G12="","",[29]SKI!G12) -> 84 | H12: =IF([29]SKI!H12="","",[29]SKI!H12) -> 85 | I12: =IF([29]SKI!I12="","",[29]SKI!I12) -> 80 | J12: =IF([29]SKI!J12="","",[29]SKI!J12) -> 0 | K12: =IF([29]SKI!K12="","",[29]SKI!K12) -> 0 | L12: =IF([29]SKI!L12="","",[29]SKI!L12) -> 0 | M12: =IF([29]SKI!M12="","",[29]SKI!M12) -> 0 | N12: =IF([29]SKI!N12="","",[29]SKI!N12) -> 0 | ... Y12: =IF([29]SKI!Y12="","",[29]SKI!Y12) -> 90 | Z12: =IFERROR(IF(OR(X12="",Y12=""),"",ROUND(((W12*$W$8)+(X12*$X$8)+(Y12*$Y$8))/$Y$6,0)),"") -> 87 | AA12: =MAX(G12:N12) -> 85 | AB12: =MIN(G12:N12) -> 0 | AC12: =MATCH(AA12,G12:N12,0) -> 2 | AD12: =MATCH(AB12,G12:N12,0) -> 4 | AE12: =IFERROR("Menunjukkan penguasaan"& " dalam "&(VLOOKUP(AC12,$G$67:$I$74,3)),"") -> Menunjukkan penguasaan dalam Menganalisis dakwah nabi Muhammad saw di mekah | AF12: =IFERROR("Perlu bantuan dalam "&(VLOOKUP(AD12,$G$67:$I$74,3)),"") -> Perlu bantuan dalam Menganalisis perjuangan nabi Muhammad saw. melakukan perubahan
B13: =IF(E13="","",B12+1) -> 5 | C13: =IF(Data!F9="","",Data!F9) -> 2086 | D13: =IF(Data!G9="","",Data!G9) -> 0103867888 | E13: =IF(Data!H9="","",Data!H9) -> AYU SAFNA | F13: =IF(Data!I9="","",Data!I9) -> P | G13: =IF([29]SKI!G13="","",[29]SKI!G13) -> 86 | H13: =IF([29]SKI!H13="","",[29]SKI!H13) -> 87 | I13: =IF([29]SKI!I13="","",[29]SKI!I13) -> 90 | J13: =IF([29]SKI!J13="","",[29]SKI!J13) -> 0 | K13: =IF([29]SKI!K13="","",[29]SKI!K13) -> 0 | L13: =IF([29]SKI!L13="","",[29]SKI!L13) -> 0 | M13: =IF([29]SKI!M13="","",[29]SKI!M13) -> 0 | N13: =IF([29]SKI!N13="","",[29]SKI!N13) -> 0 | ... Y13: =IF([29]SKI!Y13="","",[29]SKI!Y13) -> 86 | Z13: =IFERROR(IF(OR(X13="",Y13=""),"",ROUND(((W13*$W$8)+(X13*$X$8)+(Y13*$Y$8))/$Y$6,0)),"") -> 88 | AA13: =MAX(G13:N13) -> 90 | AB13: =MIN(G13:N13) -> 0 | AC13: =MATCH(AA13,G13:N13,0) -> 3 | AD13: =MATCH(AB13,G13:N13,0) -> 4 | AE13: =IFERROR("Menunjukkan penguasaan"& " dalam "&(VLOOKUP(AC13,$G$67:$I$74,3)),"") -> Menunjukkan penguasaan dalam Menganalisis strategi dakwah nabi Muhammad saw di mekah | AF13: =IFERROR("Perlu bantuan dalam "&(VLOOKUP(AD13,$G$67:$I$74,3)),"") -> Perlu bantuan dalam Menganalisis perjuangan nabi Muhammad saw. melakukan perubahan
B14: =IF(E14="","",B13+1) -> 6 | C14: =IF(Data!F10="","",Data!F10) -> 2089 | D14: =IF(Data!G10="","",Data!G10) -> 3098656100 | E14: =IF(Data!H10="","",Data!H10) -> DEWI AYU NURHALIZA | F14: =IF(Data!I10="","",Data!I10) -> P | G14: =IF([29]SKI!G14="","",[29]SKI!G14) -> 84 | H14: =IF([29]SKI!H14="","",[29]SKI!H14) -> 85 | I14: =IF([29]SKI!I14="","",[29]SKI!I14) -> 90 | J14: =IF([29]SKI!J14="","",[29]SKI!J14) -> 0 | K14: =IF([29]SKI!K14="","",[29]SKI!K14) -> 0 | L14: =IF([29]SKI!L14="","",[29]SKI!L14) -> 0 | M14: =IF([29]SKI!M14="","",[29]SKI!M14) -> 0 | N14: =IF([29]SKI!N14="","",[29]SKI!N14) -> 0 | ... Y14: =IF([29]SKI!Y14="","",[29]SKI!Y14) -> 82 | Z14: =IFERROR(IF(OR(X14="",Y14=""),"",ROUND(((W14*$W$8)+(X14*$X$8)+(Y14*$Y$8))/$Y$6,0)),"") -> 85 | AA14: =MAX(G14:N14) -> 90 | AB14: =MIN(G14:N14) -> 0 | AC14: =MATCH(AA14,G14:N14,0) -> 3 | AD14: =MATCH(AB14,G14:N14,0) -> 4 | AE14: =IFERROR("Menunjukkan penguasaan"& " dalam "&(VLOOKUP(AC14,$G$67:$I$74,3)),"") -> Menunjukkan penguasaan dalam Menganalisis strategi dakwah nabi Muhammad saw di mekah | AF14: =IFERROR("Perlu bantuan dalam "&(VLOOKUP(AD14,$G$67:$I$74,3)),"") -> Perlu bantuan dalam Menganalisis perjuangan nabi Muhammad saw. melakukan perubahan
B15: =IF(E15="","",B14+1) -> 7 | C15: =IF(Data!F11="","",Data!F11) -> 2115 | D15: =IF(Data!G11="","",Data!G11) -> 0105966564 | E15: =IF(Data!H11="","",Data!H11) -> FADLY ARYA PUTRA | F15: =IF(Data!I11="","",Data!I11) -> L | G15: =IF([29]SKI!G15="","",[29]SKI!G15) -> 82.4 | H15: =IF([29]SKI!H15="","",[29]SKI!H15) -> 83 | I15: =IF([29]SKI!I15="","",[29]SKI!I15) -> 82 | J15: =IF([29]SKI!J15="","",[29]SKI!J15) -> 0 | K15: =IF([29]SKI!K15="","",[29]SKI!K15) -> 0 | L15: =IF([29]SKI!L15="","",[29]SKI!L15) -> 0 | M15: =IF([29]SKI!M15="","",[29]SKI!M15) -> 0 | N15: =IF([29]SKI!N15="","",[29]SKI!N15) -> 0 | ... Y15: =IF([29]SKI!Y15="","",[29]SKI!Y15) -> 86 | Z15: =IFERROR(IF(OR(X15="",Y15=""),"",ROUND(((W15*$W$8)+(X15*$X$8)+(Y15*$Y$8))/$Y$6,0)),"") -> 86 | AA15: =MAX(G15:N15) -> 83 | AB15: =MIN(G15:N15) -> 0 | AC15: =MATCH(AA15,G15:N15,0) -> 2 | AD15: =MATCH(AB15,G15:N15,0) -> 4 | AE15: =IFERROR("Menunjukkan penguasaan"& " dalam "&(VLOOKUP(AC15,$G$67:$I$74,3)),"") -> Menunjukkan penguasaan dalam Menganalisis dakwah nabi Muhammad saw di mekah | AF15: =IFERROR("Perlu bantuan dalam "&(VLOOKUP(AD15,$G$67:$I$74,3)),"") -> Perlu bantuan dalam Menganalisis perjuangan nabi Muhammad saw. melakukan perubahan
B16: =IF(E16="","",B15+1) -> 8 | C16: =IF(Data!F12="","",Data!F12) -> 2082 | D16: =IF(Data!G12="","",Data!G12) -> 3092203012 | E16: =IF(Data!H12="","",Data!H12) -> ILHAM MAULANA | F16: =IF(Data!I12="","",Data!I12) -> L | G16: =IF([29]SKI!G16="","",[29]SKI!G16) -> 80 | H16: =IF([29]SKI!H16="","",[29]SKI!H16) -> 81 | I16: =IF([29]SKI!I16="","",[29]SKI!I16) -> 85 | J16: =IF([29]SKI!J16="","",[29]SKI!J16) -> 0 | K16: =IF([29]SKI!K16="","",[29]SKI!K16) -> 0 | L16: =IF([29]SKI!L16="","",[29]SKI!L16) -> 0 | M16: =IF([29]SKI!M16="","",[29]SKI!M16) -> 0 | N16: =IF([29]SKI!N16="","",[29]SKI!N16) -> 0 | ... Y16: =IF([29]SKI!Y16="","",[29]SKI!Y16) -> 84 | Z16: =IFERROR(IF(OR(X16="",Y16=""),"",ROUND(((W16*$W$8)+(X16*$X$8)+(Y16*$Y$8))/$Y$6,0)),"") -> 83 | AA16: =MAX(G16:N16) -> 85 | AB16: =MIN(G16:N16) -> 0 | AC16: =MATCH(AA16,G16:N16,0) -> 3 | AD16: =MATCH(AB16,G16:N16,0) -> 4 | AE16: =IFERROR("Menunjukkan penguasaan"& " dalam "&(VLOOKUP(AC16,$G$67:$I$74,3)),"") -> Menunjukkan penguasaan dalam Menganalisis strategi dakwah nabi Muhammad saw di mekah | AF16: =IFERROR("Perlu bantuan dalam "&(VLOOKUP(AD16,$G$67:$I$74,3)),"") -> Perlu bantuan dalam Menganalisis perjuangan nabi Muhammad saw. melakukan perubahan
B17: =IF(E17="","",B16+1) -> 9 | C17: =IF(Data!F13="","",Data!F13) -> 2088 | D17: =IF(Data!G13="","",Data!G13) -> 3106632526 | E17: =IF(Data!H13="","",Data!H13) -> INDAH VIOLAFITRA | F17: =IF(Data!I13="","",Data!I13) -> P | G17: =IF([29]SKI!G17="","",[29]SKI!G17) -> 82 | H17: =IF([29]SKI!H17="","",[29]SKI!H17) -> 83 | I17: =IF([29]SKI!I17="","",[29]SKI!I17) -> 85 | J17: =IF([29]SKI!J17="","",[29]SKI!J17) -> 0 | K17: =IF([29]SKI!K17="","",[29]SKI!K17) -> 0 | L17: =IF([29]SKI!L17="","",[29]SKI!L17) -> 0 | M17: =IF([29]SKI!M17="","",[29]SKI!M17) -> 0 | N17: =IF([29]SKI!N17="","",[29]SKI!N17) -> 0 | ... Y17: =IF([29]SKI!Y17="","",[29]SKI!Y17) -> 83 | Z17: =IFERROR(IF(OR(X17="",Y17=""),"",ROUND(((W17*$W$8)+(X17*$X$8)+(Y17*$Y$8))/$Y$6,0)),"") -> 86 | AA17: =MAX(G17:N17) -> 85 | AB17: =MIN(G17:N17) -> 0 | AC17: =MATCH(AA17,G17:N17,0) -> 3 | AD17: =MATCH(AB17,G17:N17,0) -> 4 | AE17: =IFERROR("Menunjukkan penguasaan"& " dalam "&(VLOOKUP(AC17,$G$67:$I$74,3)),"") -> Menunjukkan penguasaan dalam Menganalisis strategi dakwah nabi Muhammad saw di mekah | AF17: =IFERROR("Perlu bantuan dalam "&(VLOOKUP(AD17,$G$67:$I$74,3)),"") -> Perlu bantuan dalam Menganalisis perjuangan nabi Muhammad saw. melakukan perubahan
B18: =IF(E18="","",B17+1) -> 10 | C18: =IF(Data!F14="","",Data!F14) -> 2109 | D18: =IF(Data!G14="","",Data!G14) -> 3092608052 | E18: =IF(Data!H14="","",Data!H14) -> KEVIN FAHREZI | F18: =IF(Data!I14="","",Data!I14) -> L | G18: =IF([29]SKI!G18="","",[29]SKI!G18) -> 78 | H18: =IF([29]SKI!H18="","",[29]SKI!H18) -> 78.1 | I18: =IF([29]SKI!I18="","",[29]SKI!I18) -> 85 | J18: =IF([29]SKI!J18="","",[29]SKI!J18) -> 0 | K18: =IF([29]SKI!K18="","",[29]SKI!K18) -> 0 | L18: =IF([29]SKI!L18="","",[29]SKI!L18) -> 0 | M18: =IF([29]SKI!M18="","",[29]SKI!M18) -> 0 | N18: =IF([29]SKI!N18="","",[29]SKI!N18) -> 0 | ... Y18: =IF([29]SKI!Y18="","",[29]SKI!Y18) -> 76 | Z18: =IFERROR(IF(OR(X18="",Y18=""),"",ROUND(((W18*$W$8)+(X18*$X$8)+(Y18*$Y$8))/$Y$6,0)),"") -> 79 | AA18: =MAX(G18:N18) -> 85 | AB18: =MIN(G18:N18) -> 0 | AC18: =MATCH(AA18,G18:N18,0) -> 3 | AD18: =MATCH(AB18,G18:N18,0) -> 4 | AE18: =IFERROR("Menunjukkan penguasaan"& " dalam "&(VLOOKUP(AC18,$G$67:$I$74,3)),"") -> Menunjukkan penguasaan dalam Menganalisis strategi dakwah nabi Muhammad saw di mekah | AF18: =IFERROR("Perlu bantuan dalam "&(VLOOKUP(AD18,$G$67:$I$74,3)),"") -> Perlu bantuan dalam Menganalisis perjuangan nabi Muhammad saw. melakukan perubahan
B19: =IF(E19="","",B18+1) -> 11 | C19: =IF(Data!F15="","",Data!F15) -> 2096 | D19: =IF(Data!G15="","",Data!G15) -> 0107523037 | E19: =IF(Data!H15="","",Data!H15) -> M. IZAM AZMI | F19: =IF(Data!I15="","",Data!I15) -> L | G19: =IF([29]SKI!G19="","",[29]SKI!G19) -> 84 | H19: =IF([29]SKI!H19="","",[29]SKI!H19) -> 85 | I19: =IF([29]SKI!I19="","",[29]SKI!I19) -> 80 | J19: =IF([29]SKI!J19="","",[29]SKI!J19) -> 0 | K19: =IF([29]SKI!K19="","",[29]SKI!K19) -> 0 | L19: =IF([29]SKI!L19="","",[29]SKI!L19) -> 0 | M19: =IF([29]SKI!M19="","",[29]SKI!M19) -> 0 | N19: =IF([29]SKI!N19="","",[29]SKI!N19) -> 0 | ... Y19: =IF([29]SKI!Y19="","",[29]SKI!Y19) -> 84 | Z19: =IFERROR(IF(OR(X19="",Y19=""),"",ROUND(((W19*$W$8)+(X19*$X$8)+(Y19*$Y$8))/$Y$6,0)),"") -> 84 | AA19: =MAX(G19:N19) -> 85 | AB19: =MIN(G19:N19) -> 0 | AC19: =MATCH(AA19,G19:N19,0) -> 2 | AD19: =MATCH(AB19,G19:N19,0) -> 4 | AE19: =IFERROR("Menunjukkan penguasaan"& " dalam "&(VLOOKUP(AC19,$G$67:$I$74,3)),"") -> Menunjukkan penguasaan dalam Menganalisis dakwah nabi Muhammad saw di mekah | AF19: =IFERROR("Perlu bantuan dalam "&(VLOOKUP(AD19,$G$67:$I$74,3)),"") -> Perlu bantuan dalam Menganalisis perjuangan nabi Muhammad saw. melakukan perubahan
B20: =IF(E20="","",B19+1) -> 12 | C20: =IF(Data!F16="","",Data!F16) -> 2102 | D20: =IF(Data!G16="","",Data!G16) -> 0104675982 | E20: =IF(Data!H16="","",Data!H16) -> M. RAFFY MAULA DANNY | F20: =IF(Data!I16="","",Data!I16) -> L | G20: =IF([29]SKI!G20="","",[29]SKI!G20) -> 80 | H20: =IF([29]SKI!H20="","",[29]SKI!H20) -> 79.4 | I20: =IF([29]SKI!I20="","",[29]SKI!I20) -> 85 | J20: =IF([29]SKI!J20="","",[29]SKI!J20) -> 0 | K20: =IF([29]SKI!K20="","",[29]SKI!K20) -> 0 | L20: =IF([29]SKI!L20="","",[29]SKI!L20) -> 0 | M20: =IF([29]SKI!M20="","",[29]SKI!M20) -> 0 | N20: =IF([29]SKI!N20="","",[29]SKI!N20) -> 0 | ... Y20: =IF([29]SKI!Y20="","",[29]SKI!Y20) -> 84 | Z20: =IFERROR(IF(OR(X20="",Y20=""),"",ROUND(((W20*$W$8)+(X20*$X$8)+(Y20*$Y$8))/$Y$6,0)),"") -> 84 | AA20: =MAX(G20:N20) -> 85 | AB20: =MIN(G20:N20) -> 0 | AC20: =MATCH(AA20,G20:N20,0) -> 3 | AD20: =MATCH(AB20,G20:N20,0) -> 4 | AE20: =IFERROR("Menunjukkan penguasaan"& " dalam "&(VLOOKUP(AC20,$G$67:$I$74,3)),"") -> Menunjukkan penguasaan dalam Menganalisis strategi dakwah nabi Muhammad saw di mekah | AF20: =IFERROR("Perlu bantuan dalam "&(VLOOKUP(AD20,$G$67:$I$74,3)),"") -> Perlu bantuan dalam Menganalisis perjuangan nabi Muhammad saw. melakukan perubahan
B21: =IF(E21="","",B20+1) -> 13 | C21: =IF(Data!F17="","",Data!F17) -> 2090 | D21: =IF(Data!G17="","",Data!G17) -> 3090477421 | E21: =IF(Data!H17="","",Data!H17) -> MARWAH RIANA | F21: =IF(Data!I17="","",Data!I17) -> P | G21: =IF([29]SKI!G21="","",[29]SKI!G21) -> 82 | H21: =IF([29]SKI!H21="","",[29]SKI!H21) -> 83 | I21: =IF([29]SKI!I21="","",[29]SKI!I21) -> 80 | J21: =IF([29]SKI!J21="","",[29]SKI!J21) -> 0 | K21: =IF([29]SKI!K21="","",[29]SKI!K21) -> 0 | L21: =IF([29]SKI!L21="","",[29]SKI!L21) -> 0 | M21: =IF([29]SKI!M21="","",[29]SKI!M21) -> 0 | N21: =IF([29]SKI!N21="","",[29]SKI!N21) -> 0 | ... Y21: =IF([29]SKI!Y21="","",[29]SKI!Y21) -> 83 | Z21: =IFERROR(IF(OR(X21="",Y21=""),"",ROUND(((W21*$W$8)+(X21*$X$8)+(Y21*$Y$8))/$Y$6,0)),"") -> 83 | AA21: =MAX(G21:N21) -> 83 | AB21: =MIN(G21:N21) -> 0 | AC21: =MATCH(AA21,G21:N21,0) -> 2 | AD21: =MATCH(AB21,G21:N21,0) -> 4 | AE21: =IFERROR("Menunjukkan penguasaan"& " dalam "&(VLOOKUP(AC21,$G$67:$I$74,3)),"") -> Menunjukkan penguasaan dalam Menganalisis dakwah nabi Muhammad saw di mekah | AF21: =IFERROR("Perlu bantuan dalam "&(VLOOKUP(AD21,$G$67:$I$74,3)),"") -> Perlu bantuan dalam Menganalisis perjuangan nabi Muhammad saw. melakukan perubahan
... B50: =IF(E50="","",B49+1) | C50: =IF(Data!F46="","",Data!F46) | D50: =IF(Data!G46="","",Data!G46) | E50: =IF(Data!H46="","",Data!H46) | F50: =IF(Data!I46="","",Data!I46) | G50: =IF([29]SKI!G50="","",[29]SKI!G50) -> 0 | H50: =IF([29]SKI!H50="","",[29]SKI!H50) -> 0 | I50: =IF([29]SKI!I50="","",[29]SKI!I50) -> 0 | J50: =IF([29]SKI!J50="","",[29]SKI!J50) -> 0 | K50: =IF([29]SKI!K50="","",[29]SKI!K50) -> 0 | L50: =IF([29]SKI!L50="","",[29]SKI!L50) -> 0 | M50: =IF([29]SKI!M50="","",[29]SKI!M50) -> 0 | N50: =IF([29]SKI!N50="","",[29]SKI!N50) -> 0 | ... Y50: =IF([29]SKI!Y50="","",[29]SKI!Y50) -> 0 | Z50: =IFERROR(IF(OR(X50="",Y50=""),"",ROUND(((W50*$W$8)+(X50*$X$8)+(Y50*$Y$8))/$Y$6,0)),"") | AA50: =MAX(G50:N50) -> 0 | AB50: =MIN(G50:N50) -> 0 | AC50: =MATCH(AA50,G50:N50,0) -> 1 | AD50: =MATCH(AB50,G50:N50,0) -> 1 | AE50: =IFERROR("Menunjukkan penguasaan"& " dalam "&(VLOOKUP(AC50,$G$67:$I$74,3)),"") -> Menunjukkan penguasaan dalam Menganalisis kondisi masyarakat arab pra Islam . | AF50: =IFERROR("Perlu bantuan dalam "&(VLOOKUP(AD50,$G$67:$I$74,3)),"") -> Perlu bantuan dalam Menganalisis kondisi masyarakat arab pra Islam .
B51: =IF(E51="","",B50+1) | C51: =IF(Data!F47="","",Data!F47) | D51: =IF(Data!G47="","",Data!G47) | E51: =IF(Data!H47="","",Data!H47) | F51: =IF(Data!I47="","",Data!I47) | G51: =IF([29]SKI!G51="","",[29]SKI!G51) -> 0 | H51: =IF([29]SKI!H51="","",[29]SKI!H51) -> 0 | I51: =IF([29]SKI!I51="","",[29]SKI!I51) -> 0 | J51: =IF([29]SKI!J51="","",[29]SKI!J51) -> 0 | K51: =IF([29]SKI!K51="","",[29]SKI!K51) -> 0 | L51: =IF([29]SKI!L51="","",[29]SKI!L51) -> 0 | M51: =IF([29]SKI!M51="","",[29]SKI!M51) -> 0 | N51: =IF([29]SKI!N51="","",[29]SKI!N51) -> 0 | ... V51: =IF([29]SKI!V51="","",[29]SKI!V51) -> 0 | W51: =IF(COUNT(G51:N51)<2,"",ROUND(SUM(G51:N51)/$W$6,0)) -> 0 | X51: =IF(COUNT(O51:V51)<2,"",ROUND(SUM(O51:V51)/$X$6,0)) -> 0 | Y51: =IF([29]SKI!Y51="","",[29]SKI!Y51) -> 0 | Z51: =IFERROR(IF(OR(X51="",Y51=""),"",ROUND(((W51*$W$8)+(X51*$X$8)+(Y51*$Y$8))/$Y$6,0)),"") -> 0 | AA51: =MAX(G51:N51) -> 0 | AB51: =MIN(G51:N51) -> 0 | AC51: =MATCH(AA51,G51:N51,0) -> 1 | AD51: =MATCH(AB51,G51:N51,0) -> 1 | AE51: =IFERROR("Menunjukkan penguasaan"& " dalam "&(VLOOKUP(AC51,$G$67:$I$74,3)),"") -> Menunjukkan penguasaan dalam Menganalisis kondisi masyarakat arab pra Islam . | AF51: =IFERROR("Perlu bantuan dalam "&(VLOOKUP(AD51,$G$67:$I$74,3)),"") -> Perlu bantuan dalam Menganalisis kondisi masyarakat arab pra Islam .
B52: =IF(E52="","",B51+1) | C52: =IF(Data!F48="","",Data!F48) | D52: =IF(Data!G48="","",Data!G48) | E52: =IF(Data!H48="","",Data!H48) | F52: =IF(Data!I48="","",Data!I48) | G52: =IF([29]SKI!G52="","",[29]SKI!G52) -> 0 | H52: =IF([29]SKI!H52="","",[29]SKI!H52) -> 0 | I52: =IF([29]SKI!I52="","",[29]SKI!I52) -> 0 | J52: =IF([29]SKI!J52="","",[29]SKI!J52) -> 0 | K52: =IF([29]SKI!K52="","",[29]SKI!K52) -> 0 | L52: =IF([29]SKI!L52="","",[29]SKI!L52) -> 0 | M52: =IF([29]SKI!M52="","",[29]SKI!M52) -> 0 | N52: =IF([29]SKI!N52="","",[29]SKI!N52) -> 0 | ... V52: =IF([29]SKI!V52="","",[29]SKI!V52) -> 0 | W52: =IF(COUNT(G52:N52)<2,"",ROUND(SUM(G52:N52)/$W$6,0)) -> 0 | X52: =IF(COUNT(O52:V52)<2,"",ROUND(SUM(O52:V52)/$X$6,0)) -> 0 | Y52: =IF([29]SKI!Y52="","",[29]SKI!Y52) -> 0 | Z52: =IFERROR(IF(OR(X52="",Y52=""),"",ROUND(((W52*$W$8)+(X52*$X$8)+(Y52*$Y$8))/$Y$6,0)),"") -> 0 | AA52: =MAX(G52:N52) -> 0 | AB52: =MIN(G52:N52) -> 0 | AC52: =MATCH(AA52,G52:N52,0) -> 1 | AD52: =MATCH(AB52,G52:N52,0) -> 1 | AE52: =IFERROR("Menunjukkan penguasaan"& " dalam "&(VLOOKUP(AC52,$G$67:$I$74,3)),"") -> Menunjukkan penguasaan dalam Menganalisis kondisi masyarakat arab pra Islam . | AF52: =IFERROR("Perlu bantuan dalam "&(VLOOKUP(AD52,$G$67:$I$74,3)),"") -> Perlu bantuan dalam Menganalisis kondisi masyarakat arab pra Islam .
B53: =IF(E53="","",B52+1) | C53: =IF(Data!F49="","",Data!F49) | D53: =IF(Data!G49="","",Data!G49) | E53: =IF(Data!H49="","",Data!H49) | F53: =IF(Data!I49="","",Data!I49) | G53: =IF([29]SKI!G53="","",[29]SKI!G53) -> 0 | H53: =IF([29]SKI!H53="","",[29]SKI!H53) -> 0 | I53: =IF([29]SKI!I53="","",[29]SKI!I53) -> 0 | J53: =IF([29]SKI!J53="","",[29]SKI!J53) -> 0 | K53: =IF([29]SKI!K53="","",[29]SKI!K53) -> 0 | L53: =IF([29]SKI!L53="","",[29]SKI!L53) -> 0 | M53: =IF([29]SKI!M53="","",[29]SKI!M53) -> 0 | N53: =IF([29]SKI!N53="","",[29]SKI!N53) -> 0 | ... V53: =IF([29]SKI!V53="","",[29]SKI!V53) -> 0 | W53: =IF(COUNT(G53:N53)<2,"",ROUND(SUM(G53:N53)/$W$6,0)) -> 0 | X53: =IF(COUNT(O53:V53)<2,"",ROUND(SUM(O53:V53)/$X$6,0)) -> 0 | Y53: =IF([29]SKI!Y53="","",[29]SKI!Y53) -> 0 | Z53: =IFERROR(IF(OR(X53="",Y53=""),"",ROUND(((W53*$W$8)+(X53*$X$8)+(Y53*$Y$8))/$Y$6,0)),"") -> 0 | AA53: =MAX(G53:N53) -> 0 | AB53: =MIN(G53:N53) -> 0 | AC53: =MATCH(AA53,G53:N53,0) -> 1 | AD53: =MATCH(AB53,G53:N53,0) -> 1 | AE53: =IFERROR("Menunjukkan penguasaan"& " dalam "&(VLOOKUP(AC53,$G$67:$I$74,3)),"") -> Menunjukkan penguasaan dalam Menganalisis kondisi masyarakat arab pra Islam . | AF53: =IFERROR("Perlu bantuan dalam "&(VLOOKUP(AD53,$G$67:$I$74,3)),"") -> Perlu bantuan dalam Menganalisis kondisi masyarakat arab pra Islam .
B54: =IF(E54="","",B53+1) -> #VALUE! | C54: =IF(Data!F50="","",Data!F50) -> 2 | D54: =IF(Data!G50="","",Data!G50) -> 3 | E54: =IF(Data!H50="","",Data!H50) -> 4 | F54: =IF(Data!I50="","",Data!I50) -> 5 | G54: =IF([29]SKI!G54="","",[29]SKI!G54) -> 0 | H54: =IF([29]SKI!H54="","",[29]SKI!H54) -> 0 | I54: =IF([29]SKI!I54="","",[29]SKI!I54) -> 0 | J54: =IF([29]SKI!J54="","",[29]SKI!J54) -> 0 | K54: =IF([29]SKI!K54="","",[29]SKI!K54) -> 0 | L54: =IF([29]SKI!L54="","",[29]SKI!L54) -> 0 | M54: =IF([29]SKI!M54="","",[29]SKI!M54) -> 0 | N54: =IF([29]SKI!N54="","",[29]SKI!N54) -> 0 | ... V54: =IF([29]SKI!V54="","",[29]SKI!V54) -> 0 | W54: =IF(COUNT(G54:N54)<2,"",ROUND(SUM(G54:N54)/$W$6,0)) -> 0 | X54: =IF(COUNT(O54:V54)<2,"",ROUND(SUM(O54:V54)/$X$6,0)) -> 0 | Y54: =IF([29]SKI!Y54="","",[29]SKI!Y54) -> 0 | Z54: =IFERROR(IF(OR(X54="",Y54=""),"",ROUND(((W54*$W$8)+(X54*$X$8)+(Y54*$Y$8))/$Y$6,0)),"") -> 0 | AA54: =MAX(G54:N54) -> 0 | AB54: =MIN(G54:N54) -> 0 | AC54: =MATCH(AA54,G54:N54,0) -> 1 | AD54: =MATCH(AB54,G54:N54,0) -> 1 | AE54: =IFERROR("Menunjukkan penguasaan"& " dalam "&(VLOOKUP(AC54,$G$67:$I$74,3)),"") -> Menunjukkan penguasaan dalam Menganalisis kondisi masyarakat arab pra Islam . | AF54: =IFERROR("Perlu bantuan dalam "&(VLOOKUP(AD54,$G$67:$I$74,3)),"") -> Perlu bantuan dalam Menganalisis kondisi masyarakat arab pra Islam .
B55: 1 | C55: 2 | D55: 3 | E55: 4 | F55: 5 | G55: =IF([29]SKI!G46="","",[29]SKI!G46) -> 0 | H55: =IF([29]SKI!H46="","",[29]SKI!H46) -> 0 | I55: =IF([29]SKI!I46="","",[29]SKI!I46) -> 0 | J55: =IF([29]SKI!J46="","",[29]SKI!J46) -> 0 | K55: =IF([29]SKI!K46="","",[29]SKI!K46) -> 0 | L55: =IF([29]SKI!L46="","",[29]SKI!L46) -> 0 | M55: =IF([29]SKI!M46="","",[29]SKI!M46) -> 0 | N55: =IF([29]SKI!N46="","",[29]SKI!N46) -> 0 | ... V55: =IF([29]SKI!V46="","",[29]SKI!V46) -> 0 | W55: 22 | X55: 23 | Y55: 24 | Z55: 25 | AA55: 27 | AB55: 28 | AC55: 31 | AD55: 32 | AE55: 33 | AF55: 34
G56: =IF([29]SKI!G47="","",[29]SKI!G47) -> 0 | H56: =IF([29]SKI!H47="","",[29]SKI!H47) -> 0 | I56: =IF([29]SKI!I47="","",[29]SKI!I47) -> 0 | J56: =IF([29]SKI!J47="","",[29]SKI!J47) -> 0 | K56: =IF([29]SKI!K47="","",[29]SKI!K47) -> 0 | L56: =IF([29]SKI!L47="","",[29]SKI!L47) -> 0 | M56: =IF([29]SKI!M47="","",[29]SKI!M47) -> 0 | N56: =IF([29]SKI!N47="","",[29]SKI!N47) -> 0 | ... V56: =IF([29]SKI!V47="","",[29]SKI!V47) -> 0
U58: Pegandon,
U59: Guru Mata Pelajaran
U64: NIP.
G66: No | H66: Kode | I66: Ringkasan Capaian Pembelajaran yang di Nilai (Max 100 huruf kecil semua)
C67: Tulis Tujuan Pembelajaran DISINI >>> | F67: FORMATIF | G67: 1 | H67: TP-1 | I67: =IF([29]SKI!I63="","",[29]SKI!I63) -> Menganalisis kondisi masyarakat arab pra Islam .
C68: Penulisan Tujuan Pembelajaran dimaksudkan | G68: 2 | H68: TP-2 | I68: =IF([29]SKI!I64="","",[29]SKI!I64) -> Menganalisis dakwah nabi Muhammad saw di mekah
C69: sebagai bahan dasar penulisan: | G69: 3 | H69: TP-3 | I69: =IF([29]SKI!I65="","",[29]SKI!I65) -> Menganalisis strategi dakwah nabi Muhammad saw di mekah
C70: Capaian Kompetensi | G70: 4 | H70: TP-4 | I70: =IF([29]SKI!I66="","",[29]SKI!I66) -> Menganalisis perjuangan nabi Muhammad saw. melakukan perubahan
G71: 5 | H71: TP-5 | I71: =IF([29]SKI!I67="","",[29]SKI!I67) -> 0
G72: 6 | H72: TP-6 | I72: =IF([29]SKI!I68="","",[29]SKI!I68) -> 0
G73: 7 | H73: TP-7 | I73: =IF([29]SKI!I69="","",[29]SKI!I69) -> 0
G74: 8 | H74: TP-8 | I74: =IF([29]SKI!I70="","",[29]SKI!I70) -> 0
G78: PREDIKAT NILAI PENGETAHUAN
G79: Interval Nilai | J79: Predikat
G80: =I81+1 -> #REF! | H80: - | I80: 100 | J80: sangat baik
G81: =I82+1 -> #REF! | H81: - | I81: =ROUNDDOWN(G81+($I$80-G81)/2,0) -> #REF! | J81: baik
G82: =#REF! -> #REF! | H82: - | I82: =ROUNDDOWN(G82+($I$80-G82)/3,0) -> #REF! | J82: cukup
G83: 0 | H83: - | I83: =G82-1 -> #REF! | J83: perlu bantuan
G85: PREDIKAT NILAI PENGETAHUAN
G86: Interval Nilai | J86: Predikat
G87: =G80 -> #REF! | H87: - | I87: =I80 -> 100 | J87: sangat baik
G88: =G81 -> #REF! | H88: - | I88: =I81 -> #REF! | J88: baik
G89: =G82 -> #REF! | H89: - | I89: =I82 -> #REF! | J89: cukup
G90: =G83 -> 0 | H90: - | I90: =I83 -> #REF! | J90: perlu bantuan

Sheet BAHASA ARAB
E2: JANGAN LAKUKAN CUT/MOVE/COPY-PASTE | G2: =Data!C4 -> SMP ISLAM PEGANDON
G3: ="TAHUN PELAJARAN "&Data!$C$20 -> TAHUN PELAJARAN 2024 / 2025
E4: Boleh dengan langkah: copy >> paste special values | G4: =Menu!B20 -> Bahasa Arab
G5: ='AQIDAH - AKHLAK'!G5 -> Perolehan Hasil Assesmen Peserta Didik Kelas IX B Semester II ( Genap )
G6: =IF(COUNT(G9:G54)>0,1,"") -> 1 | H6: =IF(COUNT(H9:H54)>0,1,"") -> 1 | I6: =IF(COUNT(I9:I54)>0,1,"") -> 1 | J6: =IF(COUNT(J9:J54)>0,1,"") -> 1 | K6: =IF(COUNT(K9:K54)>0,1,"") -> 1 | L6: =IF(COUNT(L9:L54)>0,1,"") -> 1 | M6: =IF(COUNT(M9:M54)>0,1,"") -> 1 | N6: =IF(COUNT(N9:N54)>0,1,"") -> 1 | ... V6: =IF(COUNT(V9:V54)>0,1,"") -> 1 | W6: =SUM(G6:N6) -> 8 | X6: =SUM(O6:V6) -> 8 | Y6: =SUM(W8:Y8) -> 3
B7: NO | C7: NIS | D7: NISN | E7: NAMA | F7: LP | G7: FORMATIF | O7: SUMATIF | W7: NA FORMATIF | X7: NA SUMATIF | Y7: SUMATIF AKHIR SEM | Z7: NILAI AKHIR | AE7: CAPAIAN KOMPETENSI TERTINGGI (OTOMATIS) | AF7: CAPAIAN KOMPETENSI TERENDAH (OTOMATIS)
G8: =H67 -> TP-1 | H8: =H68 -> TP-2 | I8: =H69 -> TP-3 | J8: =H70 -> TP-4 | K8: =H71 -> TP-5 | L8: =H72 -> TP-6 | M8: =H73 -> TP-7 | N8: =H74 -> TP-8 | O8: SUM-1 | P8: SUM-2 | Q8: SUM-3 | R8: SUM-4 | S8: SUM-5 | T8: SUM-6 | U8: SUM-7 | V8: SUM-8 | W8: 1 | X8: 1 | Y8: 1 | AA8: MAX | AB8: MIN | AC8: Alamat
B9: 1 | C9: =IF(Data!F5="","",Data!F5) -> 2111 | D9: =IF(Data!G5="","",Data!G5) -> 3109336136 | E9: =IF(Data!H5="","",Data!H5) -> AGA ALBANI ZAMIR | F9: =IF(Data!I5="","",Data!I5) -> L | G9: =IF([30]BA!$G$9="","",[30]BA!$G$9) -> 75 | H9: =IF([30]BA!H9="","",[30]BA!H9) -> 0 | I9: =IF([30]BA!I9="","",[30]BA!I9) -> 0 | J9: =IF([30]BA!J9="","",[30]BA!J9) -> 0 | K9: =IF([30]BA!K9="","",[30]BA!K9) -> 0 | L9: =IF([30]BA!L9="","",[30]BA!L9) -> 0 | M9: =IF([30]BA!M9="","",[30]BA!M9) -> 0 | N9: =IF([30]BA!N9="","",[30]BA!N9) -> 0 | O9: =IF([30]BA!O9="","",[30]BA!O9) -> 75 | ... Y9: =IF([30]BA!Y9="","",[30]BA!Y9) -> 75 | Z9: =IFERROR(IF(OR(X9="",Y9=""),"",ROUND(((W9*$W$8)+(X9*$X$8)+(Y9*$Y$8))/$Y$6,0)),"") -> 75 | AA9: =MAX(G9:N9) -> 75 | AB9: =MIN(G9:N9) -> 0 | AC9: =MATCH(AA9,G9:N9,0) -> 1 | AD9: =MATCH(AB9,G9:N9,0) -> 2 | AE9: =IFERROR("Menunjukkan penguasaan"& " dalam "&(VLOOKUP(AC9,$G$67:$I$74,3)),"") -> Menunjukkan penguasaan dalam Materi kalimat istifham | AF9: =IFERROR("Perlu bantuan dalam "&(VLOOKUP(AD9,$G$67:$I$74,3)),"") -> Perlu bantuan dalam Materi angka dalam bahasa Arab dari 1 - 100 dan kalimat struktur khobar muqaddam mubtada' muakkhar
B10: =IF(E10="","",B9+1) -> 2 | C10: =IF(Data!F6="","",Data!F6) -> 2100 | D10: =IF(Data!G6="","",Data!G6) -> 0108954708 | E10: =IF(Data!H6="","",Data!H6) -> AKBAR FIRLY MAULANA | F10: =IF(Data!I6="","",Data!I6) -> L | G10: =IF([30]BA!G10="","",[30]BA!G10) -> 87 | H10: =IF([30]BA!H10="","",[30]BA!H10) -> 0 | I10: =IF([30]BA!I10="","",[30]BA!I10) -> 0 | J10: =IF([30]BA!J10="","",[30]BA!J10) -> 0 | K10: =IF([30]BA!K10="","",[30]BA!K10) -> 0 | L10: =IF([30]BA!L10="","",[30]BA!L10) -> 0 | M10: =IF([30]BA!M10="","",[30]BA!M10) -> 0 | N10: =IF([30]BA!N10="","",[30]BA!N10) -> 0 | ... Y10: =IF([30]BA!Y10="","",[30]BA!Y10) -> 67 | Z10: =IFERROR(IF(OR(X10="",Y10=""),"",ROUND(((W10*$W$8)+(X10*$X$8)+(Y10*$Y$8))/$Y$6,0)),"") -> 76 | AA10: =MAX(G10:N10) -> 87 | AB10: =MIN(G10:N10) -> 0 | AC10: =MATCH(AA10,G10:N10,0) -> 1 | AD10: =MATCH(AB10,G10:N10,0) -> 2 | AE10: =IFERROR("Menunjukkan penguasaan"& " dalam "&(VLOOKUP(AC10,$G$67:$I$74,3)),"") -> Menunjukkan penguasaan dalam Materi kalimat istifham | AF10: =IFERROR("Perlu bantuan dalam "&(VLOOKUP(AD10,$G$67:$I$74,3)),"") -> Perlu bantuan dalam Materi angka dalam bahasa Arab dari 1 - 100 dan kalimat struktur khobar muqaddam mubtada' muakkhar
B11: =IF(E11="","",B10+1) -> 3 | C11: =IF(Data!F7="","",Data!F7) -> 2085 | D11: =IF(Data!G7="","",Data!G7) -> 0093911821 | E11: =IF(Data!H7="","",Data!H7) -> ALVINO EWALDO | F11: =IF(Data!I7="","",Data!I7) -> L | G11: =IF([30]BA!G11="","",[30]BA!G11) -> 75 | H11: =IF([30]BA!H11="","",[30]BA!H11) -> 0 | I11: =IF([30]BA!I11="","",[30]BA!I11) -> 0 | J11: =IF([30]BA!J11="","",[30]BA!J11) -> 0 | K11: =IF([30]BA!K11="","",[30]BA!K11) -> 0 | L11: =IF([30]BA!L11="","",[30]BA!L11) -> 0 | M11: =IF([30]BA!M11="","",[30]BA!M11) -> 0 | N11: =IF([30]BA!N11="","",[30]BA!N11) -> 0 | ... Y11: =IF([30]BA!Y11="","",[30]BA!Y11) -> 77 | Z11: =IFERROR(IF(OR(X11="",Y11=""),"",ROUND(((W11*$W$8)+(X11*$X$8)+(Y11*$Y$8))/$Y$6,0)),"") -> 76 | AA11: =MAX(G11:N11) -> 75 | AB11: =MIN(G11:N11) -> 0 | AC11: =MATCH(AA11,G11:N11,0) -> 1 | AD11: =MATCH(AB11,G11:N11,0) -> 2 | AE11: =IFERROR("Menunjukkan penguasaan"& " dalam "&(VLOOKUP(AC11,$G$67:$I$74,3)),"") -> Menunjukkan penguasaan dalam Materi kalimat istifham | AF11: =IFERROR("Perlu bantuan dalam "&(VLOOKUP(AD11,$G$67:$I$74,3)),"") -> Perlu bantuan dalam Materi angka dalam bahasa Arab dari 1 - 100 dan kalimat struktur khobar muqaddam mubtada' muakkhar
B12: =IF(E12="","",B11+1) -> 4 | C12: =IF(Data!F8="","",Data!F8) -> 2075 | D12: =IF(Data!G8="","",Data!G8) -> 0098772064 | E12: =IF(Data!H8="","",Data!H8) -> AURA SUCI RAMADHANI | F12: =IF(Data!I8="","",Data!I8) -> P | G12: =IF([30]BA!G12="","",[30]BA!G12) -> 74 | H12: =IF([30]BA!H12="","",[30]BA!H12) -> 0 | I12: =IF([30]BA!I12="","",[30]BA!I12) -> 0 | J12: =IF([30]BA!J12="","",[30]BA!J12) -> 0 | K12: =IF([30]BA!K12="","",[30]BA!K12) -> 0 | L12: =IF([30]BA!L12="","",[30]BA!L12) -> 0 | M12: =IF([30]BA!M12="","",[30]BA!M12) -> 0 | N12: =IF([30]BA!N12="","",[30]BA!N12) -> 0 | ... Y12: =IF([30]BA!Y12="","",[30]BA!Y12) -> 75 | Z12: =IFERROR(IF(OR(X12="",Y12=""),"",ROUND(((W12*$W$8)+(X12*$X$8)+(Y12*$Y$8))/$Y$6,0)),"") -> 74 | AA12: =MAX(G12:N12) -> 74 | AB12: =MIN(G12:N12) -> 0 | AC12: =MATCH(AA12,G12:N12,0) -> 1 | AD12: =MATCH(AB12,G12:N12,0) -> 2 | AE12: =IFERROR("Menunjukkan penguasaan"& " dalam "&(VLOOKUP(AC12,$G$67:$I$74,3)),"") -> Menunjukkan penguasaan dalam Materi kalimat istifham | AF12: =IFERROR("Perlu bantuan dalam "&(VLOOKUP(AD12,$G$67:$I$74,3)),"") -> Perlu bantuan dalam Materi angka dalam bahasa Arab dari 1 - 100 dan kalimat struktur khobar muqaddam mubtada' muakkhar
B13: =IF(E13="","",B12+1) -> 5 | C13: =IF(Data!F9="","",Data!F9) -> 2086 | D13: =IF(Data!G9="","",Data!G9) -> 0103867888 | E13: =IF(Data!H9="","",Data!H9) -> AYU SAFNA | F13: =IF(Data!I9="","",Data!I9) -> P | G13: =IF([30]BA!G13="","",[30]BA!G13) -> 74 | H13: =IF([30]BA!H13="","",[30]BA!H13) -> 0 | I13: =IF([30]BA!I13="","",[30]BA!I13) -> 0 | J13: =IF([30]BA!J13="","",[30]BA!J13) -> 0 | K13: =IF([30]BA!K13="","",[30]BA!K13) -> 0 | L13: =IF([30]BA!L13="","",[30]BA!L13) -> 0 | M13: =IF([30]BA!M13="","",[30]BA!M13) -> 0 | N13: =IF([30]BA!N13="","",[30]BA!N13) -> 0 | ... Y13: =IF([30]BA!Y13="","",[30]BA!Y13) -> 79 | Z13: =IFERROR(IF(OR(X13="",Y13=""),"",ROUND(((W13*$W$8)+(X13*$X$8)+(Y13*$Y$8))/$Y$6,0)),"") -> 76 | AA13: =MAX(G13:N13) -> 74 | AB13: =MIN(G13:N13) -> 0 | AC13: =MATCH(AA13,G13:N13,0) -> 1 | AD13: =MATCH(AB13,G13:N13,0) -> 2 | AE13: =IFERROR("Menunjukkan penguasaan"& " dalam "&(VLOOKUP(AC13,$G$67:$I$74,3)),"") -> Menunjukkan penguasaan dalam Materi kalimat istifham | AF13: =IFERROR("Perlu bantuan dalam "&(VLOOKUP(AD13,$G$67:$I$74,3)),"") -> Perlu bantuan dalam Materi angka dalam bahasa Arab dari 1 - 100 dan kalimat struktur khobar muqaddam mubtada' muakkhar
B14: =IF(E14="","",B13+1) -> 6 | C14: =IF(Data!F10="","",Data!F10) -> 2089 | D14: =IF(Data!G10="","",Data!G10) -> 3098656100 | E14: =IF(Data!H10="","",Data!H10) -> DEWI AYU NURHALIZA | F14: =IF(Data!I10="","",Data!I10) -> P | G14: =IF([30]BA!G14="","",[30]BA!G14) -> 75 | H14: =IF([30]BA!H14="","",[30]BA!H14) -> 0 | I14: =IF([30]BA!I14="","",[30]BA!I14) -> 0 | J14: =IF([30]BA!J14="","",[30]BA!J14) -> 0 | K14: =IF([30]BA!K14="","",[30]BA!K14) -> 0 | L14: =IF([30]BA!L14="","",[30]BA!L14) -> 0 | M14: =IF([30]BA!M14="","",[30]BA!M14) -> 0 | N14: =IF([30]BA!N14="","",[30]BA!N14) -> 0 | ... Y14: =IF([30]BA!Y14="","",[30]BA!Y14) -> 75 | Z14: =IFERROR(IF(OR(X14="",Y14=""),"",ROUND(((W14*$W$8)+(X14*$X$8)+(Y14*$Y$8))/$Y$6,0)),"") -> 75 | AA14: =MAX(G14:N14) -> 75 | AB14: =MIN(G14:N14) -> 0 | AC14: =MATCH(AA14,G14:N14,0) -> 1 | AD14: =MATCH(AB14,G14:N14,0) -> 2 | AE14: =IFERROR("Menunjukkan penguasaan"& " dalam "&(VLOOKUP(AC14,$G$67:$I$74,3)),"") -> Menunjukkan penguasaan dalam Materi kalimat istifham | AF14: =IFERROR("Perlu bantuan dalam "&(VLOOKUP(AD14,$G$67:$I$74,3)),"") -> Perlu bantuan dalam Materi angka dalam bahasa Arab dari 1 - 100 dan kalimat struktur khobar muqaddam mubtada' muakkhar
B15: =IF(E15="","",B14+1) -> 7 | C15: =IF(Data!F11="","",Data!F11) -> 2115 | D15: =IF(Data!G11="","",Data!G11) -> 0105966564 | E15: =IF(Data!H11="","",Data!H11) -> FADLY ARYA PUTRA | F15: =IF(Data!I11="","",Data!I11) -> L | G15: =IF([30]BA!G15="","",[30]BA!G15) -> 74 | H15: =IF([30]BA!H15="","",[30]BA!H15) -> 0 | I15: =IF([30]BA!I15="","",[30]BA!I15) -> 0 | J15: =IF([30]BA!J15="","",[30]BA!J15) -> 0 | K15: =IF([30]BA!K15="","",[30]BA!K15) -> 0 | L15: =IF([30]BA!L15="","",[30]BA!L15) -> 0 | M15: =IF([30]BA!M15="","",[30]BA!M15) -> 0 | N15: =IF([30]BA!N15="","",[30]BA!N15) -> 0 | ... Y15: =IF([30]BA!Y15="","",[30]BA!Y15) -> 79 | Z15: =IFERROR(IF(OR(X15="",Y15=""),"",ROUND(((W15*$W$8)+(X15*$X$8)+(Y15*$Y$8))/$Y$6,0)),"") -> 76 | AA15: =MAX(G15:N15) -> 74 | AB15: =MIN(G15:N15) -> 0 | AC15: =MATCH(AA15,G15:N15,0) -> 1 | AD15: =MATCH(AB15,G15:N15,0) -> 2 | AE15: =IFERROR("Menunjukkan penguasaan"& " dalam "&(VLOOKUP(AC15,$G$67:$I$74,3)),"") -> Menunjukkan penguasaan dalam Materi kalimat istifham | AF15: =IFERROR("Perlu bantuan dalam "&(VLOOKUP(AD15,$G$67:$I$74,3)),"") -> Perlu bantuan dalam Materi angka dalam bahasa Arab dari 1 - 100 dan kalimat struktur khobar muqaddam mubtada' muakkhar
B16: =IF(E16="","",B15+1) -> 8 | C16: =IF(Data!F12="","",Data!F12) -> 2082 | D16: =IF(Data!G12="","",Data!G12) -> 3092203012 | E16: =IF(Data!H12="","",Data!H12) -> ILHAM MAULANA | F16: =IF(Data!I12="","",Data!I12) -> L | G16: =IF([30]BA!G16="","",[30]BA!G16) -> 75 | H16: =IF([30]BA!H16="","",[30]BA!H16) -> 0 | I16: =IF([30]BA!I16="","",[30]BA!I16) -> 0 | J16: =IF([30]BA!J16="","",[30]BA!J16) -> 0 | K16: =IF([30]BA!K16="","",[30]BA!K16) -> 0 | L16: =IF([30]BA!L16="","",[30]BA!L16) -> 0 | M16: =IF([30]BA!M16="","",[30]BA!M16) -> 0 | N16: =IF([30]BA!N16="","",[30]BA!N16) -> 0 | ... Y16: =IF([30]BA!Y16="","",[30]BA!Y16) -> 78 | Z16: =IFERROR(IF(OR(X16="",Y16=""),"",ROUND(((W16*$W$8)+(X16*$X$8)+(Y16*$Y$8))/$Y$6,0)),"") -> 77 | AA16: =MAX(G16:N16) -> 75 | AB16: =MIN(G16:N16) -> 0 | AC16: =MATCH(AA16,G16:N16,0) -> 1 | AD16: =MATCH(AB16,G16:N16,0) -> 2 | AE16: =IFERROR("Menunjukkan penguasaan"& " dalam "&(VLOOKUP(AC16,$G$67:$I$74,3)),"") -> Menunjukkan penguasaan dalam Materi kalimat istifham | AF16: =IFERROR("Perlu bantuan dalam "&(VLOOKUP(AD16,$G$67:$I$74,3)),"") -> Perlu bantuan dalam Materi angka dalam bahasa Arab dari 1 - 100 dan kalimat struktur khobar muqaddam mubtada' muakkhar
B17: =IF(E17="","",B16+1) -> 9 | C17: =IF(Data!F13="","",Data!F13) -> 2088 | D17: =IF(Data!G13="","",Data!G13) -> 3106632526 | E17: =IF(Data!H13="","",Data!H13) -> INDAH VIOLAFITRA | F17: =IF(Data!I13="","",Data!I13) -> P | G17: =IF([30]BA!G17="","",[30]BA!G17) -> 75 | H17: =IF([30]BA!H17="","",[30]BA!H17) -> 0 | I17: =IF([30]BA!I17="","",[30]BA!I17) -> 0 | J17: =IF([30]BA!J17="","",[30]BA!J17) -> 0 | K17: =IF([30]BA!K17="","",[30]BA!K17) -> 0 | L17: =IF([30]BA!L17="","",[30]BA!L17) -> 0 | M17: =IF([30]BA!M17="","",[30]BA!M17) -> 0 | N17: =IF([30]BA!N17="","",[30]BA!N17) -> 0 | ... Y17: =IF([30]BA!Y17="","",[30]BA!Y17) -> 75 | Z17: =IFERROR(IF(OR(X17="",Y17=""),"",ROUND(((W17*$W$8)+(X17*$X$8)+(Y17*$Y$8))/$Y$6,0)),"") -> 76 | AA17: =MAX(G17:N17) -> 75 | AB17: =MIN(G17:N17) -> 0 | AC17: =MATCH(AA17,G17:N17,0) -> 1 | AD17: =MATCH(AB17,G17:N17,0) -> 2 | AE17: =IFERROR("Menunjukkan penguasaan"& " dalam "&(VLOOKUP(AC17,$G$67:$I$74,3)),"") -> Menunjukkan penguasaan dalam Materi kalimat istifham | AF17: =IFERROR("Perlu bantuan dalam "&(VLOOKUP(AD17,$G$67:$I$74,3)),"") -> Perlu bantuan dalam Materi angka dalam bahasa Arab dari 1 - 100 dan kalimat struktur khobar muqaddam mubtada' muakkhar
B18: =IF(E18="","",B17+1) -> 10 | C18: =IF(Data!F14="","",Data!F14) -> 2109 | D18: =IF(Data!G14="","",Data!G14) -> 3092608052 | E18: =IF(Data!H14="","",Data!H14) -> KEVIN FAHREZI | F18: =IF(Data!I14="","",Data!I14) -> L | G18: =IF([30]BA!G18="","",[30]BA!G18) -> 75 | H18: =IF([30]BA!H18="","",[30]BA!H18) -> 0 | I18: =IF([30]BA!I18="","",[30]BA!I18) -> 0 | J18: =IF([30]BA!J18="","",[30]BA!J18) -> 0 | K18: =IF([30]BA!K18="","",[30]BA!K18) -> 0 | L18: =IF([30]BA!L18="","",[30]BA!L18) -> 0 | M18: =IF([30]BA!M18="","",[30]BA!M18) -> 0 | N18: =IF([30]BA!N18="","",[30]BA!N18) -> 0 | ... Y18: =IF([30]BA!Y18="","",[30]BA!Y18) -> 75 | Z18: =IFERROR(IF(OR(X18="",Y18=""),"",ROUND(((W18*$W$8)+(X18*$X$8)+(Y18*$Y$8))/$Y$6,0)),"") -> 74 | AA18: =MAX(G18:N18) -> 75 | AB18: =MIN(G18:N18) -> 0 | AC18: =MATCH(AA18,G18:N18,0) -> 1 | AD18: =MATCH(AB18,G18:N18,0) -> 2 | AE18: =IFERROR("Menunjukkan penguasaan"& " dalam "&(VLOOKUP(AC18,$G$67:$I$74,3)),"") -> Menunjukkan penguasaan dalam Materi kalimat istifham | AF18: =IFERROR("Perlu bantuan dalam "&(VLOOKUP(AD18,$G$67:$I$74,3)),"") -> Perlu bantuan dalam Materi angka dalam bahasa Arab dari 1 - 100 dan kalimat struktur khobar muqaddam mubtada' muakkhar
B19: =IF(E19="","",B18+1) -> 11 | C19: =IF(Data!F15="","",Data!F15) -> 2096 | D19: =IF(Data!G15="","",Data!G15) -> 0107523037 | E19: =IF(Data!H15="","",Data!H15) -> M. IZAM AZMI | F19: =IF(Data!I15="","",Data!I15) -> L | G19: =IF([30]BA!G19="","",[30]BA!G19) -> 75 | H19: =IF([30]BA!H19="","",[30]BA!H19) -> 0 | I19: =IF([30]BA!I19="","",[30]BA!I19) -> 0 | J19: =IF([30]BA!J19="","",[30]BA!J19) -> 0 | K19: =IF([30]BA!K19="","",[30]BA!K19) -> 0 | L19: =IF([30]BA!L19="","",[30]BA!L19) -> 0 | M19: =IF([30]BA!M19="","",[30]BA!M19) -> 0 | N19: =IF([30]BA!N19="","",[30]BA!N19) -> 0 | ... Y19: =IF([30]BA!Y19="","",[30]BA!Y19) -> 75 | Z19: =IFERROR(IF(OR(X19="",Y19=""),"",ROUND(((W19*$W$8)+(X19*$X$8)+(Y19*$Y$8))/$Y$6,0)),"") -> 75 | AA19: =MAX(G19:N19) -> 75 | AB19: =MIN(G19:N19) -> 0 | AC19: =MATCH(AA19,G19:N19,0) -> 1 | AD19: =MATCH(AB19,G19:N19,0) -> 2 | AE19: =IFERROR("Menunjukkan penguasaan"& " dalam "&(VLOOKUP(AC19,$G$67:$I$74,3)),"") -> Menunjukkan penguasaan dalam Materi kalimat istifham | AF19: =IFERROR("Perlu bantuan dalam "&(VLOOKUP(AD19,$G$67:$I$74,3)),"") -> Perlu bantuan dalam Materi angka dalam bahasa Arab dari 1 - 100 dan kalimat struktur khobar muqaddam mubtada' muakkhar
B20: =IF(E20="","",B19+1) -> 12 | C20: =IF(Data!F16="","",Data!F16) -> 2102 | D20: =IF(Data!G16="","",Data!G16) -> 0104675982 | E20: =IF(Data!H16="","",Data!H16) -> M. RAFFY MAULA DANNY | F20: =IF(Data!I16="","",Data!I16) -> L | G20: =IF([30]BA!G20="","",[30]BA!G20) -> 75 | H20: =IF([30]BA!H20="","",[30]BA!H20) -> 0 | I20: =IF([30]BA!I20="","",[30]BA!I20) -> 0 | J20: =IF([30]BA!J20="","",[30]BA!J20) -> 0 | K20: =IF([30]BA!K20="","",[30]BA!K20) -> 0 | L20: =IF([30]BA!L20="","",[30]BA!L20) -> 0 | M20: =IF([30]BA!M20="","",[30]BA!M20) -> 0 | N20: =IF([30]BA!N20="","",[30]BA!N20) -> 0 | ... Y20: =IF([30]BA!Y20="","",[30]BA!Y20) -> 75 | Z20: =IFERROR(IF(OR(X20="",Y20=""),"",ROUND(((W20*$W$8)+(X20*$X$8)+(Y20*$Y$8))/$Y$6,0)),"") -> 75 | AA20: =MAX(G20:N20) -> 75 | AB20: =MIN(G20:N20) -> 0 | AC20: =MATCH(AA20,G20:N20,0) -> 1 | AD20: =MATCH(AB20,G20:N20,0) -> 2 | AE20: =IFERROR("Menunjukkan penguasaan"& " dalam "&(VLOOKUP(AC20,$G$67:$I$74,3)),"") -> Menunjukkan penguasaan dalam Materi kalimat istifham | AF20: =IFERROR("Perlu bantuan dalam "&(VLOOKUP(AD20,$G$67:$I$74,3)),"") -> Perlu bantuan dalam Materi angka dalam bahasa Arab dari 1 - 100 dan kalimat struktur khobar muqaddam mubtada' muakkhar
B21: =IF(E21="","",B20+1) -> 13 | C21: =IF(Data!F17="","",Data!F17) -> 2090 | D21: =IF(Data!G17="","",Data!G17) -> 3090477421 | E21: =IF(Data!H17="","",Data!H17) -> MARWAH RIANA | F21: =IF(Data!I17="","",Data!I17) -> P | G21: =IF([30]BA!G21="","",[30]BA!G21) -> 76 | H21: =IF([30]BA!H21="","",[30]BA!H21) -> 0 | I21: =IF([30]BA!I21="","",[30]BA!I21) -> 0 | J21: =IF([30]BA!J21="","",[30]BA!J21) -> 0 | K21: =IF([30]BA!K21="","",[30]BA!K21) -> 0 | L21: =IF([30]BA!L21="","",[30]BA!L21) -> 0 | M21: =IF([30]BA!M21="","",[30]BA!M21) -> 0 | N21: =IF([30]BA!N21="","",[30]BA!N21) -> 0 | ... Y21: =IF([30]BA!Y21="","",[30]BA!Y21) -> 75 | Z21: =IFERROR(IF(OR(X21="",Y21=""),"",ROUND(((W21*$W$8)+(X21*$X$8)+(Y21*$Y$8))/$Y$6,0)),"") -> 76 | AA21: =MAX(G21:N21) -> 76 | AB21: =MIN(G21:N21) -> 0 | AC21: =MATCH(AA21,G21:N21,0) -> 1 | AD21: =MATCH(AB21,G21:N21,0) -> 2 | AE21: =IFERROR("Menunjukkan penguasaan"& " dalam "&(VLOOKUP(AC21,$G$67:$I$74,3)),"") -> Menunjukkan penguasaan dalam Materi kalimat istifham | AF21: =IFERROR("Perlu bantuan dalam "&(VLOOKUP(AD21,$G$67:$I$74,3)),"") -> Perlu bantuan dalam Materi angka dalam bahasa Arab dari 1 - 100 dan kalimat struktur khobar muqaddam mubtada' muakkhar
... B50: =IF(E50="","",B49+1) | C50: =IF(Data!F46="","",Data!F46) | D50: =IF(Data!G46="","",Data!G46) | E50: =IF(Data!H46="","",Data!H46) | F50: =IF(Data!I46="","",Data!I46) | G50: =IF([30]BA!G50="","",[30]BA!G50) -> 0 | H50: =IF([30]BA!H50="","",[30]BA!H50) -> 0 | I50: =IF([30]BA!I50="","",[30]BA!I50) -> 0 | J50: =IF([30]BA!J50="","",[30]BA!J50) -> 0 | K50: =IF([30]BA!K50="","",[30]BA!K50) -> 0 | L50: =IF([30]BA!L50="","",[30]BA!L50) -> 0 | M50: =IF([30]BA!M50="","",[30]BA!M50) -> 0 | N50: =IF([30]BA!N50="","",[30]BA!N50) -> 0 | ... Y50: =IF([30]BA!Y50="","",[30]BA!Y50) -> 0 | Z50: =IFERROR(IF(OR(X50="",Y50=""),"",ROUND(((W50*$W$8)+(X50*$X$8)+(Y50*$Y$8))/$Y$6,0)),"") | AA50: =MAX(G50:N50) -> 0 | AB50: =MIN(G50:N50) -> 0 | AC50: =MATCH(AA50,G50:N50,0) -> 1 | AD50: =MATCH(AB50,G50:N50,0) -> 1 | AE50: =IFERROR("Menunjukkan penguasaan"& " dalam "&(VLOOKUP(AC50,$G$67:$I$74,3)),"") -> Menunjukkan penguasaan dalam Materi kalimat istifham | AF50: =IFERROR("Perlu bantuan dalam "&(VLOOKUP(AD50,$G$67:$I$74,3)),"") -> Perlu bantuan dalam Materi kalimat istifham
B51: =IF(E51="","",B50+1) | C51: =IF(Data!F47="","",Data!F47) | D51: =IF(Data!G47="","",Data!G47) | E51: =IF(Data!H47="","",Data!H47) | F51: =IF(Data!I47="","",Data!I47) | G51: =IF([30]BA!G51="","",[30]BA!G51) -> 0 | H51: =IF([30]BA!H51="","",[30]BA!H51) -> 0 | I51: =IF([30]BA!I51="","",[30]BA!I51) -> 0 | J51: =IF([30]BA!J51="","",[30]BA!J51) -> 0 | K51: =IF([30]BA!K51="","",[30]BA!K51) -> 0 | L51: =IF([30]BA!L51="","",[30]BA!L51) -> 0 | M51: =IF([30]BA!M51="","",[30]BA!M51) -> 0 | N51: =IF([30]BA!N51="","",[30]BA!N51) -> 0 | ... V51: =IF([30]BA!V51="","",[30]BA!V51) -> 0 | W51: =IF(COUNT(G51:N51)<2,"",ROUND(SUM(G51:N51)/$W$6,0)) -> 0 | X51: =IF(COUNT(O51:V51)<2,"",ROUND(SUM(O51:V51)/$X$6,0)) -> 0 | Y51: =IF([30]BA!Y51="","",[30]BA!Y51) -> 0 | Z51: =IFERROR(IF(OR(X51="",Y51=""),"",ROUND(((W51*$W$8)+(X51*$X$8)+(Y51*$Y$8))/$Y$6,0)),"") -> 0 | AA51: =MAX(G51:N51) -> 0 | AB51: =MIN(G51:N51) -> 0 | AC51: =MATCH(AA51,G51:N51,0) -> 1 | AD51: =MATCH(AB51,G51:N51,0) -> 1 | AE51: =IFERROR("Menunjukkan penguasaan"& " dalam "&(VLOOKUP(AC51,$G$67:$I$74,3)),"") -> Menunjukkan penguasaan dalam Materi kalimat istifham | AF51: =IFERROR("Perlu bantuan dalam "&(VLOOKUP(AD51,$G$67:$I$74,3)),"") -> Perlu bantuan dalam Materi kalimat istifham
B52: =IF(E52="","",B51+1) | C52: =IF(Data!F48="","",Data!F48) | D52: =IF(Data!G48="","",Data!G48) | E52: =IF(Data!H48="","",Data!H48) | F52: =IF(Data!I48="","",Data!I48) | G52: =IF([30]BA!G52="","",[30]BA!G52) -> 0 | H52: =IF([30]BA!H52="","",[30]BA!H52) -> 0 | I52: =IF([30]BA!I52="","",[30]BA!I52) -> 0 | J52: =IF([30]BA!J52="","",[30]BA!J52) -> 0 | K52: =IF([30]BA!K52="","",[30]BA!K52) -> 0 | L52: =IF([30]BA!L52="","",[30]BA!L52) -> 0 | M52: =IF([30]BA!M52="","",[30]BA!M52) -> 0 | N52: =IF([30]BA!N52="","",[30]BA!N52) -> 0 | ... V52: =IF([30]BA!V52="","",[30]BA!V52) -> 0 | W52: =IF(COUNT(G52:N52)<2,"",ROUND(SUM(G52:N52)/$W$6,0)) -> 0 | X52: =IF(COUNT(O52:V52)<2,"",ROUND(SUM(O52:V52)/$X$6,0)) -> 0 | Y52: =IF([30]BA!Y52="","",[30]BA!Y52) -> 0 | Z52: =IFERROR(IF(OR(X52="",Y52=""),"",ROUND(((W52*$W$8)+(X52*$X$8)+(Y52*$Y$8))/$Y$6,0)),"") -> 0 | AA52: =MAX(G52:N52) -> 0 | AB52: =MIN(G52:N52) -> 0 | AC52: =MATCH(AA52,G52:N52,0) -> 1 | AD52: =MATCH(AB52,G52:N52,0) -> 1 | AE52: =IFERROR("Menunjukkan penguasaan"& " dalam "&(VLOOKUP(AC52,$G$67:$I$74,3)),"") -> Menunjukkan penguasaan dalam Materi kalimat istifham | AF52: =IFERROR("Perlu bantuan dalam "&(VLOOKUP(AD52,$G$67:$I$74,3)),"") -> Perlu bantuan dalam Materi kalimat istifham
B53: =IF(E53="","",B52+1) | C53: =IF(Data!F49="","",Data!F49) | D53: =IF(Data!G49="","",Data!G49) | E53: =IF(Data!H49="","",Data!H49) | F53: =IF(Data!I49="","",Data!I49) | G53: =IF([30]BA!G53="","",[30]BA!G53) -> 0 | H53: =IF([30]BA!H53="","",[30]BA!H53) -> 0 | I53: =IF([30]BA!I53="","",[30]BA!I53) -> 0 | J53: =IF([30]BA!J53="","",[30]BA!J53) -> 0 | K53: =IF([30]BA!K53="","",[30]BA!K53) -> 0 | L53: =IF([30]BA!L53="","",[30]BA!L53) -> 0 | M53: =IF([30]BA!M53="","",[30]BA!M53) -> 0 | N53: =IF([30]BA!N53="","",[30]BA!N53) -> 0 | ... V53: =IF([30]BA!V53="","",[30]BA!V53) -> 0 | W53: =IF(COUNT(G53:N53)<2,"",ROUND(SUM(G53:N53)/$W$6,0)) -> 0 | X53: =IF(COUNT(O53:V53)<2,"",ROUND(SUM(O53:V53)/$X$6,0)) -> 0 | Y53: =IF([30]BA!Y53="","",[30]BA!Y53) -> 0 | Z53: =IFERROR(IF(OR(X53="",Y53=""),"",ROUND(((W53*$W$8)+(X53*$X$8)+(Y53*$Y$8))/$Y$6,0)),"") -> 0 | AA53: =MAX(G53:N53) -> 0 | AB53: =MIN(G53:N53) -> 0 | AC53: =MATCH(AA53,G53:N53,0) -> 1 | AD53: =MATCH(AB53,G53:N53,0) -> 1 | AE53: =IFERROR("Menunjukkan penguasaan"& " dalam "&(VLOOKUP(AC53,$G$67:$I$74,3)),"") -> Menunjukkan penguasaan dalam Materi kalimat istifham | AF53: =IFERROR("Perlu bantuan dalam "&(VLOOKUP(AD53,$G$67:$I$74,3)),"") -> Perlu bantuan dalam Materi kalimat istifham
B54: =IF(E54="","",B53+1) -> #VALUE! | C54: =IF(Data!F50="","",Data!F50) -> 2 | D54: =IF(Data!G50="","",Data!G50) -> 3 | E54: =IF(Data!H50="","",Data!H50) -> 4 | F54: =IF(Data!I50="","",Data!I50) -> 5 | G54: =IF([30]BA!G54="","",[30]BA!G54) -> 0 | H54: =IF([30]BA!H54="","",[30]BA!H54) -> 0 | I54: =IF([30]BA!I54="","",[30]BA!I54) -> 0 | J54: =IF([30]BA!J54="","",[30]BA!J54) -> 0 | K54: =IF([30]BA!K54="","",[30]BA!K54) -> 0 | L54: =IF([30]BA!L54="","",[30]BA!L54) -> 0 | M54: =IF([30]BA!M54="","",[30]BA!M54) -> 0 | N54: =IF([30]BA!N54="","",[30]BA!N54) -> 0 | ... V54: =IF([30]BA!V54="","",[30]BA!V54) -> 0 | W54: =IF(COUNT(G54:N54)<2,"",ROUND(SUM(G54:N54)/$W$6,0)) -> 0 | X54: =IF(COUNT(O54:V54)<2,"",ROUND(SUM(O54:V54)/$X$6,0)) -> 0 | Y54: =IF([30]BA!Y54="","",[30]BA!Y54) -> 0 | Z54: =IFERROR(IF(OR(X54="",Y54=""),"",ROUND(((W54*$W$8)+(X54*$X$8)+(Y54*$Y$8))/$Y$6,0)),"") -> 0 | AA54: =MAX(G54:N54) -> 0 | AB54: =MIN(G54:N54) -> 0 | AC54: =MATCH(AA54,G54:N54,0) -> 1 | AD54: =MATCH(AB54,G54:N54,0) -> 1 | AE54: =IFERROR("Menunjukkan penguasaan"& " dalam "&(VLOOKUP(AC54,$G$67:$I$74,3)),"") -> Menunjukkan penguasaan dalam Materi kalimat istifham | AF54: =IFERROR("Perlu bantuan dalam "&(VLOOKUP(AD54,$G$67:$I$74,3)),"") -> Perlu bantuan dalam Materi kalimat istifham
B55: 1 | C55: 2 | D55: 3 | E55: 4 | F55: 5 | G55: =IF([30]BA!G46="","",[30]BA!G46) -> 0 | H55: =IF([30]BA!H46="","",[30]BA!H46) -> 0 | I55: =IF([30]BA!I46="","",[30]BA!I46) -> 0 | J55: =IF([30]BA!J46="","",[30]BA!J46) -> 0 | K55: =IF([30]BA!K46="","",[30]BA!K46) -> 0 | L55: =IF([30]BA!L46="","",[30]BA!L46) -> 0 | M55: =IF([30]BA!M46="","",[30]BA!M46) -> 0 | N55: =IF([30]BA!N46="","",[30]BA!N46) -> 0 | ... V55: =IF([30]BA!V46="","",[30]BA!V46) -> 0 | W55: 22 | X55: 23 | Y55: 24 | Z55: 25 | AA55: 27 | AB55: 28 | AC55: 31 | AD55: 32 | AE55: 33 | AF55: 34
G56: =IF([30]BA!G47="","",[30]BA!G47) -> 0 | H56: =IF([30]BA!H47="","",[30]BA!H47) -> 0 | I56: =IF([30]BA!I47="","",[30]BA!I47) -> 0 | J56: =IF([30]BA!J47="","",[30]BA!J47) -> 0 | K56: =IF([30]BA!K47="","",[30]BA!K47) -> 0 | L56: =IF([30]BA!L47="","",[30]BA!L47) -> 0 | M56: =IF([30]BA!M47="","",[30]BA!M47) -> 0 | N56: =IF([30]BA!N47="","",[30]BA!N47) -> 0 | ... V56: =IF([30]BA!V47="","",[30]BA!V47) -> 0
U58: Pegandon,
U59: Guru Mata Pelajaran
U64: NIP.
G66: No | H66: Kode | I66: Ringkasan Capaian Pembelajaran yang di Nilai (Max 100 huruf kecil semua)
C67: Tulis Tujuan Pembelajaran DISINI >>> | F67: FORMATIF | G67: 1 | H67: TP-1 | I67: =IF([30]BA!I63="","",[30]BA!I63) -> Materi kalimat istifham
C68: Penulisan Tujuan Pembelajaran dimaksudkan | G68: 2 | H68: TP-2 | I68: =IF([30]BA!I64="","",[30]BA!I64) -> Materi angka dalam bahasa Arab dari 1 - 100 dan kalimat struktur khobar muqaddam mubtada' muakkhar
C69: sebagai bahan dasar penulisan: | G69: 3 | H69: TP-3 | I69: =IF([30]BA!I65="","",[30]BA!I65) -> 0
C70: Capaian Kompetensi | G70: 4 | H70: TP-4 | I70: =IF([30]BA!I66="","",[30]BA!I66) -> 0
G71: 5 | H71: TP-5 | I71: =IF([30]BA!I67="","",[30]BA!I67) -> 0
G72: 6 | H72: TP-6 | I72: =IF([30]BA!I68="","",[30]BA!I68) -> 0
G73: 7 | H73: TP-7 | I73: =IF([30]BA!I69="","",[30]BA!I69) -> 0
G74: 8 | H74: TP-8 | I74: =IF([30]BA!I70="","",[30]BA!I70) -> 0
G78: PREDIKAT NILAI PENGETAHUAN
G79: Interval Nilai | J79: Predikat
G80: =I81+1 -> #REF! | H80: - | I80: 100 | J80: sangat baik
G81: =I82+1 -> #REF! | H81: - | I81: =ROUNDDOWN(G81+($I$80-G81)/2,0) -> #REF! | J81: baik
G82: =#REF! -> #REF! | H82: - | I82: =ROUNDDOWN(G82+($I$80-G82)/3,0) -> #REF! | J82: cukup
G83: 0 | H83: - | I83: =G82-1 -> #REF! | J83: perlu bantuan
G85: PREDIKAT NILAI PENGETAHUAN
G86: Interval Nilai | J86: Predikat
G87: =G80 -> #REF! | H87: - | I87: =I80 -> 100 | J87: sangat baik
G88: =G81 -> #REF! | H88: - | I88: =I81 -> #REF! | J88: baik
G89: =G82 -> #REF! | H89: - | I89: =I82 -> #REF! | J89: cukup
G90: =G83 -> 0 | H90: - | I90: =I83 -> #REF! | J90: perlu bantuan

Sheet KE NU AN
E2: JANGAN LAKUKAN CUT/MOVE/COPY-PASTE | G2: =Data!C4 -> SMP ISLAM PEGANDON
G3: ="TAHUN PELAJARAN "&Data!$C$20 -> TAHUN PELAJARAN 2024 / 2025
E4: Boleh dengan langkah: copy >> paste special values | G4: =Menu!B21 -> Ke NU an
G5: ='AQIDAH - AKHLAK'!G5 -> Perolehan Hasil Assesmen Peserta Didik Kelas IX B Semester II ( Genap )
G6: =IF(COUNT(G9:G54)>0,1,"") -> 1 | H6: =IF(COUNT(H9:H54)>0,1,"") -> 1 | I6: =IF(COUNT(I9:I54)>0,1,"") -> 1 | J6: =IF(COUNT(J9:J54)>0,1,"") -> 1 | K6: =IF(COUNT(K9:K54)>0,1,"") -> 1 | L6: =IF(COUNT(L9:L54)>0,1,"") -> 1 | M6: =IF(COUNT(M9:M54)>0,1,"") -> 1 | N6: =IF(COUNT(N9:N54)>0,1,"") -> 1 | ... V6: =IF(COUNT(V9:V54)>0,1,"") -> 1 | W6: =SUM(G6:N6) -> 8 | X6: =SUM(O6:V6) -> 8 | Y6: =SUM(W8:Y8) -> 3
B7: NO | C7: NIS | D7: NISN | E7: NAMA | F7: LP | G7: FORMATIF | O7: SUMATIF | W7: NA FORMATIF | X7: NA SUMATIF | Y7: SUMATIF AKHIR SEM | Z7: NILAI AKHIR | AE7: CAPAIAN KOMPETENSI TERTINGGI (OTOMATIS) | AF7: CAPAIAN KOMPETENSI TERENDAH (OTOMATIS)
G8: =H67 -> TP-1 | H8: =H68 -> TP-2 | I8: =H69 -> TP-3 | J8: =H70 -> TP-4 | K8: =H71 -> TP-5 | L8: =H72 -> TP-6 | M8: =H73 -> TP-7 | N8: =H74 -> TP-8 | O8: SUM-1 | P8: SUM-2 | Q8: SUM-3 | R8: SUM-4 | S8: SUM-5 | T8: SUM-6 | U8: SUM-7 | V8: SUM-8 | W8: 1 | X8: 1 | Y8: 1 | AA8: MAX | AB8: MIN | AC8: Alamat
B9: 1 | C9: =IF(Data!F5="","",Data!F5) -> 2111 | D9: =IF(Data!G5="","",Data!G5) -> 3109336136 | E9: =IF(Data!H5="","",Data!H5) -> AGA ALBANI ZAMIR | F9: =IF(Data!I5="","",Data!I5) -> L | G9: =IF([31]NU!G9="","",[31]NU!G9) -> 87 | H9: =IF([31]NU!H9="","",[31]NU!H9) -> 80 | I9: =IF([31]NU!I9="","",[31]NU!I9) -> 78 | J9: =IF([31]NU!J9="","",[31]NU!J9) -> 0 | K9: =IF([31]NU!K9="","",[31]NU!K9) -> 0 | L9: =IF([31]NU!L9="","",[31]NU!L9) -> 0 | M9: =IF([31]NU!M9="","",[31]NU!M9) -> 0 | N9: =IF([31]NU!N9="","",[31]NU!N9) -> 0 | ... Y9: =IF([31]NU!Y9="","",[31]NU!Y9) -> 84 | Z9: =IFERROR(IF(OR(X9="",Y9=""),"",ROUND(((W9*$W$8)+(X9*$X$8)+(Y9*$Y$8))/$Y$6,0)),"") -> 84 | AA9: =MAX(G9:N9) -> 87 | AB9: =MIN(G9:N9) -> 0 | AC9: =MATCH(AA9,G9:N9,0) -> 1 | AD9: =MATCH(AB9,G9:N9,0) -> 4 | AE9: =IFERROR("Menunjukkan penguasaan"& " dalam "&(VLOOKUP(AC9,$G$67:$I$74,3)),"") -> Menunjukkan penguasaan dalam menjelaskan memahami tentang struktur organisai NU, kepengurusan NU dan tugasnya, lembaga dan badan otonom NU dan perangkat organisasi Nu | AF9: =IFERROR("Perlu bantuan dalam "&(VLOOKUP(AD9,$G$67:$I$74,3)),"") -> Perlu bantuan dalam 0
B10: =IF(E10="","",B9+1) -> 2 | C10: =IF(Data!F6="","",Data!F6) -> 2100 | D10: =IF(Data!G6="","",Data!G6) -> 0108954708 | E10: =IF(Data!H6="","",Data!H6) -> AKBAR FIRLY MAULANA | F10: =IF(Data!I6="","",Data!I6) -> L | G10: =IF([31]NU!G10="","",[31]NU!G10) -> 82 | H10: =IF([31]NU!H10="","",[31]NU!H10) -> 85 | I10: =IF([31]NU!I10="","",[31]NU!I10) -> 84 | J10: =IF([31]NU!J10="","",[31]NU!J10) -> 0 | K10: =IF([31]NU!K10="","",[31]NU!K10) -> 0 | L10: =IF([31]NU!L10="","",[31]NU!L10) -> 0 | M10: =IF([31]NU!M10="","",[31]NU!M10) -> 0 | N10: =IF([31]NU!N10="","",[31]NU!N10) -> 0 | ... Y10: =IF([31]NU!Y10="","",[31]NU!Y10) -> 83 | Z10: =IFERROR(IF(OR(X10="",Y10=""),"",ROUND(((W10*$W$8)+(X10*$X$8)+(Y10*$Y$8))/$Y$6,0)),"") -> 84 | AA10: =MAX(G10:N10) -> 85 | AB10: =MIN(G10:N10) -> 0 | AC10: =MATCH(AA10,G10:N10,0) -> 2 | AD10: =MATCH(AB10,G10:N10,0) -> 4 | AE10: =IFERROR("Menunjukkan penguasaan"& " dalam "&(VLOOKUP(AC10,$G$67:$I$74,3)),"") -> Menunjukkan penguasaan dalam menjelaskan pengertian pesantren, unsur unsur pesantren dan tata nilai pesantren | AF10: =IFERROR("Perlu bantuan dalam "&(VLOOKUP(AD10,$G$67:$I$74,3)),"") -> Perlu bantuan dalam 0
B11: =IF(E11="","",B10+1) -> 3 | C11: =IF(Data!F7="","",Data!F7) -> 2085 | D11: =IF(Data!G7="","",Data!G7) -> 0093911821 | E11: =IF(Data!H7="","",Data!H7) -> ALVINO EWALDO | F11: =IF(Data!I7="","",Data!I7) -> L | G11: =IF([31]NU!G11="","",[31]NU!G11) -> 80 | H11: =IF([31]NU!H11="","",[31]NU!H11) -> 85 | I11: =IF([31]NU!I11="","",[31]NU!I11) -> 93 | J11: =IF([31]NU!J11="","",[31]NU!J11) -> 0 | K11: =IF([31]NU!K11="","",[31]NU!K11) -> 0 | L11: =IF([31]NU!L11="","",[31]NU!L11) -> 0 | M11: =IF([31]NU!M11="","",[31]NU!M11) -> 0 | N11: =IF([31]NU!N11="","",[31]NU!N11) -> 0 | ... Y11: =IF([31]NU!Y11="","",[31]NU!Y11) -> 87 | Z11: =IFERROR(IF(OR(X11="",Y11=""),"",ROUND(((W11*$W$8)+(X11*$X$8)+(Y11*$Y$8))/$Y$6,0)),"") -> 87 | AA11: =MAX(G11:N11) -> 93 | AB11: =MIN(G11:N11) -> 0 | AC11: =MATCH(AA11,G11:N11,0) -> 3 | AD11: =MATCH(AB11,G11:N11,0) -> 4 | AE11: =IFERROR("Menunjukkan penguasaan"& " dalam "&(VLOOKUP(AC11,$G$67:$I$74,3)),"") -> Menunjukkan penguasaan dalam menjelaskan amaliyah dzikir dan memutaar tasbid berdasarkan dalil-dalil al qur'an dan hadis menurut paham ahlussunnah waljama'ah | AF11: =IFERROR("Perlu bantuan dalam "&(VLOOKUP(AD11,$G$67:$I$74,3)),"") -> Perlu bantuan dalam 0
B12: =IF(E12="","",B11+1) -> 4 | C12: =IF(Data!F8="","",Data!F8) -> 2075 | D12: =IF(Data!G8="","",Data!G8) -> 0098772064 | E12: =IF(Data!H8="","",Data!H8) -> AURA SUCI RAMADHANI | F12: =IF(Data!I8="","",Data!I8) -> P | G12: =IF([31]NU!G12="","",[31]NU!G12) -> 80 | H12: =IF([31]NU!H12="","",[31]NU!H12) -> 80.2 | I12: =IF([31]NU!I12="","",[31]NU!I12) -> 90 | J12: =IF([31]NU!J12="","",[31]NU!J12) -> 0 | K12: =IF([31]NU!K12="","",[31]NU!K12) -> 0 | L12: =IF([31]NU!L12="","",[31]NU!L12) -> 0 | M12: =IF([31]NU!M12="","",[31]NU!M12) -> 0 | N12: =IF([31]NU!N12="","",[31]NU!N12) -> 0 | ... Y12: =IF([31]NU!Y12="","",[31]NU!Y12) -> 85 | Z12: =IFERROR(IF(OR(X12="",Y12=""),"",ROUND(((W12*$W$8)+(X12*$X$8)+(Y12*$Y$8))/$Y$6,0)),"") -> 85 | AA12: =MAX(G12:N12) -> 90 | AB12: =MIN(G12:N12) -> 0 | AC12: =MATCH(AA12,G12:N12,0) -> 3 | AD12: =MATCH(AB12,G12:N12,0) -> 4 | AE12: =IFERROR("Menunjukkan penguasaan"& " dalam "&(VLOOKUP(AC12,$G$67:$I$74,3)),"") -> Menunjukkan penguasaan dalam menjelaskan amaliyah dzikir dan memutaar tasbid berdasarkan dalil-dalil al qur'an dan hadis menurut paham ahlussunnah waljama'ah | AF12: =IFERROR("Perlu bantuan dalam "&(VLOOKUP(AD12,$G$67:$I$74,3)),"") -> Perlu bantuan dalam 0
B13: =IF(E13="","",B12+1) -> 5 | C13: =IF(Data!F9="","",Data!F9) -> 2086 | D13: =IF(Data!G9="","",Data!G9) -> 0103867888 | E13: =IF(Data!H9="","",Data!H9) -> AYU SAFNA | F13: =IF(Data!I9="","",Data!I9) -> P | G13: =IF([31]NU!G13="","",[31]NU!G13) -> 90 | H13: =IF([31]NU!H13="","",[31]NU!H13) -> 85 | I13: =IF([31]NU!I13="","",[31]NU!I13) -> 86 | J13: =IF([31]NU!J13="","",[31]NU!J13) -> 0 | K13: =IF([31]NU!K13="","",[31]NU!K13) -> 0 | L13: =IF([31]NU!L13="","",[31]NU!L13) -> 0 | M13: =IF([31]NU!M13="","",[31]NU!M13) -> 0 | N13: =IF([31]NU!N13="","",[31]NU!N13) -> 0 | ... Y13: =IF([31]NU!Y13="","",[31]NU!Y13) -> 83 | Z13: =IFERROR(IF(OR(X13="",Y13=""),"",ROUND(((W13*$W$8)+(X13*$X$8)+(Y13*$Y$8))/$Y$6,0)),"") -> 86 | AA13: =MAX(G13:N13) -> 90 | AB13: =MIN(G13:N13) -> 0 | AC13: =MATCH(AA13,G13:N13,0) -> 1 | AD13: =MATCH(AB13,G13:N13,0) -> 4 | AE13: =IFERROR("Menunjukkan penguasaan"& " dalam "&(VLOOKUP(AC13,$G$67:$I$74,3)),"") -> Menunjukkan penguasaan dalam menjelaskan memahami tentang struktur organisai NU, kepengurusan NU dan tugasnya, lembaga dan badan otonom NU dan perangkat organisasi Nu | AF13: =IFERROR("Perlu bantuan dalam "&(VLOOKUP(AD13,$G$67:$I$74,3)),"") -> Perlu bantuan dalam 0
B14: =IF(E14="","",B13+1) -> 6 | C14: =IF(Data!F10="","",Data!F10) -> 2089 | D14: =IF(Data!G10="","",Data!G10) -> 3098656100 | E14: =IF(Data!H10="","",Data!H10) -> DEWI AYU NURHALIZA | F14: =IF(Data!I10="","",Data!I10) -> P | G14: =IF([31]NU!G14="","",[31]NU!G14) -> 90 | H14: =IF([31]NU!H14="","",[31]NU!H14) -> 80 | I14: =IF([31]NU!I14="","",[31]NU!I14) -> 82 | J14: =IF([31]NU!J14="","",[31]NU!J14) -> 0 | K14: =IF([31]NU!K14="","",[31]NU!K14) -> 0 | L14: =IF([31]NU!L14="","",[31]NU!L14) -> 0 | M14: =IF([31]NU!M14="","",[31]NU!M14) -> 0 | N14: =IF([31]NU!N14="","",[31]NU!N14) -> 0 | ... Y14: =IF([31]NU!Y14="","",[31]NU!Y14) -> 86 | Z14: =IFERROR(IF(OR(X14="",Y14=""),"",ROUND(((W14*$W$8)+(X14*$X$8)+(Y14*$Y$8))/$Y$6,0)),"") -> 86 | AA14: =MAX(G14:N14) -> 90 | AB14: =MIN(G14:N14) -> 0 | AC14: =MATCH(AA14,G14:N14,0) -> 1 | AD14: =MATCH(AB14,G14:N14,0) -> 4 | AE14: =IFERROR("Menunjukkan penguasaan"& " dalam "&(VLOOKUP(AC14,$G$67:$I$74,3)),"") -> Menunjukkan penguasaan dalam menjelaskan memahami tentang struktur organisai NU, kepengurusan NU dan tugasnya, lembaga dan badan otonom NU dan perangkat organisasi Nu | AF14: =IFERROR("Perlu bantuan dalam "&(VLOOKUP(AD14,$G$67:$I$74,3)),"") -> Perlu bantuan dalam 0
B15: =IF(E15="","",B14+1) -> 7 | C15: =IF(Data!F11="","",Data!F11) -> 2115 | D15: =IF(Data!G11="","",Data!G11) -> 0105966564 | E15: =IF(Data!H11="","",Data!H11) -> FADLY ARYA PUTRA | F15: =IF(Data!I11="","",Data!I11) -> L | G15: =IF([31]NU!G15="","",[31]NU!G15) -> 82 | H15: =IF([31]NU!H15="","",[31]NU!H15) -> 98 | I15: =IF([31]NU!I15="","",[31]NU!I15) -> 86 | J15: =IF([31]NU!J15="","",[31]NU!J15) -> 0 | K15: =IF([31]NU!K15="","",[31]NU!K15) -> 0 | L15: =IF([31]NU!L15="","",[31]NU!L15) -> 0 | M15: =IF([31]NU!M15="","",[31]NU!M15) -> 0 | N15: =IF([31]NU!N15="","",[31]NU!N15) -> 0 | ... Y15: =IF([31]NU!Y15="","",[31]NU!Y15) -> 86 | Z15: =IFERROR(IF(OR(X15="",Y15=""),"",ROUND(((W15*$W$8)+(X15*$X$8)+(Y15*$Y$8))/$Y$6,0)),"") -> 87 | AA15: =MAX(G15:N15) -> 98 | AB15: =MIN(G15:N15) -> 0 | AC15: =MATCH(AA15,G15:N15,0) -> 2 | AD15: =MATCH(AB15,G15:N15,0) -> 4 | AE15: =IFERROR("Menunjukkan penguasaan"& " dalam "&(VLOOKUP(AC15,$G$67:$I$74,3)),"") -> Menunjukkan penguasaan dalam menjelaskan pengertian pesantren, unsur unsur pesantren dan tata nilai pesantren | AF15: =IFERROR("Perlu bantuan dalam "&(VLOOKUP(AD15,$G$67:$I$74,3)),"") -> Perlu bantuan dalam 0
B16: =IF(E16="","",B15+1) -> 8 | C16: =IF(Data!F12="","",Data!F12) -> 2082 | D16: =IF(Data!G12="","",Data!G12) -> 3092203012 | E16: =IF(Data!H12="","",Data!H12) -> ILHAM MAULANA | F16: =IF(Data!I12="","",Data!I12) -> L | G16: =IF([31]NU!G16="","",[31]NU!G16) -> 85 | H16: =IF([31]NU!H16="","",[31]NU!H16) -> 80 | I16: =IF([31]NU!I16="","",[31]NU!I16) -> 84 | J16: =IF([31]NU!J16="","",[31]NU!J16) -> 0 | K16: =IF([31]NU!K16="","",[31]NU!K16) -> 0 | L16: =IF([31]NU!L16="","",[31]NU!L16) -> 0 | M16: =IF([31]NU!M16="","",[31]NU!M16) -> 0 | N16: =IF([31]NU!N16="","",[31]NU!N16) -> 0 | ... Y16: =IF([31]NU!Y16="","",[31]NU!Y16) -> 82 | Z16: =IFERROR(IF(OR(X16="",Y16=""),"",ROUND(((W16*$W$8)+(X16*$X$8)+(Y16*$Y$8))/$Y$6,0)),"") -> 83 | AA16: =MAX(G16:N16) -> 85 | AB16: =MIN(G16:N16) -> 0 | AC16: =MATCH(AA16,G16:N16,0) -> 1 | AD16: =MATCH(AB16,G16:N16,0) -> 4 | AE16: =IFERROR("Menunjukkan penguasaan"& " dalam "&(VLOOKUP(AC16,$G$67:$I$74,3)),"") -> Menunjukkan penguasaan dalam menjelaskan memahami tentang struktur organisai NU, kepengurusan NU dan tugasnya, lembaga dan badan otonom NU dan perangkat organisasi Nu | AF16: =IFERROR("Perlu bantuan dalam "&(VLOOKUP(AD16,$G$67:$I$74,3)),"") -> Perlu bantuan dalam 0
B17: =IF(E17="","",B16+1) -> 9 | C17: =IF(Data!F13="","",Data!F13) -> 2088 | D17: =IF(Data!G13="","",Data!G13) -> 3106632526 | E17: =IF(Data!H13="","",Data!H13) -> INDAH VIOLAFITRA | F17: =IF(Data!I13="","",Data!I13) -> P | G17: =IF([31]NU!G17="","",[31]NU!G17) -> 85 | H17: =IF([31]NU!H17="","",[31]NU!H17) -> 95 | I17: =IF([31]NU!I17="","",[31]NU!I17) -> 83 | J17: =IF([31]NU!J17="","",[31]NU!J17) -> 0 | K17: =IF([31]NU!K17="","",[31]NU!K17) -> 0 | L17: =IF([31]NU!L17="","",[31]NU!L17) -> 0 | M17: =IF([31]NU!M17="","",[31]NU!M17) -> 0 | N17: =IF([31]NU!N17="","",[31]NU!N17) -> 0 | ... Y17: =IF([31]NU!Y17="","",[31]NU!Y17) -> 90 | Z17: =IFERROR(IF(OR(X17="",Y17=""),"",ROUND(((W17*$W$8)+(X17*$X$8)+(Y17*$Y$8))/$Y$6,0)),"") -> 89 | AA17: =MAX(G17:N17) -> 95 | AB17: =MIN(G17:N17) -> 0 | AC17: =MATCH(AA17,G17:N17,0) -> 2 | AD17: =MATCH(AB17,G17:N17,0) -> 4 | AE17: =IFERROR("Menunjukkan penguasaan"& " dalam "&(VLOOKUP(AC17,$G$67:$I$74,3)),"") -> Menunjukkan penguasaan dalam menjelaskan pengertian pesantren, unsur unsur pesantren dan tata nilai pesantren | AF17: =IFERROR("Perlu bantuan dalam "&(VLOOKUP(AD17,$G$67:$I$74,3)),"") -> Perlu bantuan dalam 0
B18: =IF(E18="","",B17+1) -> 10 | C18: =IF(Data!F14="","",Data!F14) -> 2109 | D18: =IF(Data!G14="","",Data!G14) -> 3092608052 | E18: =IF(Data!H14="","",Data!H14) -> KEVIN FAHREZI | F18: =IF(Data!I14="","",Data!I14) -> L | G18: =IF([31]NU!G18="","",[31]NU!G18) -> 80 | H18: =IF([31]NU!H18="","",[31]NU!H18) -> 75 | I18: =IF([31]NU!I18="","",[31]NU!I18) -> 76 | J18: =IF([31]NU!J18="","",[31]NU!J18) -> 0 | K18: =IF([31]NU!K18="","",[31]NU!K18) -> 0 | L18: =IF([31]NU!L18="","",[31]NU!L18) -> 0 | M18: =IF([31]NU!M18="","",[31]NU!M18) -> 0 | N18: =IF([31]NU!N18="","",[31]NU!N18) -> 0 | ... Y18: =IF([31]NU!Y18="","",[31]NU!Y18) -> 78 | Z18: =IFERROR(IF(OR(X18="",Y18=""),"",ROUND(((W18*$W$8)+(X18*$X$8)+(Y18*$Y$8))/$Y$6,0)),"") -> 78 | AA18: =MAX(G18:N18) -> 80 | AB18: =MIN(G18:N18) -> 0 | AC18: =MATCH(AA18,G18:N18,0) -> 1 | AD18: =MATCH(AB18,G18:N18,0) -> 4 | AE18: =IFERROR("Menunjukkan penguasaan"& " dalam "&(VLOOKUP(AC18,$G$67:$I$74,3)),"") -> Menunjukkan penguasaan dalam menjelaskan memahami tentang struktur organisai NU, kepengurusan NU dan tugasnya, lembaga dan badan otonom NU dan perangkat organisasi Nu | AF18: =IFERROR("Perlu bantuan dalam "&(VLOOKUP(AD18,$G$67:$I$74,3)),"") -> Perlu bantuan dalam 0
B19: =IF(E19="","",B18+1) -> 11 | C19: =IF(Data!F15="","",Data!F15) -> 2096 | D19: =IF(Data!G15="","",Data!G15) -> 0107523037 | E19: =IF(Data!H15="","",Data!H15) -> M. IZAM AZMI | F19: =IF(Data!I15="","",Data!I15) -> L | G19: =IF([31]NU!G19="","",[31]NU!G19) -> 80 | H19: =IF([31]NU!H19="","",[31]NU!H19) -> 80.3 | I19: =IF([31]NU!I19="","",[31]NU!I19) -> 84 | J19: =IF([31]NU!J19="","",[31]NU!J19) -> 0 | K19: =IF([31]NU!K19="","",[31]NU!K19) -> 0 | L19: =IF([31]NU!L19="","",[31]NU!L19) -> 0 | M19: =IF([31]NU!M19="","",[31]NU!M19) -> 0 | N19: =IF([31]NU!N19="","",[31]NU!N19) -> 0 | ... Y19: =IF([31]NU!Y19="","",[31]NU!Y19) -> 82 | Z19: =IFERROR(IF(OR(X19="",Y19=""),"",ROUND(((W19*$W$8)+(X19*$X$8)+(Y19*$Y$8))/$Y$6,0)),"") -> 82 | AA19: =MAX(G19:N19) -> 84 | AB19: =MIN(G19:N19) -> 0 | AC19: =MATCH(AA19,G19:N19,0) -> 3 | AD19: =MATCH(AB19,G19:N19,0) -> 4 | AE19: =IFERROR("Menunjukkan penguasaan"& " dalam "&(VLOOKUP(AC19,$G$67:$I$74,3)),"") -> Menunjukkan penguasaan dalam menjelaskan amaliyah dzikir dan memutaar tasbid berdasarkan dalil-dalil al qur'an dan hadis menurut paham ahlussunnah waljama'ah | AF19: =IFERROR("Perlu bantuan dalam "&(VLOOKUP(AD19,$G$67:$I$74,3)),"") -> Perlu bantuan dalam 0
B20: =IF(E20="","",B19+1) -> 12 | C20: =IF(Data!F16="","",Data!F16) -> 2102 | D20: =IF(Data!G16="","",Data!G16) -> 0104675982 | E20: =IF(Data!H16="","",Data!H16) -> M. RAFFY MAULA DANNY | F20: =IF(Data!I16="","",Data!I16) -> L | G20: =IF([31]NU!G20="","",[31]NU!G20) -> 80.1 | H20: =IF([31]NU!H20="","",[31]NU!H20) -> 80 | I20: =IF([31]NU!I20="","",[31]NU!I20) -> 76 | J20: =IF([31]NU!J20="","",[31]NU!J20) -> 0 | K20: =IF([31]NU!K20="","",[31]NU!K20) -> 0 | L20: =IF([31]NU!L20="","",[31]NU!L20) -> 0 | M20: =IF([31]NU!M20="","",[31]NU!M20) -> 0 | N20: =IF([31]NU!N20="","",[31]NU!N20) -> 0 | ... Y20: =IF([31]NU!Y20="","",[31]NU!Y20) -> 84 | Z20: =IFERROR(IF(OR(X20="",Y20=""),"",ROUND(((W20*$W$8)+(X20*$X$8)+(Y20*$Y$8))/$Y$6,0)),"") -> 81 | AA20: =MAX(G20:N20) -> 80.1 | AB20: =MIN(G20:N20) -> 0 | AC20: =MATCH(AA20,G20:N20,0) -> 1 | AD20: =MATCH(AB20,G20:N20,0) -> 4 | AE20: =IFERROR("Menunjukkan penguasaan"& " dalam "&(VLOOKUP(AC20,$G$67:$I$74,3)),"") -> Menunjukkan penguasaan dalam menjelaskan memahami tentang struktur organisai NU, kepengurusan NU dan tugasnya, lembaga dan badan otonom NU dan perangkat organisasi Nu | AF20: =IFERROR("Perlu bantuan dalam "&(VLOOKUP(AD20,$G$67:$I$74,3)),"") -> Perlu bantuan dalam 0
B21: =IF(E21="","",B20+1) -> 13 | C21: =IF(Data!F17="","",Data!F17) -> 2090 | D21: =IF(Data!G17="","",Data!G17) -> 3090477421 | E21: =IF(Data!H17="","",Data!H17) -> MARWAH RIANA | F21: =IF(Data!I17="","",Data!I17) -> P | G21: =IF([31]NU!G21="","",[31]NU!G21) -> 80 | H21: =IF([31]NU!H21="","",[31]NU!H21) -> 80.2 | I21: =IF([31]NU!I21="","",[31]NU!I21) -> 83 | J21: =IF([31]NU!J21="","",[31]NU!J21) -> 0 | K21: =IF([31]NU!K21="","",[31]NU!K21) -> 0 | L21: =IF([31]NU!L21="","",[31]NU!L21) -> 0 | M21: =IF([31]NU!M21="","",[31]NU!M21) -> 0 | N21: =IF([31]NU!N21="","",[31]NU!N21) -> 0 | ... Y21: =IF([31]NU!Y21="","",[31]NU!Y21) -> 83 | Z21: =IFERROR(IF(OR(X21="",Y21=""),"",ROUND(((W21*$W$8)+(X21*$X$8)+(Y21*$Y$8))/$Y$6,0)),"") -> 83 | AA21: =MAX(G21:N21) -> 83 | AB21: =MIN(G21:N21) -> 0 | AC21: =MATCH(AA21,G21:N21,0) -> 3 | AD21: =MATCH(AB21,G21:N21,0) -> 4 | AE21: =IFERROR("Menunjukkan penguasaan"& " dalam "&(VLOOKUP(AC21,$G$67:$I$74,3)),"") -> Menunjukkan penguasaan dalam menjelaskan amaliyah dzikir dan memutaar tasbid berdasarkan dalil-dalil al qur'an dan hadis menurut paham ahlussunnah waljama'ah | AF21: =IFERROR("Perlu bantuan dalam "&(VLOOKUP(AD21,$G$67:$I$74,3)),"") -> Perlu bantuan dalam 0
... B50: =IF(E50="","",B49+1) | C50: =IF(Data!F46="","",Data!F46) | D50: =IF(Data!G46="","",Data!G46) | E50: =IF(Data!H46="","",Data!H46) | F50: =IF(Data!I46="","",Data!I46) | G50: =IF([31]NU!G50="","",[31]NU!G50) -> 0 | H50: =IF([31]NU!H50="","",[31]NU!H50) -> 0 | I50: =IF([31]NU!I50="","",[31]NU!I50) -> 0 | J50: =IF([31]NU!J50="","",[31]NU!J50) -> 0 | K50: =IF([31]NU!K50="","",[31]NU!K50) -> 0 | L50: =IF([31]NU!L50="","",[31]NU!L50) -> 0 | M50: =IF([31]NU!M50="","",[31]NU!M50) -> 0 | N50: =IF([31]NU!N50="","",[31]NU!N50) -> 0 | ... Y50: =IF([31]NU!Y50="","",[31]NU!Y50) -> 0 | Z50: =IFERROR(IF(OR(X50="",Y50=""),"",ROUND(((W50*$W$8)+(X50*$X$8)+(Y50*$Y$8))/$Y$6,0)),"") | AA50: =MAX(G50:N50) -> 0 | AB50: =MIN(G50:N50) -> 0 | AC50: =MATCH(AA50,G50:N50,0) -> 1 | AD50: =MATCH(AB50,G50:N50,0) -> 1 | AE50: =IFERROR("Menunjukkan penguasaan"& " dalam "&(VLOOKUP(AC50,$G$67:$I$74,3)),"") -> Menunjukkan penguasaan dalam menjelaskan memahami tentang struktur organisai NU, kepengurusan NU dan tugasnya, lembaga dan badan otonom NU dan perangkat organisasi Nu | AF50: =IFERROR("Perlu bantuan dalam "&(VLOOKUP(AD50,$G$67:$I$74,3)),"") -> Perlu bantuan dalam menjelaskan memahami tentang struktur organisai NU, kepengurusan NU dan tugasnya, lembaga dan badan otonom NU dan perangkat organisasi Nu
B51: =IF(E51="","",B50+1) | C51: =IF(Data!F47="","",Data!F47) | D51: =IF(Data!G47="","",Data!G47) | E51: =IF(Data!H47="","",Data!H47) | F51: =IF(Data!I47="","",Data!I47) | G51: =IF([31]NU!G51="","",[31]NU!G51) -> 0 | H51: =IF([31]NU!H51="","",[31]NU!H51) -> 0 | I51: =IF([31]NU!I51="","",[31]NU!I51) -> 0 | J51: =IF([31]NU!J51="","",[31]NU!J51) -> 0 | K51: =IF([31]NU!K51="","",[31]NU!K51) -> 0 | L51: =IF([31]NU!L51="","",[31]NU!L51) -> 0 | M51: =IF([31]NU!M51="","",[31]NU!M51) -> 0 | N51: =IF([31]NU!N51="","",[31]NU!N51) -> 0 | ... V51: =IF([31]NU!V51="","",[31]NU!V51) -> 0 | W51: =IF(COUNT(G51:N51)<2,"",ROUND(SUM(G51:N51)/$W$6,0)) -> 0 | X51: =IF(COUNT(O51:V51)<2,"",ROUND(SUM(O51:V51)/$X$6,0)) -> 0 | Y51: =IF([31]NU!Y51="","",[31]NU!Y51) -> 0 | Z51: =IFERROR(IF(OR(X51="",Y51=""),"",ROUND(((W51*$W$8)+(X51*$X$8)+(Y51*$Y$8))/$Y$6,0)),"") -> 0 | AA51: =MAX(G51:N51) -> 0 | AB51: =MIN(G51:N51) -> 0 | AC51: =MATCH(AA51,G51:N51,0) -> 1 | AD51: =MATCH(AB51,G51:N51,0) -> 1 | AE51: =IFERROR("Menunjukkan penguasaan"& " dalam "&(VLOOKUP(AC51,$G$67:$I$74,3)),"") -> Menunjukkan penguasaan dalam menjelaskan memahami tentang struktur organisai NU, kepengurusan NU dan tugasnya, lembaga dan badan otonom NU dan perangkat organisasi Nu | AF51: =IFERROR("Perlu bantuan dalam "&(VLOOKUP(AD51,$G$67:$I$74,3)),"") -> Perlu bantuan dalam menjelaskan memahami tentang struktur organisai NU, kepengurusan NU dan tugasnya, lembaga dan badan otonom NU dan perangkat organisasi Nu
B52: =IF(E52="","",B51+1) | C52: =IF(Data!F48="","",Data!F48) | D52: =IF(Data!G48="","",Data!G48) | E52: =IF(Data!H48="","",Data!H48) | F52: =IF(Data!I48="","",Data!I48) | G52: =IF([31]NU!G52="","",[31]NU!G52) -> 0 | H52: =IF([31]NU!H52="","",[31]NU!H52) -> 0 | I52: =IF([31]NU!I52="","",[31]NU!I52) -> 0 | J52: =IF([31]NU!J52="","",[31]NU!J52) -> 0 | K52: =IF([31]NU!K52="","",[31]NU!K52) -> 0 | L52: =IF([31]NU!L52="","",[31]NU!L52) -> 0 | M52: =IF([31]NU!M52="","",[31]NU!M52) -> 0 | N52: =IF([31]NU!N52="","",[31]NU!N52) -> 0 | ... V52: =IF([31]NU!V52="","",[31]NU!V52) -> 0 | W52: =IF(COUNT(G52:N52)<2,"",ROUND(SUM(G52:N52)/$W$6,0)) -> 0 | X52: =IF(COUNT(O52:V52)<2,"",ROUND(SUM(O52:V52)/$X$6,0)) -> 0 | Y52: =IF([31]NU!Y52="","",[31]NU!Y52) -> 0 | Z52: =IFERROR(IF(OR(X52="",Y52=""),"",ROUND(((W52*$W$8)+(X52*$X$8)+(Y52*$Y$8))/$Y$6,0)),"") -> 0 | AA52: =MAX(G52:N52) -> 0 | AB52: =MIN(G52:N52) -> 0 | AC52: =MATCH(AA52,G52:N52,0) -> 1 | AD52: =MATCH(AB52,G52:N52,0) -> 1 | AE52: =IFERROR("Menunjukkan penguasaan"& " dalam "&(VLOOKUP(AC52,$G$67:$I$74,3)),"") -> Menunjukkan penguasaan dalam menjelaskan memahami tentang struktur organisai NU, kepengurusan NU dan tugasnya, lembaga dan badan otonom NU dan perangkat organisasi Nu | AF52: =IFERROR("Perlu bantuan dalam "&(VLOOKUP(AD52,$G$67:$I$74,3)),"") -> Perlu bantuan dalam menjelaskan memahami tentang struktur organisai NU, kepengurusan NU dan tugasnya, lembaga dan badan otonom NU dan perangkat organisasi Nu
B53: =IF(E53="","",B52+1) | C53: =IF(Data!F49="","",Data!F49) | D53: =IF(Data!G49="","",Data!G49) | E53: =IF(Data!H49="","",Data!H49) | F53: =IF(Data!I49="","",Data!I49) | G53: =IF([31]NU!G53="","",[31]NU!G53) -> 0 | H53: =IF([31]NU!H53="","",[31]NU!H53) -> 0 | I53: =IF([31]NU!I53="","",[31]NU!I53) -> 0 | J53: =IF([31]NU!J53="","",[31]NU!J53) -> 0 | K53: =IF([31]NU!K53="","",[31]NU!K53) -> 0 | L53: =IF([31]NU!L53="","",[31]NU!L53) -> 0 | M53: =IF([31]NU!M53="","",[31]NU!M53) -> 0 | N53: =IF([31]NU!N53="","",[31]NU!N53) -> 0 | ... V53: =IF([31]NU!V53="","",[31]NU!V53) -> 0 | W53: =IF(COUNT(G53:N53)<2,"",ROUND(SUM(G53:N53)/$W$6,0)) -> 0 | X53: =IF(COUNT(O53:V53)<2,"",ROUND(SUM(O53:V53)/$X$6,0)) -> 0 | Y53: =IF([31]NU!Y53="","",[31]NU!Y53) -> 0 | Z53: =IFERROR(IF(OR(X53="",Y53=""),"",ROUND(((W53*$W$8)+(X53*$X$8)+(Y53*$Y$8))/$Y$6,0)),"") -> 0 | AA53: =MAX(G53:N53) -> 0 | AB53: =MIN(G53:N53) -> 0 | AC53: =MATCH(AA53,G53:N53,0) -> 1 | AD53: =MATCH(AB53,G53:N53,0) -> 1 | AE53: =IFERROR("Menunjukkan penguasaan"& " dalam "&(VLOOKUP(AC53,$G$67:$I$74,3)),"") -> Menunjukkan penguasaan dalam menjelaskan memahami tentang struktur organisai NU, kepengurusan NU dan tugasnya, lembaga dan badan otonom NU dan perangkat organisasi Nu | AF53: =IFERROR("Perlu bantuan dalam "&(VLOOKUP(AD53,$G$67:$I$74,3)),"") -> Perlu bantuan dalam menjelaskan memahami tentang struktur organisai NU, kepengurusan NU dan tugasnya, lembaga dan badan otonom NU dan perangkat organisasi Nu
B54: =IF(E54="","",B53+1) -> #VALUE! | C54: =IF(Data!F50="","",Data!F50) -> 2 | D54: =IF(Data!G50="","",Data!G50) -> 3 | E54: =IF(Data!H50="","",Data!H50) -> 4 | F54: =IF(Data!I50="","",Data!I50) -> 5 | G54: =IF([31]NU!G54="","",[31]NU!G54) -> 0 | H54: =IF([31]NU!H54="","",[31]NU!H54) -> 0 | I54: =IF([31]NU!I54="","",[31]NU!I54) -> 0 | J54: =IF([31]NU!J54="","",[31]NU!J54) -> 0 | K54: =IF([31]NU!K54="","",[31]NU!K54) -> 0 | L54: =IF([31]NU!L54="","",[31]NU!L54) -> 0 | M54: =IF([31]NU!M54="","",[31]NU!M54) -> 0 | N54: =IF([31]NU!N54="","",[31]NU!N54) -> 0 | ... V54: =IF([31]NU!V54="","",[31]NU!V54) -> 0 | W54: =IF(COUNT(G54:N54)<2,"",ROUND(SUM(G54:N54)/$W$6,0)) -> 0 | X54: =IF(COUNT(O54:V54)<2,"",ROUND(SUM(O54:V54)/$X$6,0)) -> 0 | Y54: =IF([31]NU!Y54="","",[31]NU!Y54) -> 0 | Z54: =IFERROR(IF(OR(X54="",Y54=""),"",ROUND(((W54*$W$8)+(X54*$X$8)+(Y54*$Y$8))/$Y$6,0)),"") -> 0 | AA54: =MAX(G54:N54) -> 0 | AB54: =MIN(G54:N54) -> 0 | AC54: =MATCH(AA54,G54:N54,0) -> 1 | AD54: =MATCH(AB54,G54:N54,0) -> 1 | AE54: =IFERROR("Menunjukkan penguasaan"& " dalam "&(VLOOKUP(AC54,$G$67:$I$74,3)),"") -> Menunjukkan penguasaan dalam menjelaskan memahami tentang struktur organisai NU, kepengurusan NU dan tugasnya, lembaga dan badan otonom NU dan perangkat organisasi Nu | AF54: =IFERROR("Perlu bantuan dalam "&(VLOOKUP(AD54,$G$67:$I$74,3)),"") -> Perlu bantuan dalam menjelaskan memahami tentang struktur organisai NU, kepengurusan NU dan tugasnya, lembaga dan badan otonom NU dan perangkat organisasi Nu
B55: 1 | C55: 2 | D55: 3 | E55: 4 | F55: 5 | G55: =IF([31]NU!G46="","",[31]NU!G46) -> 0 | H55: =IF([31]NU!H46="","",[31]NU!H46) -> 0 | I55: =IF([31]NU!I46="","",[31]NU!I46) -> 0 | J55: =IF([31]NU!J46="","",[31]NU!J46) -> 0 | K55: =IF([31]NU!K46="","",[31]NU!K46) -> 0 | L55: =IF([31]NU!L46="","",[31]NU!L46) -> 0 | M55: =IF([31]NU!M46="","",[31]NU!M46) -> 0 | N55: =IF([31]NU!N46="","",[31]NU!N46) -> 0 | ... V55: =IF([31]NU!V46="","",[31]NU!V46) -> 0 | W55: 22 | X55: 23 | Y55: 24 | Z55: 25 | AA55: 27 | AB55: 28 | AC55: 31 | AD55: 32 | AE55: 33 | AF55: 34
G56: =IF([31]NU!G47="","",[31]NU!G47) -> 0 | H56: =IF([31]NU!H47="","",[31]NU!H47) -> 0 | I56: =IF([31]NU!I47="","",[31]NU!I47) -> 0 | J56: =IF([31]NU!J47="","",[31]NU!J47) -> 0 | K56: =IF([31]NU!K47="","",[31]NU!K47) -> 0 | L56: =IF([31]NU!L47="","",[31]NU!L47) -> 0 | M56: =IF([31]NU!M47="","",[31]NU!M47) -> 0 | N56: =IF([31]NU!N47="","",[31]NU!N47) -> 0 | ... V56: =IF([31]NU!V47="","",[31]NU!V47) -> 0
U58: Pegandon,
U59: Guru Mata Pelajaran
U64: NIP.
G66: No | H66: Kode | I66: Ringkasan Capaian Pembelajaran yang di Nilai (Max 100 huruf kecil semua)
C67: Tulis Tujuan Pembelajaran DISINI >>> | F67: FORMATIF | G67: 1 | H67: TP-1 | I67: =IF([31]NU!I63="","",[31]NU!I63) -> menjelaskan memahami tentang struktur organisai NU, kepengurusan NU dan tugasnya, lembaga dan badan otonom NU dan perangkat organisasi Nu
C68: Penulisan Tujuan Pembelajaran dimaksudkan | G68: 2 | H68: TP-2 | I68: =IF([31]NU!I64="","",[31]NU!I64) -> menjelaskan pengertian pesantren, unsur unsur pesantren dan tata nilai pesantren
C69: sebagai bahan dasar penulisan: | G69: 3 | H69: TP-3 | I69: =IF([31]NU!I65="","",[31]NU!I65) -> menjelaskan amaliyah dzikir dan memutaar tasbid berdasarkan dalil-dalil al qur'an dan hadis menurut paham ahlussunnah waljama'ah
C70: Capaian Kompetensi | G70: 4 | H70: TP-4 | I70: =IF([31]NU!I66="","",[31]NU!I66) -> 0
G71: 5 | H71: TP-5 | I71: =IF([31]NU!I67="","",[31]NU!I67) -> 0
G72: 6 | H72: TP-6 | I72: =IF([31]NU!I68="","",[31]NU!I68) -> 0
G73: 7 | H73: TP-7 | I73: =IF([31]NU!I69="","",[31]NU!I69) -> 0
G74: 8 | H74: TP-8 | I74: =IF([31]NU!I70="","",[31]NU!I70) -> 0
G78: PREDIKAT NILAI PENGETAHUAN
G79: Interval Nilai | J79: Predikat
G80: =I81+1 -> #REF! | H80: - | I80: 100 | J80: sangat baik
G81: =I82+1 -> #REF! | H81: - | I81: =ROUNDDOWN(G81+($I$80-G81)/2,0) -> #REF! | J81: baik
G82: =#REF! -> #REF! | H82: - | I82: =ROUNDDOWN(G82+($I$80-G82)/3,0) -> #REF! | J82: cukup
G83: 0 | H83: - | I83: =G82-1 -> #REF! | J83: perlu bantuan
G85: PREDIKAT NILAI PENGETAHUAN
G86: Interval Nilai | J86: Predikat
G87: =G80 -> #REF! | H87: - | I87: =I80 -> 100 | J87: sangat baik
G88: =G81 -> #REF! | H88: - | I88: =I81 -> #REF! | J88: baik
G89: =G82 -> #REF! | H89: - | I89: =I82 -> #REF! | J89: cukup
G90: =G83 -> 0 | H90: - | I90: =I83 -> #REF! | J90: perlu bantuan

Sheet BTHQ ( PK )
E2: JANGAN LAKUKAN CUT/MOVE/COPY-PASTE | G2: =Data!C4 -> SMP ISLAM PEGANDON
G3: ="TAHUN PELAJARAN "&Data!$C$20 -> TAHUN PELAJARAN 2024 / 2025
E4: Boleh dengan langkah: copy >> paste special values | G4: =Menu!B7 -> Matematika
G5: ='AQIDAH - AKHLAK'!G5 -> Perolehan Hasil Assesmen Peserta Didik Kelas IX B Semester II ( Genap )
G6: =IF(COUNT(G9:G54)>0,1,"") -> 1 | H6: =IF(COUNT(H9:H54)>0,1,"") -> 1 | I6: =IF(COUNT(I9:I54)>0,1,"") -> 1 | J6: =IF(COUNT(J9:J54)>0,1,"") -> 1 | K6: =IF(COUNT(K9:K54)>0,1,"") -> 1 | L6: =IF(COUNT(L9:L54)>0,1,"") -> 1 | M6: =IF(COUNT(M9:M54)>0,1,"") | N6: =IF(COUNT(N9:N54)>0,1,"") | ... V6: =IF(COUNT(V9:V54)>0,1,"") | W6: =SUM(G6:N6) -> 6 | X6: =SUM(O6:V6) -> 3 | Y6: =SUM(W8:Y8) -> 3
B7: NO | C7: NIS | D7: NISN | E7: NAMA | F7: LP | G7: FORMATIF | O7: SUMATIF | W7: NA FORMATIF | X7: NA SUMATIF | Y7: SUMATIF AKHIR SEM | Z7: NILAI AKHIR | AE7: CAPAIAN KOMPETENSI TERTINGGI (OTOMATIS) | AF7: CAPAIAN KOMPETENSI TERENDAH (OTOMATIS)
G8: =H67 -> TP-1 | H8: =H68 -> TP-2 | I8: =H69 -> TP-3 | J8: =H70 -> TP-4 | K8: =H71 -> TP-5 | L8: =H72 -> TP-6 | M8: =H73 -> TP-7 | N8: =H74 -> TP-8 | O8: SUM-1 | P8: SUM-2 | Q8: SUM-3 | R8: SUM-4 | S8: SUM-5 | T8: SUM-6 | U8: SUM-7 | V8: SUM-8 | W8: 1 | X8: 1 | Y8: 1 | AA8: MAX | AB8: MIN | AC8: Alamat
B9: 1 | C9: =IF(Data!F5="","",Data!F5) -> 2111 | D9: =IF(Data!G5="","",Data!G5) -> 3109336136 | E9: =IF(Data!H5="","",Data!H5) -> AGA ALBANI ZAMIR | F9: =IF(Data!I5="","",Data!I5) -> L | G9: 90 | H9: 66 | I9: 67 | J9: 68 | K9: 69 | L9: 80 | O9: 90 | P9: 78 | W9: =IF(COUNT(G9:N9)<2,"",ROUND(SUM(G9:N9)/$W$6,0)) -> 73 | X9: =IF(COUNT(O9:V9)<2,"",ROUND(SUM(O9:V9)/$X$6,0)) -> 56 | Y9: 89 | Z9: =IFERROR(IF(OR(X9="",Y9=""),"",ROUND(((W9*$W$8)+(X9*$X$8)+(Y9*$Y$8))/$Y$6,0)),"") -> 73 | AA9: =MAX(G9:N9) -> 90 | AB9: =MIN(G9:N9) -> 66 | AC9: =MATCH(AA9,G9:N9,0) -> 1 | AD9: =MATCH(AB9,G9:N9,0) -> 2 | AE9: =IFERROR("Menunjukkan penguasaan"& " dalam "&(VLOOKUP(AC9,$G$67:$I$74,3)),"") -> Menunjukkan penguasaan dalam Tujuan 1 | AF9: =IFERROR("Perlu bantuan dalam "&(VLOOKUP(AD9,$G$67:$I$74,3)),"") -> Perlu bantuan dalam Tujuan 2
B10: =IF(E10="","",B9+1) -> 2 | C10: =IF(Data!F6="","",Data!F6) -> 2100 | D10: =IF(Data!G6="","",Data!G6) -> 0108954708 | E10: =IF(Data!H6="","",Data!H6) -> AKBAR FIRLY MAULANA | F10: =IF(Data!I6="","",Data!I6) -> L | G10: 60 | H10: 80 | I10: 73 | J10: 74 | K10: 75 | L10: 76 | O10: 80 | P10: 81 | Q10: 82 | W10: =IF(COUNT(G10:N10)<2,"",ROUND(SUM(G10:N10)/$W$6,0)) -> 73 | X10: =IF(COUNT(O10:V10)<2,"",ROUND(SUM(O10:V10)/$X$6,0)) -> 81 | Y10: 90 | Z10: =IFERROR(IF(OR(X10="",Y10=""),"",ROUND(((W10*$W$8)+(X10*$X$8)+(Y10*$Y$8))/$Y$6,0)),"") -> 81 | AA10: =MAX(G10:N10) -> 80 | AB10: =MIN(G10:N10) -> 60 | AC10: =MATCH(AA10,G10:N10,0) -> 2 | AD10: =MATCH(AB10,G10:N10,0) -> 1 | AE10: =IFERROR("Menunjukkan penguasaan"& " dalam "&(VLOOKUP(AC10,$G$67:$I$74,3)),"") -> Menunjukkan penguasaan dalam Tujuan 2 | AF10: =IFERROR("Perlu bantuan dalam "&(VLOOKUP(AD10,$G$67:$I$74,3)),"") -> Perlu bantuan dalam Tujuan 1
B11: =IF(E11="","",B10+1) -> 3 | C11: =IF(Data!F7="","",Data!F7) -> 2085 | D11: =IF(Data!G7="","",Data!G7) -> 0093911821 | E11: =IF(Data!H7="","",Data!H7) -> ALVINO EWALDO | F11: =IF(Data!I7="","",Data!I7) -> L | G11: 60 | H11: 80 | I11: 73 | J11: 74 | K11: 75 | L11: 76 | O11: 80 | P11: 81 | Q11: 82 | W11: =IF(COUNT(G11:N11)<2,"",ROUND(SUM(G11:N11)/$W$6,0)) -> 73 | X11: =IF(COUNT(O11:V11)<2,"",ROUND(SUM(O11:V11)/$X$6,0)) -> 81 | Y11: 91 | Z11: =IFERROR(IF(OR(X11="",Y11=""),"",ROUND(((W11*$W$8)+(X11*$X$8)+(Y11*$Y$8))/$Y$6,0)),"") -> 82 | AA11: =MAX(G11:N11) -> 80 | AB11: =MIN(G11:N11) -> 60 | AC11: =MATCH(AA11,G11:N11,0) -> 2 | AD11: =MATCH(AB11,G11:N11,0) -> 1 | AE11: =IFERROR("Menunjukkan penguasaan"& " dalam "&(VLOOKUP(AC11,$G$67:$I$74,3)),"") -> Menunjukkan penguasaan dalam Tujuan 2 | AF11: =IFERROR("Perlu bantuan dalam "&(VLOOKUP(AD11,$G$67:$I$74,3)),"") -> Perlu bantuan dalam Tujuan 1
B12: =IF(E12="","",B11+1) -> 4 | C12: =IF(Data!F8="","",Data!F8) -> 2075 | D12: =IF(Data!G8="","",Data!G8) -> 0098772064 | E12: =IF(Data!H8="","",Data!H8) -> AURA SUCI RAMADHANI | F12: =IF(Data!I8="","",Data!I8) -> P | G12: 60 | H12: 80 | I12: 73 | J12: 74 | K12: 75 | L12: 76 | O12: 80 | P12: 81 | Q12: 82 | W12: =IF(COUNT(G12:N12)<2,"",ROUND(SUM(G12:N12)/$W$6,0)) -> 73 | X12: =IF(COUNT(O12:V12)<2,"",ROUND(SUM(O12:V12)/$X$6,0)) -> 81 | Y12: 92 | Z12: =IFERROR(IF(OR(X12="",Y12=""),"",ROUND(((W12*$W$8)+(X12*$X$8)+(Y12*$Y$8))/$Y$6,0)),"") -> 82 | AA12: =MAX(G12:N12) -> 80 | AB12: =MIN(G12:N12) -> 60 | AC12: =MATCH(AA12,G12:N12,0) -> 2 | AD12: =MATCH(AB12,G12:N12,0) -> 1 | AE12: =IFERROR("Menunjukkan penguasaan"& " dalam "&(VLOOKUP(AC12,$G$67:$I$74,3)),"") -> Menunjukkan penguasaan dalam Tujuan 2 | AF12: =IFERROR("Perlu bantuan dalam "&(VLOOKUP(AD12,$G$67:$I$74,3)),"") -> Perlu bantuan dalam Tujuan 1
B13: =IF(E13="","",B12+1) -> 5 | C13: =IF(Data!F9="","",Data!F9) -> 2086 | D13: =IF(Data!G9="","",Data!G9) -> 0103867888 | E13: =IF(Data!H9="","",Data!H9) -> AYU SAFNA | F13: =IF(Data!I9="","",Data!I9) -> P | G13: 60 | H13: 80 | I13: 73 | J13: 74 | K13: 75 | L13: 76 | O13: 80 | P13: 81 | Q13: 82 | W13: =IF(COUNT(G13:N13)<2,"",ROUND(SUM(G13:N13)/$W$6,0)) -> 73 | X13: =IF(COUNT(O13:V13)<2,"",ROUND(SUM(O13:V13)/$X$6,0)) -> 81 | Y13: 93 | Z13: =IFERROR(IF(OR(X13="",Y13=""),"",ROUND(((W13*$W$8)+(X13*$X$8)+(Y13*$Y$8))/$Y$6,0)),"") -> 82 | AA13: =MAX(G13:N13) -> 80 | AB13: =MIN(G13:N13) -> 60 | AC13: =MATCH(AA13,G13:N13,0) -> 2 | AD13: =MATCH(AB13,G13:N13,0) -> 1 | AE13: =IFERROR("Menunjukkan penguasaan"& " dalam "&(VLOOKUP(AC13,$G$67:$I$74,3)),"") -> Menunjukkan penguasaan dalam Tujuan 2 | AF13: =IFERROR("Perlu bantuan dalam "&(VLOOKUP(AD13,$G$67:$I$74,3)),"") -> Perlu bantuan dalam Tujuan 1
B14: =IF(E14="","",B13+1) -> 6 | C14: =IF(Data!F10="","",Data!F10) -> 2089 | D14: =IF(Data!G10="","",Data!G10) -> 3098656100 | E14: =IF(Data!H10="","",Data!H10) -> DEWI AYU NURHALIZA | F14: =IF(Data!I10="","",Data!I10) -> P | G14: 60 | H14: 80 | I14: 73 | J14: 74 | K14: 75 | L14: 76 | O14: 80 | P14: 81 | Q14: 82 | W14: =IF(COUNT(G14:N14)<2,"",ROUND(SUM(G14:N14)/$W$6,0)) -> 73 | X14: =IF(COUNT(O14:V14)<2,"",ROUND(SUM(O14:V14)/$X$6,0)) -> 81 | Y14: 94 | Z14: =IFERROR(IF(OR(X14="",Y14=""),"",ROUND(((W14*$W$8)+(X14*$X$8)+(Y14*$Y$8))/$Y$6,0)),"") -> 83 | AA14: =MAX(G14:N14) -> 80 | AB14: =MIN(G14:N14) -> 60 | AC14: =MATCH(AA14,G14:N14,0) -> 2 | AD14: =MATCH(AB14,G14:N14,0) -> 1 | AE14: =IFERROR("Menunjukkan penguasaan"& " dalam "&(VLOOKUP(AC14,$G$67:$I$74,3)),"") -> Menunjukkan penguasaan dalam Tujuan 2 | AF14: =IFERROR("Perlu bantuan dalam "&(VLOOKUP(AD14,$G$67:$I$74,3)),"") -> Perlu bantuan dalam Tujuan 1
B15: =IF(E15="","",B14+1) -> 7 | C15: =IF(Data!F11="","",Data!F11) -> 2115 | D15: =IF(Data!G11="","",Data!G11) -> 0105966564 | E15: =IF(Data!H11="","",Data!H11) -> FADLY ARYA PUTRA | F15: =IF(Data!I11="","",Data!I11) -> L | G15: 60 | H15: 80 | I15: 73 | J15: 74 | K15: 75 | L15: 76 | O15: 80 | P15: 81 | Q15: 82 | W15: =IF(COUNT(G15:N15)<2,"",ROUND(SUM(G15:N15)/$W$6,0)) -> 73 | X15: =IF(COUNT(O15:V15)<2,"",ROUND(SUM(O15:V15)/$X$6,0)) -> 81 | Y15: 95 | Z15: =IFERROR(IF(OR(X15="",Y15=""),"",ROUND(((W15*$W$8)+(X15*$X$8)+(Y15*$Y$8))/$Y$6,0)),"") -> 83 | AA15: =MAX(G15:N15) -> 80 | AB15: =MIN(G15:N15) -> 60 | AC15: =MATCH(AA15,G15:N15,0) -> 2 | AD15: =MATCH(AB15,G15:N15,0) -> 1 | AE15: =IFERROR("Menunjukkan penguasaan"& " dalam "&(VLOOKUP(AC15,$G$67:$I$74,3)),"") -> Menunjukkan penguasaan dalam Tujuan 2 | AF15: =IFERROR("Perlu bantuan dalam "&(VLOOKUP(AD15,$G$67:$I$74,3)),"") -> Perlu bantuan dalam Tujuan 1
B16: =IF(E16="","",B15+1) -> 8 | C16: =IF(Data!F12="","",Data!F12) -> 2082 | D16: =IF(Data!G12="","",Data!G12) -> 3092203012 | E16: =IF(Data!H12="","",Data!H12) -> ILHAM MAULANA | F16: =IF(Data!I12="","",Data!I12) -> L | G16: 60 | H16: 80 | I16: 73 | J16: 74 | K16: 75 | L16: 76 | O16: 80 | P16: 81 | Q16: 82 | W16: =IF(COUNT(G16:N16)<2,"",ROUND(SUM(G16:N16)/$W$6,0)) -> 73 | X16: =IF(COUNT(O16:V16)<2,"",ROUND(SUM(O16:V16)/$X$6,0)) -> 81 | Y16: 96 | Z16: =IFERROR(IF(OR(X16="",Y16=""),"",ROUND(((W16*$W$8)+(X16*$X$8)+(Y16*$Y$8))/$Y$6,0)),"") -> 83 | AA16: =MAX(G16:N16) -> 80 | AB16: =MIN(G16:N16) -> 60 | AC16: =MATCH(AA16,G16:N16,0) -> 2 | AD16: =MATCH(AB16,G16:N16,0) -> 1 | AE16: =IFERROR("Menunjukkan penguasaan"& " dalam "&(VLOOKUP(AC16,$G$67:$I$74,3)),"") -> Menunjukkan penguasaan dalam Tujuan 2 | AF16: =IFERROR("Perlu bantuan dalam "&(VLOOKUP(AD16,$G$67:$I$74,3)),"") -> Perlu bantuan dalam Tujuan 1
B17: =IF(E17="","",B16+1) -> 9 | C17: =IF(Data!F13="","",Data!F13) -> 2088 | D17: =IF(Data!G13="","",Data!G13) -> 3106632526 | E17: =IF(Data!H13="","",Data!H13) -> INDAH VIOLAFITRA | F17: =IF(Data!I13="","",Data!I13) -> P | G17: 60 | H17: 80 | I17: 73 | J17: 74 | K17: 75 | L17: 76 | O17: 80 | P17: 81 | Q17: 82 | W17: =IF(COUNT(G17:N17)<2,"",ROUND(SUM(G17:N17)/$W$6,0)) -> 73 | X17: =IF(COUNT(O17:V17)<2,"",ROUND(SUM(O17:V17)/$X$6,0)) -> 81 | Y17: 97 | Z17: =IFERROR(IF(OR(X17="",Y17=""),"",ROUND(((W17*$W$8)+(X17*$X$8)+(Y17*$Y$8))/$Y$6,0)),"") -> 84 | AA17: =MAX(G17:N17) -> 80 | AB17: =MIN(G17:N17) -> 60 | AC17: =MATCH(AA17,G17:N17,0) -> 2 | AD17: =MATCH(AB17,G17:N17,0) -> 1 | AE17: =IFERROR("Menunjukkan penguasaan"& " dalam "&(VLOOKUP(AC17,$G$67:$I$74,3)),"") -> Menunjukkan penguasaan dalam Tujuan 2 | AF17: =IFERROR("Perlu bantuan dalam "&(VLOOKUP(AD17,$G$67:$I$74,3)),"") -> Perlu bantuan dalam Tujuan 1
B18: =IF(E18="","",B17+1) -> 10 | C18: =IF(Data!F14="","",Data!F14) -> 2109 | D18: =IF(Data!G14="","",Data!G14) -> 3092608052 | E18: =IF(Data!H14="","",Data!H14) -> KEVIN FAHREZI | F18: =IF(Data!I14="","",Data!I14) -> L | G18: 60 | H18: 80 | I18: 73 | J18: 74 | K18: 75 | L18: 76 | O18: 80 | P18: 81 | Q18: 82 | W18: =IF(COUNT(G18:N18)<2,"",ROUND(SUM(G18:N18)/$W$6,0)) -> 73 | X18: =IF(COUNT(O18:V18)<2,"",ROUND(SUM(O18:V18)/$X$6,0)) -> 81 | Y18: 98 | Z18: =IFERROR(IF(OR(X18="",Y18=""),"",ROUND(((W18*$W$8)+(X18*$X$8)+(Y18*$Y$8))/$Y$6,0)),"") -> 84 | AA18: =MAX(G18:N18) -> 80 | AB18: =MIN(G18:N18) -> 60 | AC18: =MATCH(AA18,G18:N18,0) -> 2 | AD18: =MATCH(AB18,G18:N18,0) -> 1 | AE18: =IFERROR("Menunjukkan penguasaan"& " dalam "&(VLOOKUP(AC18,$G$67:$I$74,3)),"") -> Menunjukkan penguasaan dalam Tujuan 2 | AF18: =IFERROR("Perlu bantuan dalam "&(VLOOKUP(AD18,$G$67:$I$74,3)),"") -> Perlu bantuan dalam Tujuan 1
B19: =IF(E19="","",B18+1) -> 11 | C19: =IF(Data!F15="","",Data!F15) -> 2096 | D19: =IF(Data!G15="","",Data!G15) -> 0107523037 | E19: =IF(Data!H15="","",Data!H15) -> M. IZAM AZMI | F19: =IF(Data!I15="","",Data!I15) -> L | G19: 60 | H19: 80 | I19: 73 | J19: 74 | K19: 75 | L19: 76 | O19: 80 | P19: 81 | Q19: 82 | W19: =IF(COUNT(G19:N19)<2,"",ROUND(SUM(G19:N19)/$W$6,0)) -> 73 | X19: =IF(COUNT(O19:V19)<2,"",ROUND(SUM(O19:V19)/$X$6,0)) -> 81 | Y19: 99 | Z19: =IFERROR(IF(OR(X19="",Y19=""),"",ROUND(((W19*$W$8)+(X19*$X$8)+(Y19*$Y$8))/$Y$6,0)),"") -> 84 | AA19: =MAX(G19:N19) -> 80 | AB19: =MIN(G19:N19) -> 60 | AC19: =MATCH(AA19,G19:N19,0) -> 2 | AD19: =MATCH(AB19,G19:N19,0) -> 1 | AE19: =IFERROR("Menunjukkan penguasaan"& " dalam "&(VLOOKUP(AC19,$G$67:$I$74,3)),"") -> Menunjukkan penguasaan dalam Tujuan 2 | AF19: =IFERROR("Perlu bantuan dalam "&(VLOOKUP(AD19,$G$67:$I$74,3)),"") -> Perlu bantuan dalam Tujuan 1
B20: =IF(E20="","",B19+1) -> 12 | C20: =IF(Data!F16="","",Data!F16) -> 2102 | D20: =IF(Data!G16="","",Data!G16) -> 0104675982 | E20: =IF(Data!H16="","",Data!H16) -> M. RAFFY MAULA DANNY | F20: =IF(Data!I16="","",Data!I16) -> L | G20: 60 | H20: 80 | I20: 73 | J20: 74 | K20: 75 | L20: 76 | O20: 80 | P20: 81 | Q20: 82 | W20: =IF(COUNT(G20:N20)<2,"",ROUND(SUM(G20:N20)/$W$6,0)) -> 73 | X20: =IF(COUNT(O20:V20)<2,"",ROUND(SUM(O20:V20)/$X$6,0)) -> 81 | Y20: 100 | Z20: =IFERROR(IF(OR(X20="",Y20=""),"",ROUND(((W20*$W$8)+(X20*$X$8)+(Y20*$Y$8))/$Y$6,0)),"") -> 85 | AA20: =MAX(G20:N20) -> 80 | AB20: =MIN(G20:N20) -> 60 | AC20: =MATCH(AA20,G20:N20,0) -> 2 | AD20: =MATCH(AB20,G20:N20,0) -> 1 | AE20: =IFERROR("Menunjukkan penguasaan"& " dalam "&(VLOOKUP(AC20,$G$67:$I$74,3)),"") -> Menunjukkan penguasaan dalam Tujuan 2 | AF20: =IFERROR("Perlu bantuan dalam "&(VLOOKUP(AD20,$G$67:$I$74,3)),"") -> Perlu bantuan dalam Tujuan 1
B21: =IF(E21="","",B20+1) -> 13 | C21: =IF(Data!F17="","",Data!F17) -> 2090 | D21: =IF(Data!G17="","",Data!G17) -> 3090477421 | E21: =IF(Data!H17="","",Data!H17) -> MARWAH RIANA | F21: =IF(Data!I17="","",Data!I17) -> P | G21: 60 | H21: 80 | I21: 73 | J21: 74 | K21: 75 | L21: 76 | O21: 80 | P21: 81 | Q21: 82 | W21: =IF(COUNT(G21:N21)<2,"",ROUND(SUM(G21:N21)/$W$6,0)) -> 73 | X21: =IF(COUNT(O21:V21)<2,"",ROUND(SUM(O21:V21)/$X$6,0)) -> 81 | Y21: 101 | Z21: =IFERROR(IF(OR(X21="",Y21=""),"",ROUND(((W21*$W$8)+(X21*$X$8)+(Y21*$Y$8))/$Y$6,0)),"") -> 85 | AA21: =MAX(G21:N21) -> 80 | AB21: =MIN(G21:N21) -> 60 | AC21: =MATCH(AA21,G21:N21,0) -> 2 | AD21: =MATCH(AB21,G21:N21,0) -> 1 | AE21: =IFERROR("Menunjukkan penguasaan"& " dalam "&(VLOOKUP(AC21,$G$67:$I$74,3)),"") -> Menunjukkan penguasaan dalam Tujuan 2 | AF21: =IFERROR("Perlu bantuan dalam "&(VLOOKUP(AD21,$G$67:$I$74,3)),"") -> Perlu bantuan dalam Tujuan 1
... B56: =IF(E56="","",B55+1) | C56: =IF(Data!F52="","",Data!F52) | D56: =IF(Data!G52="","",Data!G52) | E56: =IF(Data!H52="","",Data!H52) | F56: =IF(Data!I52="","",Data!I52) | G56: 60 | H56: 80 | I56: 73 | J56: 74 | K56: 75 | L56: 76 | O56: 80 | P56: 81 | Q56: 82 | W56: =IF(COUNT(G56:N56)<2,"",ROUND(SUM(G56:N56)/$W$6,0)) -> 73 | X56: =IF(COUNT(O56:V56)<2,"",ROUND(SUM(O56:V56)/$X$6,0)) -> 81 | Y56: 136 | Z56: =IFERROR(IF(OR(X56="",Y56=""),"",ROUND(((W56*$W$8)+(X56*$X$8)+(Y56*$Y$8))/$Y$6,0)),"") -> 97 | AA56: =MAX(G56:N56) -> 80 | AB56: =MIN(G56:N56) -> 60 | AC56: =MATCH(AA56,G56:N56,0) -> 2 | AD56: =MATCH(AB56,G56:N56,0) -> 1 | AE56: =IFERROR("Menunjukkan penguasaan"& " dalam "&(VLOOKUP(AC56,$G$67:$I$74,3)),"") -> Menunjukkan penguasaan dalam Tujuan 2 | AF56: =IFERROR("Perlu bantuan dalam "&(VLOOKUP(AD56,$G$67:$I$74,3)),"") -> Perlu bantuan dalam Tujuan 1
U58: Pegandon,
U59: Guru Mata Pelajaran
U64: NIP.
G66: No | H66: Kode | I66: Ringkasan Capaian Pembelajaran yang di Nilai (Max 100 huruf kecil semua)
C67: Tulis Tujuan Pembelajaran DISINI >>> | F67: FORMATIF | G67: 1 | H67: TP-1 | I67: Tujuan 1
C68: Penulisan Tujuan Pembelajaran dimaksudkan | G68: 2 | H68: TP-2 | I68: Tujuan 2
C69: sebagai bahan dasar penulisan: | G69: 3 | H69: TP-3 | I69: Tujuan 3
C70: Capaian Kompetensi | G70: 4 | H70: TP-4 | I70: Tujuan 4
G71: 5 | H71: TP-5 | I71: Tujuan 5
G72: 6 | H72: TP-6 | I72: Tujuan 6
G73: 7 | H73: TP-7 | I73: Tujuan 7
G74: 8 | H74: TP-8 | I74: Tujuan 8
G78: PREDIKAT NILAI PENGETAHUAN
G79: Interval Nilai | J79: Predikat
G80: =I81+1 -> #REF! | H80: - | I80: 100 | J80: sangat baik
G81: =I82+1 -> #REF! | H81: - | I81: =ROUNDDOWN(G81+($I$80-G81)/2,0) -> #REF! | J81: baik
G82: =#REF! -> #REF! | H82: - | I82: =ROUNDDOWN(G82+($I$80-G82)/3,0) -> #REF! | J82: cukup
G83: 0 | H83: - | I83: =G82-1 -> #REF! | J83: perlu bantuan
G85: PREDIKAT NILAI PENGETAHUAN
G86: Interval Nilai | J86: Predikat
G87: =G80 -> #REF! | H87: - | I87: =I80 -> 100 | J87: sangat baik
G88: =G81 -> #REF! | H88: - | I88: =I81 -> #REF! | J88: baik
G89: =G82 -> #REF! | H89: - | I89: =I82 -> #REF! | J89: cukup
G90: =G83 -> 0 | H90: - | I90: =I83 -> #REF! | J90: perlu bantuan

Sheet PAIS
E2: JANGAN LAKUKAN CUT/MOVE/COPY-PASTE | G2: =Data!C4 -> SMP ISLAM PEGANDON
G3: ="TAHUN PELAJARAN "&Data!$C$20 -> TAHUN PELAJARAN 2024 / 2025
E4: Boleh dengan langkah: copy >> paste special values | G4: =Menu!B4 -> Pendidikan Agama dan Budi Pekerti
G5: ='AQIDAH - AKHLAK'!G5 -> Perolehan Hasil Assesmen Peserta Didik Kelas IX B Semester II ( Genap )
G6: =IF(COUNT(G9:G54)>0,1,"") -> 1 | H6: =IF(COUNT(H9:H54)>0,1,"") -> 1 | I6: =IF(COUNT(I9:I54)>0,1,"") -> 1 | J6: =IF(COUNT(J9:J54)>0,1,"") -> 1 | K6: =IF(COUNT(K9:K54)>0,1,"") -> 1 | L6: =IF(COUNT(L9:L54)>0,1,"") -> 1 | M6: =IF(COUNT(M9:M54)>0,1,"") -> 1 | N6: =IF(COUNT(N9:N54)>0,1,"") -> 1 | ... Y6: =IF(COUNT(Y9:Y54)>0,1,"") | Z6: =SUM(G6:L6) -> 6 | AA6: =SUM(M6:R6) -> 6 | AB6: =SUM(S6:X6) -> 6
B7: NO | C7: NIS | D7: NISN | E7: NAMA | F7: LP | G7: FORMATIF | M7: SUMATIF | S7: SUMATIF AKHIR | Z7: NA FORMATIF | AA7: NA SUMATIF | AB7: SUMATIF AKHIR SEM | AC7: NILAI AKHIR | AH7: CAPAIAN KOMPETENSI TERTINGGI (OTOMATIS) | AI7: CAPAIAN KOMPETENSI TERENDAH (OTOMATIS)
G8: AKA | H8: QH | I8: FQH | J8: SKI | K8: BA | L8: NU | M8: AKA | N8: QH | O8: FQH | P8: SKI | Q8: BA | R8: NU | S8: AKA | T8: QH | U8: FQH | V8: SKI | W8: BA | X8: NU | Z8: 1 | AA8: 1 | AB8: 1 | AC8: =SUM(Z8:AB8) -> 3 | AD8: MAX | AE8: MIN | AF8: Alamat | AL8: 1 | AM8: 2 | AN8: 3 | AO8: 4 | AP8: 5 | AQ8: 6 | AR8: 7 | AS8: 8 | AT8: 9 | AU8: 10 | AV8: 11 | AW8: 12
B9: 1 | C9: =IF(Data!F5="","",Data!F5) -> 2111 | D9: =IF(Data!G5="","",Data!G5) -> 3109336136 | E9: =IF(Data!H5="","",Data!H5) -> AGA ALBANI ZAMIR | F9: =IF(Data!I5="","",Data!I5) -> L | G9: =IF('AQIDAH - AKHLAK'!W9="","",'AQIDAH - AKHLAK'!W9) -> 83 | H9: =IF('QUR''AN HADITS'!W9="","",'QUR''AN HADITS'!W9) -> 78.604167 | I9: =IF(FIQIH!W9="","",FIQIH!W9) -> 82.5 | J9: =IF(SKI!W9="","",SKI!W9) -> 83.333333 | K9: =IF('BAHASA ARAB'!W9="","",'BAHASA ARAB'!W9) -> 75 | L9: =IF('KE NU AN'!W9="","",'KE NU AN'!W9) -> 81.666667 | M9: =IF('AQIDAH - AKHLAK'!X9="","",'AQIDAH - AKHLAK'!X9) -> 82.6 | N9: =IF('QUR''AN HADITS'!X9="","",'QUR''AN HADITS'!X9) -> 82.8125 | O9: =IF(FIQIH!X9="","",FIQIH!X9) -> 83.8 | P9: =IF(SKI!X9="","",SKI!X9) -> 87.25 | Q9: =IF('BAHASA ARAB'!X9="","",'BAHASA ARAB'!X9) -> 74.5 | R9: =IF('KE NU AN'!X9="","",'KE NU AN'!X9) -> 86.333333 | S9: =IF('AQIDAH - AKHLAK'!Y9="","",'AQIDAH - AKHLAK'!Y9) -> 77 | T9: =IF('QUR''AN HADITS'!Y9="","",'QUR''AN HADITS'!Y9) -> 71 | U9: =IF(FIQIH!Y9="","",FIQIH!Y9) -> 76 | V9: =IF(SKI!Y9="","",SKI!Y9) -> 78 | W9: =IF('BAHASA ARAB'!Y9="","",'BAHASA ARAB'!Y9) -> 75 | X9: =IF('KE NU AN'!Y9="","",'KE NU AN'!Y9) -> 84 | Z9: =IF(COUNT(G9:L9)<2,"",ROUND(SUM(G9:L9)/$Z$6,0)) -> 81 | AA9: =IF(COUNT(M9:R9)<2,"",ROUND(SUM(M9:R9)/$AA$6,0)) -> 83 | AB9: =IF(COUNT(S9:X9)<2,"",ROUND(SUM(S9:X9)/$AB$6,0)) -> 77 | AC9: =IF(AB9="","",ROUND(((Z9*$Z$8)+(AA9*$AA$8)+(AB9*$AB$8))/$AC$8,0)) -> 80 | AD9: =IF(AC9="","",MAX(G9:L9)) -> 83.333333 | AE9: =IF(AC9="","",MIN(G9:L9)) -> 75 | AF9: =IF(AC9="","",MATCH(AD9,G9:L9,0)) -> 4 | AG9: =IF(AC9="","",MATCH(AE9,G9:L9,0)) -> 5 | AH9: =IFERROR("Menunjukkan penguasaan"& " dalam "&(VLOOKUP(AF9,$G$67:$I$74,3)&" terutama dalam materi "&AJ9),"") -> Menunjukkan penguasaan dalam Mata Pelajaran SKI terutama dalam materi Menganalisis strategi dakwah nabi Muhammad saw di mekah | AI9: =IFERROR("Perlu bantuan dalam "&(VLOOKUP(AG9,$G$67:$I$74,3)&" terutama dalam materi "&AK9),"") -> Perlu bantuan dalam Mata Pelajaran Bahasa Arab terutama dalam materi Materi angka dalam bahasa Arab dari 1 - 100 dan kalimat struktur khobar muqaddam mubtada' muakkhar | AJ9: =IF(AF9="","",IF(AF9=1,AL9,IF(AF9=2,AN9,IF(AF9=3,AP9,IF(AF9=4,AR9,IF(AF9=5,AT9,IF(AF9=6,AV9,""))))))) -> Menganalisis strategi dakwah nabi Muhammad saw di mekah | AK9: =IF(AG9="","",IF(AG9=1,AM9,IF(AG9=2,AO9,IF(AG9=3,AQ9,IF(AG9=4,AS9,IF(AG9=5,AU9,IF(AG9=6,AW9,""))))))) -> Materi angka dalam bahasa Arab dari 1 - 100 dan kalimat struktur khobar muqaddam mubtada' muakkhar | AL9: =VLOOKUP('AQIDAH - AKHLAK'!AC9,'AQIDAH - AKHLAK'!$G$69:$I$76,3) -> Memahami pengertian , dalial, ciri-ciri dan dampak negatif sifat riya' dan nifaq serta Menyajikan contoh cara menghindari perilaku riya dan nifaq. | AM9: =VLOOKUP('AQIDAH - AKHLAK'!AD9,'AQIDAH - AKHLAK'!$G$69:$I$76,3) -> Menerapkan adab membaca Al- Qur'an dan adab berdo'a serta mempraktekannya. | AN9: =VLOOKUP('QUR''AN HADITS'!AC9,'QUR''AN HADITS'!$G$67:$I$74,3) -> memahai isi kandungan Hadis riwayat Muslim dari abu Yahya, Hadis riwayat Tirmidzi dari Abdullah Bin Abbas, Hadis riwayat Muslim dari Abu Hurairah serta mampu mengamalkan nilai positif dan menghindari nili-nilai negatif sebagaimana keterangan dalamhadis tersebut. | AO9: =VLOOKUP('QUR''AN HADITS'!AD9,'QUR''AN HADITS'!$G$67:$I$74,3) -> 0 | AP9: =VLOOKUP(FIQIH!AC9,FIQIH!$G$67:$I$74,3) -> Menjelaskan pengertian, syarat, rukun, dan ketentuan-ketentuan ;lain dalam pelaksanaan shalat jamak dan Qasar dan ketentuan -ketentuan syariat dalam tata cara pelaksanaan shalat fardlu dalam kondisi tertentu seperti sakitdan dalam perjalanan | AQ9: =VLOOKUP(FIQIH!AD9,FIQIH!$G$67:$I$74,3) -> mengidentifikasi ketentuan-ketentuan shalat sunnah Mu'aqad dan ghairu mu'akad dan hikmah dari shalat sunnah mu'aqad dan shalat sunnah ghairu mu'aqad | AR9: =VLOOKUP(SKI!AC9,SKI!$G$67:$I$74,3) -> Menganalisis strategi dakwah nabi Muhammad saw di mekah | AS9: =VLOOKUP(SKI!AD9,SKI!$G$67:$I$74,3) -> Menganalisis perjuangan nabi Muhammad saw. melakukan perubahan | AT9: =VLOOKUP('BAHASA ARAB'!AC9,'BAHASA ARAB'!$G$67:$I$74,3) -> Materi kalimat istifham | AU9: =VLOOKUP('BAHASA ARAB'!AD9,'BAHASA ARAB'!$G$67:$I$74,3) -> Materi angka dalam bahasa Arab dari 1 - 100 dan kalimat struktur khobar muqaddam mubtada' muakkhar | AV9: =VLOOKUP('KE NU AN'!AC9,'KE NU AN'!$G$67:$I$74,3) -> menjelaskan memahami tentang struktur organisai NU, kepengurusan NU dan tugasnya, lembaga dan badan otonom NU dan perangkat organisasi Nu | AW9: =VLOOKUP('KE NU AN'!AD9,'KE NU AN'!$G$67:$I$74,3) -> 0
